BEGIN:VCALENDAR
VERSION:2.0
PRODID:-//Heritage Hills Society - ECPv6.15.20//NONSGML v1.0//EN
CALSCALE:GREGORIAN
METHOD:PUBLISH
X-ORIGINAL-URL:https://hhsociety.org
X-WR-CALDESC:Events for Heritage Hills Society
REFRESH-INTERVAL;VALUE=DURATION:PT1H
X-Robots-Tag:noindex
X-PUBLISHED-TTL:PT1H
BEGIN:VTIMEZONE
TZID:America/New_York
BEGIN:DAYLIGHT
TZOFFSETFROM:-0500
TZOFFSETTO:-0400
TZNAME:EDT
DTSTART:20250309T070000
END:DAYLIGHT
BEGIN:STANDARD
TZOFFSETFROM:-0400
TZOFFSETTO:-0500
TZNAME:EST
DTSTART:20251102T060000
END:STANDARD
BEGIN:DAYLIGHT
TZOFFSETFROM:-0500
TZOFFSETTO:-0400
TZNAME:EDT
DTSTART:20260308T070000
END:DAYLIGHT
BEGIN:STANDARD
TZOFFSETFROM:-0400
TZOFFSETTO:-0500
TZNAME:EST
DTSTART:20261101T060000
END:STANDARD
BEGIN:DAYLIGHT
TZOFFSETFROM:-0500
TZOFFSETTO:-0400
TZNAME:EDT
DTSTART:20270314T070000
END:DAYLIGHT
BEGIN:STANDARD
TZOFFSETFROM:-0400
TZOFFSETTO:-0500
TZNAME:EST
DTSTART:20271107T060000
END:STANDARD
END:VTIMEZONE
BEGIN:VEVENT
DTSTART;TZID=America/New_York:20260501T150000
DTEND;TZID=America/New_York:20260501T150000
DTSTAMP:20260423T150226
CREATED:20250514T160458Z
LAST-MODIFIED:20250514T160458Z
UID:10012743-1777647600-1777647600@hhsociety.org
SUMMARY:Yacht Club ("HHYC")
DESCRIPTION:The HHYC is a fee-free social club of past and present water fans (swimmers\, boaters\, fishers\, cruisers\, surfers\, whatever). At our monthly pot luck “dock parties” on the first Friday of the month in the Lobby at Lake Lodge\, we share our experiences and plan future ones (theme parties\, day trips/activities\, or even cruises). For more information contact Susan at ciwhitestar@comcast.net or (914) 617-9228
URL:https://hhsociety.org/event/yacht-club-hhyc/2026-05-01/
LOCATION:Lake Lodge Lobby
END:VEVENT
BEGIN:VEVENT
DTSTART;TZID=America/New_York:20260501T190000
DTEND;TZID=America/New_York:20260501T190000
DTSTAMP:20260423T150226
CREATED:20241023T153853Z
LAST-MODIFIED:20241023T153853Z
UID:10000982-1777662000-1777662000@hhsociety.org
SUMMARY:Friday Night Social Dance
DESCRIPTION:The first Friday of every month from 7-10pm in the Activities Center’s Heritage Room.  $10 per person includes coffee and cake.  BYOB.  For more information\, call Angela Viscogliosi at (914) 393-8736
URL:https://hhsociety.org/event/friday-night-social-dance-2/2026-05-01/
LOCATION:Heritage Room
END:VEVENT
END:VCALENDAR