BEGIN:VCALENDAR
VERSION:2.0
PRODID:-//Heritage Hills Society - ECPv6.15.20//NONSGML v1.0//EN
CALSCALE:GREGORIAN
METHOD:PUBLISH
X-WR-CALNAME:Heritage Hills Society
X-ORIGINAL-URL:https://hhsociety.org
X-WR-CALDESC:Events for Heritage Hills Society
REFRESH-INTERVAL;VALUE=DURATION:PT1H
X-Robots-Tag:noindex
X-PUBLISHED-TTL:PT1H
BEGIN:VTIMEZONE
TZID:America/New_York
BEGIN:DAYLIGHT
TZOFFSETFROM:-0500
TZOFFSETTO:-0400
TZNAME:EDT
DTSTART:20230312T070000
END:DAYLIGHT
BEGIN:STANDARD
TZOFFSETFROM:-0400
TZOFFSETTO:-0500
TZNAME:EST
DTSTART:20231105T060000
END:STANDARD
BEGIN:DAYLIGHT
TZOFFSETFROM:-0500
TZOFFSETTO:-0400
TZNAME:EDT
DTSTART:20240310T070000
END:DAYLIGHT
BEGIN:STANDARD
TZOFFSETFROM:-0400
TZOFFSETTO:-0500
TZNAME:EST
DTSTART:20241103T060000
END:STANDARD
BEGIN:DAYLIGHT
TZOFFSETFROM:-0500
TZOFFSETTO:-0400
TZNAME:EDT
DTSTART:20250309T070000
END:DAYLIGHT
BEGIN:STANDARD
TZOFFSETFROM:-0400
TZOFFSETTO:-0500
TZNAME:EST
DTSTART:20251102T060000
END:STANDARD
END:VTIMEZONE
BEGIN:VEVENT
DTSTART;TZID=America/New_York:20241210T083000
DTEND;TZID=America/New_York:20241210T083000
DTSTAMP:20260425T085050
CREATED:20241023T161410Z
LAST-MODIFIED:20241023T174857Z
UID:10002597-1733819400-1733819400@hhsociety.org
SUMMARY:Linda's Lake Lodge Classes - Body Conditioning
DESCRIPTION:8:30am Tuesdays and Thursdays \nAll Classes are $10 per class.  Register at the start of the month. Contact Linda Zeiss Instructor at labzeiss@gmail.com or (718) 541-0861
URL:https://hhsociety.org/event/lindas-lake-lodge-classes-body-conditioning/2024-12-10/
LOCATION:Lake Lodge Upper Level
END:VEVENT
BEGIN:VEVENT
DTSTART;TZID=America/New_York:20241210T093000
DTEND;TZID=America/New_York:20241210T093000
DTSTAMP:20260425T085050
CREATED:20241023T160743Z
LAST-MODIFIED:20241023T160743Z
UID:10002075-1733823000-1733823000@hhsociety.org
SUMMARY:Cardio / Strength / Stretch Class with Lori
DESCRIPTION:Tuesdays and Thursdays from 9:30-10:30am in the Gym. Join Lori for a fun\, safe\, effective workout.  Low impact cardio\, resistance training\, balance\, strength and breath work – all set to great music!  Appropriate for all levels.  Resistance bands and weights available.  No mats needed.  Fee $10 per class.  Try the first class for free!  Class is also available on ZOOM. Email Lori for more information or to register at eefyjiig@gmail.com
URL:https://hhsociety.org/event/cardio-strength-stretch-class-with-lori-2/2024-12-10/
LOCATION:Gym\, Fitness Center
END:VEVENT
BEGIN:VEVENT
DTSTART;TZID=America/New_York:20241210T093000
DTEND;TZID=America/New_York:20241210T093000
DTSTAMP:20260425T085050
CREATED:20241023T162528Z
LAST-MODIFIED:20241023T175103Z
UID:10003119-1733823000-1733823000@hhsociety.org
SUMMARY:Linda's Lake Lodge Classes - Rock & Roll Workout
DESCRIPTION:9:30am Tuesdays \nAll Classes are $10 per class.  Register at the start of the month. Contact Linda Zeiss Instructor at labzeiss@gmail.com or (718) 541-0861 \n  \n  \n  \n 
URL:https://hhsociety.org/event/lindas-lake-lodge-classes-rock-roll-workout/2024-12-10/
LOCATION:Lake Lodge Upper Level
END:VEVENT
BEGIN:VEVENT
DTSTART;TZID=America/New_York:20241210T100000
DTEND;TZID=America/New_York:20241210T100000
DTSTAMP:20260425T085050
CREATED:20241023T155520Z
LAST-MODIFIED:20241023T155520Z
UID:10001814-1733824800-1733824800@hhsociety.org
SUMMARY:Chair Yoga with Satish
DESCRIPTION:Practice Tuesdays from 10-11:15am in Lake Lodge Room 3 with Satish Gambhir\, Registered Yoga (500-RYT) and acupressure teacher with over 20 years of experience.  Chair Yoga aimed at toning the entire body and increasing flexibility.  Breathing and meditation for relaxation and mind-body connection.  Live music.  $10 per class.  Call or email to register at (914) 646-0887 or satishgambhir@gmail.com
URL:https://hhsociety.org/event/chair-yoga-with-satish-2/2024-12-10/
LOCATION:Lake Lodge Room 3
END:VEVENT
BEGIN:VEVENT
DTSTART;TZID=America/New_York:20241210T100000
DTEND;TZID=America/New_York:20241210T100000
DTSTAMP:20260425T085050
CREATED:20241029T182020Z
LAST-MODIFIED:20241029T182020Z
UID:10008756-1733824800-1733824800@hhsociety.org
SUMMARY:Shakespeare Group
DESCRIPTION:Tuesdays from 10 to 11:30 am in the Activities Center’s Game Room\,\nand on Zoom. See a film of a classic Shakespeare play\, then read it and join in lively discussions. All are\nwelcome! For more information\, call Susan Ray at 914-391-6686 or Margaret Howlett at 973-746-7816.
URL:https://hhsociety.org/event/shakespeare-group-2/2024-12-10/
LOCATION:Game Room
END:VEVENT
BEGIN:VEVENT
DTSTART;TZID=America/New_York:20241210T110000
DTEND;TZID=America/New_York:20241210T110000
DTSTAMP:20260425T085050
CREATED:20241029T174628Z
LAST-MODIFIED:20241029T174628Z
UID:10007532-1733828400-1733828400@hhsociety.org
SUMMARY:Mah Jongg Tuesdays
DESCRIPTION:Tuesdays from 11 am to 1 pm Call Cheryl Milde at 914-342-3068.
URL:https://hhsociety.org/event/mah-jongg-tuesdays/2024-12-10/
LOCATION:Lake Lodge Room 2
END:VEVENT
BEGIN:VEVENT
DTSTART;TZID=America/New_York:20241211T090000
DTEND;TZID=America/New_York:20241211T090000
DTSTAMP:20260425T085050
CREATED:20241029T184500Z
LAST-MODIFIED:20241029T184500Z
UID:10009382-1733907600-1733907600@hhsociety.org
SUMMARY:10-A-Men Club
DESCRIPTION:Come to the Activities Center’s Heritage Room on Wednesdays at 9 am and have\ncontinental breakfast for $2. The meeting starts at 10 am.
URL:https://hhsociety.org/event/10-a-men-club/2024-12-11/
LOCATION:Heritage Room
END:VEVENT
BEGIN:VEVENT
DTSTART;TZID=America/New_York:20241211T093000
DTEND;TZID=America/New_York:20241211T093000
DTSTAMP:20260425T085050
CREATED:20241023T153549Z
LAST-MODIFIED:20241023T153549Z
UID:10000710-1733909400-1733909400@hhsociety.org
SUMMARY:Sketch Workshop
DESCRIPTION:Wednesdays from 9:30-11:30am in the Activities Center’s Studio A.  Portraits\, figures\, still lifes.  Bring your choice of paper\, pen\, pencil\, watercolor\, pastel\, etc.  Models are welcome to pose for 20 minutes (clothed!).  No fee\, no teacher\, but guidance available.
URL:https://hhsociety.org/event/sketch-workshop-3/2024-12-11/
LOCATION:Art Room B
END:VEVENT
BEGIN:VEVENT
DTSTART;TZID=America/New_York:20241211T100000
DTEND;TZID=America/New_York:20241211T100000
DTSTAMP:20260425T085050
CREATED:20241023T182940Z
LAST-MODIFIED:20241023T183355Z
UID:10005968-1733911200-1733911200@hhsociety.org
SUMMARY:Social Bridge
DESCRIPTION:Wednesdays at 10am at Lake Lodge
URL:https://hhsociety.org/event/social-bridge-2/2024-12-11/
LOCATION:Lake Lodge Room 2
END:VEVENT
BEGIN:VEVENT
DTSTART;TZID=America/New_York:20241211T120000
DTEND;TZID=America/New_York:20241211T120000
DTSTAMP:20260425T085050
CREATED:20241029T174331Z
LAST-MODIFIED:20241029T174331Z
UID:10007011-1733918400-1733918400@hhsociety.org
SUMMARY:Mah Jongg Wednesdays
DESCRIPTION:Wednesdays at\nnoon in the Activities Center (Contact Carol Tocci 914-471-5689)
URL:https://hhsociety.org/event/mah-jongg-wednesdays/2024-12-11/
LOCATION:Room 2/3
END:VEVENT
BEGIN:VEVENT
DTSTART;TZID=America/New_York:20241211T123000
DTEND;TZID=America/New_York:20241211T123000
DTSTAMP:20260425T085050
CREATED:20241023T152857Z
LAST-MODIFIED:20241023T152857Z
UID:10000390-1733920200-1733920200@hhsociety.org
SUMMARY:Needlecraft Goup
DESCRIPTION:Charitable needlecraft group meets Wednesdays at 12:30pm in the Game Room.  All skill levels are welcome.  $20 Annual dues. For questions\, or to register\, call Linda at (914) 277-2776 or Ginger at (914) 617-9058
URL:https://hhsociety.org/event/needlecraft-goup/2024-12-11/
LOCATION:Game Room
END:VEVENT
BEGIN:VEVENT
DTSTART;TZID=America/New_York:20241211T130000
DTEND;TZID=America/New_York:20241211T130000
DTSTAMP:20260425T085050
CREATED:20241029T173525Z
LAST-MODIFIED:20241029T173525Z
UID:10006489-1733922000-1733922000@hhsociety.org
SUMMARY:Chess Club
DESCRIPTION:Wednesdays from 1 to 3:30 pm in Lake Lodge’s Room 3. We are a group of chess\nenthusiasts who enjoy coming together to play some friendly games of chess! Beginners are welcome!\nBring your chess set if you have one. Some playing pairs may choose to use a chess clock; bring this\,\nalso\, if you have one. For more information\, contact Pat Posluszny at patpugs@comcast.net or 914-276-\n6550.
URL:https://hhsociety.org/event/chess-club-2/2024-12-11/
LOCATION:Lake Lodge Room 3
END:VEVENT
BEGIN:VEVENT
DTSTART;TZID=America/New_York:20241211T130000
DTEND;TZID=America/New_York:20241211T130000
DTSTAMP:20260425T085050
CREATED:20241029T182733Z
LAST-MODIFIED:20241029T182733Z
UID:10009278-1733922000-1733922000@hhsociety.org
SUMMARY:Shuffleboard Group
DESCRIPTION:October through March on Wednesdays from 1 to 3 pm\, and on Saturdays\nfrom 9:30 am to noon\, in the Gym.
URL:https://hhsociety.org/event/shuffleboard-group-2/2024-12-11/
LOCATION:Gym\, Fitness Center
END:VEVENT
BEGIN:VEVENT
DTSTART;TZID=America/New_York:20241212T083000
DTEND;TZID=America/New_York:20241212T083000
DTSTAMP:20260425T085050
CREATED:20241023T161616Z
LAST-MODIFIED:20241023T175018Z
UID:10002859-1733992200-1733992200@hhsociety.org
SUMMARY:Linda's Lake Lodge Classes - Body Conditioning
DESCRIPTION:8:30am Tuesdays and Thursdays \nAll Classes are $10 per class.  Register at the start of the month. Contact Linda Zeiss Instructor at labzeiss@gmail.com or (718) 541-0861
URL:https://hhsociety.org/event/lindas-lake-lodge-classes-body-conditioning-2-2/2024-12-12/
LOCATION:Lake Lodge Upper Level
END:VEVENT
BEGIN:VEVENT
DTSTART;TZID=America/New_York:20241212T093000
DTEND;TZID=America/New_York:20241212T093000
DTSTAMP:20260425T085050
CREATED:20241023T160957Z
LAST-MODIFIED:20241023T161031Z
UID:10002337-1733995800-1733995800@hhsociety.org
SUMMARY:Cardio / Strength / Stretch Class with Lori
DESCRIPTION:Tuesdays and Thursdays from 9:30-10:30am in the Gym. Join Lori for a fun\, safe\, effective workout.  Low impact cardio\, resistance training\, balance\, strength and breath work – all set to great music!  Appropriate for all levels.  Resistance bands and weights available.  No mats needed.  Fee $10 per class.  Try the first class for free!  Class is also available on ZOOM. Email Lori for more information or to register at eefyjiig@gmail.com
URL:https://hhsociety.org/event/cardio-strength-stretch-class-with-lori-4/2024-12-12/
LOCATION:Gym\, Fitness Center
END:VEVENT
BEGIN:VEVENT
DTSTART;TZID=America/New_York:20241212T093000
DTEND;TZID=America/New_York:20241212T093000
DTSTAMP:20260425T085050
CREATED:20241023T174709Z
LAST-MODIFIED:20241023T174814Z
UID:10003381-1733995800-1733995800@hhsociety.org
SUMMARY:Linda's Lake Lodge Classes - Yoga Pilates
DESCRIPTION:9:30am Thursdays \nAll Classes are $10 per class.  Register at the start of the month. Contact Linda Zeiss Instructor at labzeiss@gmail.com or (718) 541-0861
URL:https://hhsociety.org/event/lindas-lake-lodge-classes-yoga-pilates/2024-12-12/
LOCATION:Lake Lodge Upper Level
END:VEVENT
BEGIN:VEVENT
DTSTART;TZID=America/New_York:20241212T100000
DTEND;TZID=America/New_York:20241212T100000
DTSTAMP:20260425T085050
CREATED:20241029T182512Z
LAST-MODIFIED:20241029T182512Z
UID:10009017-1733997600-1733997600@hhsociety.org
SUMMARY:Ping Pong
DESCRIPTION:Thursdays at 10 am in the Activities Center’s Game Room. Open to all residents. Come\nhang out and play!
URL:https://hhsociety.org/event/ping-pong/2024-12-12/
LOCATION:Game Room
END:VEVENT
BEGIN:VEVENT
DTSTART;TZID=America/New_York:20241212T110000
DTEND;TZID=America/New_York:20241212T110000
DTSTAMP:20260425T085050
CREATED:20241029T174738Z
LAST-MODIFIED:20241029T174738Z
UID:10007793-1734001200-1734001200@hhsociety.org
SUMMARY:Mah Jongg Thursdays
DESCRIPTION:Thursdays from 11 am to 1 pm Call Cheryl Milde at 914-342-3068.
URL:https://hhsociety.org/event/mah-jongg-thursdays/2024-12-12/
LOCATION:Lake Lodge Room 2
END:VEVENT
BEGIN:VEVENT
DTSTART;TZID=America/New_York:20241212T123000
DTEND;TZID=America/New_York:20241212T123000
DTSTAMP:20260425T085050
CREATED:20241023T182703Z
LAST-MODIFIED:20241023T182703Z
UID:10005708-1734006600-1734006600@hhsociety.org
SUMMARY:Duplicate Bridge
DESCRIPTION:Mondays and Thursdays at 12:30pm in the Activities Center.  For information\, call Marie at (914) 277-4266
URL:https://hhsociety.org/event/duplicate-bridge-4/2024-12-12/
LOCATION:Heritage Room
END:VEVENT
BEGIN:VEVENT
DTSTART;TZID=America/New_York:20241212T123000
DTEND;TZID=America/New_York:20241212T123000
DTSTAMP:20260425T085050
CREATED:20241113T161414Z
LAST-MODIFIED:20241113T161414Z
UID:10009774-1734006600-1734006600@hhsociety.org
SUMMARY:Spousal Bereavement Group
DESCRIPTION:Led by Linda Ludwig\, PsD (NotPhD) on the second Thursday of the month at 12:30 pm in Lake Lodge Room 1.  The fee is $20 per session.  For more information\, call 914-617-9328.
URL:https://hhsociety.org/event/spousal-bereavement-group/2024-12-12/
LOCATION:Lake Lodge Room 1
END:VEVENT
BEGIN:VEVENT
DTSTART;TZID=America/New_York:20241212T130000
DTEND;TZID=America/New_York:20241212T130000
DTSTAMP:20260425T085050
CREATED:20241029T174856Z
LAST-MODIFIED:20241029T174856Z
UID:10008054-1734008400-1734008400@hhsociety.org
SUMMARY:Scrabble
DESCRIPTION:Thursdays starting promptly at 1 pm in Room 2 in the Activities Center. Casual\nScrabble game play. Play 1 or more games. All levels of play\, including newbies\, are welcome. For more\ninformation\, just walk in or contact Susan at 914-617-9228 or ciwhitestar@comcast.net.
URL:https://hhsociety.org/event/scrabble/2024-12-12/
LOCATION:Room 2/3
END:VEVENT
BEGIN:VEVENT
DTSTART;TZID=America/New_York:20241213T090000
DTEND;TZID=America/New_York:20241213T090000
DTSTAMP:20260425T085050
CREATED:20241029T175106Z
LAST-MODIFIED:20241029T175106Z
UID:10008310-1734080400-1734080400@hhsociety.org
SUMMARY:Blood Pressure Screening
DESCRIPTION:Nurse Ellie Eidam offers screenings on the second Friday of\nthe month from 9 to 11 am in the Activities Center’s Game Room. Your temperature may be taken. Do\nnot come if you have tested positive for Covid-19\, were recently exposed (within 14 days) to the virus or\ntraveled to areas that have experienced high levels of the virus. Contact Ellie at elliebob1@gmail.com or\n914-617-2109 for more information.
URL:https://hhsociety.org/event/blood-pressure-screening-2/2024-12-13/
LOCATION:Game Room
END:VEVENT
BEGIN:VEVENT
DTSTART;TZID=America/New_York:20241213T100000
DTEND;TZID=America/New_York:20241213T100000
DTSTAMP:20260425T085050
CREATED:20241023T154744Z
LAST-MODIFIED:20241023T181006Z
UID:10004946-1734084000-1734084000@hhsociety.org
SUMMARY:Gentle Yoga with Lisa
DESCRIPTION:Mondays at 11:30am and Fridays at 10am in the Lake Lodge’s Upper Level.  $12 for a 75-minute class.  Contact lisaathomas@optonline.net or 914-497-0243 with questions or to register.
URL:https://hhsociety.org/event/gentle-yoga-with-lisa-4/2024-12-13/
LOCATION:Lake Lodge Upper Level
END:VEVENT
BEGIN:VEVENT
DTSTART;TZID=America/New_York:20241213T110000
DTEND;TZID=America/New_York:20241213T110000
DTSTAMP:20260425T085050
CREATED:20241023T181940Z
LAST-MODIFIED:20241023T181940Z
UID:10005261-1734087600-1734087600@hhsociety.org
SUMMARY:French Conversation
DESCRIPTION:Meets the 2nd and 4th Friday of the month at Lake Lodge in Room 1\nfrom 11 am to noon. Members should have a basic knowledge of French conversation but need not be\nfluent. Refresh your French language skills and laugh and learn with us. If you have any questions\, call\nCarole Ellis 914-260-9182 or email her at carellis14@yahoo.com.
URL:https://hhsociety.org/event/french-conversation-2-2/2024-12-13/
LOCATION:Lake Lodge Room 1
END:VEVENT
BEGIN:VEVENT
DTSTART;TZID=America/New_York:20241213T130000
DTEND;TZID=America/New_York:20241213T130000
DTSTAMP:20260425T085050
CREATED:20241029T174509Z
LAST-MODIFIED:20241029T174509Z
UID:10007272-1734094800-1734094800@hhsociety.org
SUMMARY:Mah Jongg Fridays
DESCRIPTION:Fridays at 1 pm in Lake Lodge \nCall Cheryl Milde at 914-342-3068.
URL:https://hhsociety.org/event/mah-jongg-fridays/2024-12-13/
LOCATION:Lake Lodge Room 3
END:VEVENT
BEGIN:VEVENT
DTSTART;TZID=America/New_York:20241213T130000
DTEND;TZID=America/New_York:20241213T130000
DTSTAMP:20260425T085050
CREATED:20241114T183953Z
LAST-MODIFIED:20241114T183953Z
UID:10010877-1734094800-1734094800@hhsociety.org
SUMMARY:Let's Talk Senior Care
DESCRIPTION:Join us the second Friday of every month at 1pm.  Stephanie Roberti\, MHA\, will be introducing different senior care topics to help educate us on this important subject.  For more information contact Stephanie Roberti at (914) 357-3049 or by email at sroberti@newbeginningsforseniors.com
URL:https://hhsociety.org/event/lets-talk-senior-care/2024-12-13/
LOCATION:Heritage Room
END:VEVENT
BEGIN:VEVENT
DTSTART;TZID=America/New_York:20241214T090000
DTEND;TZID=America/New_York:20241214T090000
DTSTAMP:20260425T085050
CREATED:20241023T180749Z
LAST-MODIFIED:20241023T180749Z
UID:10004426-1734166800-1734166800@hhsociety.org
SUMMARY:Vinyasa Yoga with Joe
DESCRIPTION:Saturdays at 9 am in Lake Lodge’s Upper Level. $12 per class. To\nregister\, email Joe Ferrari at josephferrari@me.com.
URL:https://hhsociety.org/event/vinyasa-yoga-with-joe-2/2024-12-14/
LOCATION:Lake Lodge Upper Level
END:VEVENT
BEGIN:VEVENT
DTSTART;TZID=America/New_York:20241214T093000
DTEND;TZID=America/New_York:20241214T093000
DTSTAMP:20260425T085050
CREATED:20241029T182938Z
LAST-MODIFIED:20241029T182938Z
UID:10009300-1734168600-1734168600@hhsociety.org
SUMMARY:Shuffleboard Group
DESCRIPTION:October through March on Wednesdays from 1 to 3 pm\, and on Saturdays\nfrom 9:30 am to noon\, in the Gym.
URL:https://hhsociety.org/event/shuffleboard-group-4/2024-12-14/
LOCATION:Gym\, Fitness Center
END:VEVENT
BEGIN:VEVENT
DTSTART;TZID=America/New_York:20241214T123000
DTEND;TZID=America/New_York:20241214T123000
DTSTAMP:20260425T085050
CREATED:20241023T183621Z
LAST-MODIFIED:20241023T183729Z
UID:10006229-1734179400-1734179400@hhsociety.org
SUMMARY:Canasta Club
DESCRIPTION:Saturdays 12:30pm to 4pm. Contact Doris Simon 914-276-0111 or\nDoris1121@me.com or Nancy Heilman 914-224-7180 or Nancy.C.Heilman@gmail.com
URL:https://hhsociety.org/event/canasta-club-3/2024-12-14/
LOCATION:Room 2/3
END:VEVENT
BEGIN:VEVENT
DTSTART;TZID=America/New_York:20241215T090000
DTEND;TZID=America/New_York:20241215T090000
DTSTAMP:20260425T085050
CREATED:20241023T175213Z
LAST-MODIFIED:20241023T175213Z
UID:10003642-1734253200-1734253200@hhsociety.org
SUMMARY:Linda's Lake Lodge Workouts - Sports Conditioning
DESCRIPTION:9:00am Sundays \nAll Classes are $10 per class.  Register at the start of the month. Contact Linda Zeiss Instructor at labzeiss@gmail.com or (718) 541-0861
URL:https://hhsociety.org/event/lindas-lake-lodge-workouts-sports-conditioning/2024-12-15/
LOCATION:Lake Lodge Upper Level
END:VEVENT
END:VCALENDAR