BEGIN:VCALENDAR
VERSION:2.0
PRODID:-//Heritage Hills Society - ECPv6.15.20//NONSGML v1.0//EN
CALSCALE:GREGORIAN
METHOD:PUBLISH
X-WR-CALNAME:Heritage Hills Society
X-ORIGINAL-URL:https://hhsociety.org
X-WR-CALDESC:Events for Heritage Hills Society
REFRESH-INTERVAL;VALUE=DURATION:PT1H
X-Robots-Tag:noindex
X-PUBLISHED-TTL:PT1H
BEGIN:VTIMEZONE
TZID:America/New_York
BEGIN:DAYLIGHT
TZOFFSETFROM:-0500
TZOFFSETTO:-0400
TZNAME:EDT
DTSTART:20240310T070000
END:DAYLIGHT
BEGIN:STANDARD
TZOFFSETFROM:-0400
TZOFFSETTO:-0500
TZNAME:EST
DTSTART:20241103T060000
END:STANDARD
BEGIN:DAYLIGHT
TZOFFSETFROM:-0500
TZOFFSETTO:-0400
TZNAME:EDT
DTSTART:20250309T070000
END:DAYLIGHT
BEGIN:STANDARD
TZOFFSETFROM:-0400
TZOFFSETTO:-0500
TZNAME:EST
DTSTART:20251102T060000
END:STANDARD
BEGIN:DAYLIGHT
TZOFFSETFROM:-0500
TZOFFSETTO:-0400
TZNAME:EDT
DTSTART:20260308T070000
END:DAYLIGHT
BEGIN:STANDARD
TZOFFSETFROM:-0400
TZOFFSETTO:-0500
TZNAME:EST
DTSTART:20261101T060000
END:STANDARD
END:VTIMEZONE
BEGIN:VEVENT
DTSTART;TZID=America/New_York:20250515T083000
DTEND;TZID=America/New_York:20250515T083000
DTSTAMP:20260425T001459
CREATED:20241023T161616Z
LAST-MODIFIED:20241023T175018Z
UID:10002881-1747297800-1747297800@hhsociety.org
SUMMARY:Linda's Lake Lodge Classes - Body Conditioning
DESCRIPTION:8:30am Tuesdays and Thursdays \nAll Classes are $10 per class.  Register at the start of the month. Contact Linda Zeiss Instructor at labzeiss@gmail.com or (718) 541-0861
URL:https://hhsociety.org/event/lindas-lake-lodge-classes-body-conditioning-2-2/2025-05-15/
LOCATION:Lake Lodge Upper Level
END:VEVENT
BEGIN:VEVENT
DTSTART;TZID=America/New_York:20250515T093000
DTEND;TZID=America/New_York:20250515T093000
DTSTAMP:20260425T001459
CREATED:20241023T160957Z
LAST-MODIFIED:20241023T161031Z
UID:10002359-1747301400-1747301400@hhsociety.org
SUMMARY:Cardio / Strength / Stretch Class with Lori
DESCRIPTION:Tuesdays and Thursdays from 9:30-10:30am in the Gym. Join Lori for a fun\, safe\, effective workout.  Low impact cardio\, resistance training\, balance\, strength and breath work – all set to great music!  Appropriate for all levels.  Resistance bands and weights available.  No mats needed.  Fee $10 per class.  Try the first class for free!  Class is also available on ZOOM. Email Lori for more information or to register at eefyjiig@gmail.com
URL:https://hhsociety.org/event/cardio-strength-stretch-class-with-lori-4/2025-05-15/
LOCATION:Gym\, Fitness Center
END:VEVENT
BEGIN:VEVENT
DTSTART;TZID=America/New_York:20250515T093000
DTEND;TZID=America/New_York:20250515T093000
DTSTAMP:20260425T001459
CREATED:20241023T174709Z
LAST-MODIFIED:20241023T174814Z
UID:10003403-1747301400-1747301400@hhsociety.org
SUMMARY:Linda's Lake Lodge Classes - Yoga Pilates
DESCRIPTION:9:30am Thursdays \nAll Classes are $10 per class.  Register at the start of the month. Contact Linda Zeiss Instructor at labzeiss@gmail.com or (718) 541-0861
URL:https://hhsociety.org/event/lindas-lake-lodge-classes-yoga-pilates/2025-05-15/
LOCATION:Lake Lodge Upper Level
END:VEVENT
BEGIN:VEVENT
DTSTART;TZID=America/New_York:20250515T100000
DTEND;TZID=America/New_York:20250515T100000
DTSTAMP:20260425T001459
CREATED:20241029T182512Z
LAST-MODIFIED:20241029T182512Z
UID:10009039-1747303200-1747303200@hhsociety.org
SUMMARY:Ping Pong
DESCRIPTION:Thursdays at 10 am in the Activities Center’s Game Room. Open to all residents. Come\nhang out and play!
URL:https://hhsociety.org/event/ping-pong/2025-05-15/
LOCATION:Game Room
END:VEVENT
BEGIN:VEVENT
DTSTART;TZID=America/New_York:20250515T110000
DTEND;TZID=America/New_York:20250515T110000
DTSTAMP:20260425T001459
CREATED:20241029T174738Z
LAST-MODIFIED:20241029T174738Z
UID:10007815-1747306800-1747306800@hhsociety.org
SUMMARY:Mah Jongg Thursdays
DESCRIPTION:Thursdays from 11 am to 1 pm Call Cheryl Milde at 914-342-3068.
URL:https://hhsociety.org/event/mah-jongg-thursdays/2025-05-15/
LOCATION:Lake Lodge Room 2
END:VEVENT
BEGIN:VEVENT
DTSTART;TZID=America/New_York:20250515T123000
DTEND;TZID=America/New_York:20250515T123000
DTSTAMP:20260425T001459
CREATED:20241023T182703Z
LAST-MODIFIED:20241023T182703Z
UID:10005730-1747312200-1747312200@hhsociety.org
SUMMARY:Duplicate Bridge
DESCRIPTION:Mondays and Thursdays at 12:30pm in the Activities Center.  For information\, call Marie at (914) 277-4266
URL:https://hhsociety.org/event/duplicate-bridge-4/2025-05-15/
LOCATION:Heritage Room
END:VEVENT
BEGIN:VEVENT
DTSTART;TZID=America/New_York:20250515T130000
DTEND;TZID=America/New_York:20250515T130000
DTSTAMP:20260425T001459
CREATED:20241029T174856Z
LAST-MODIFIED:20241029T174856Z
UID:10008076-1747314000-1747314000@hhsociety.org
SUMMARY:Scrabble
DESCRIPTION:Thursdays starting promptly at 1 pm in Room 2 in the Activities Center. Casual\nScrabble game play. Play 1 or more games. All levels of play\, including newbies\, are welcome. For more\ninformation\, just walk in or contact Susan at 914-617-9228 or ciwhitestar@comcast.net.
URL:https://hhsociety.org/event/scrabble/2025-05-15/
LOCATION:Room 2/3
END:VEVENT
BEGIN:VEVENT
DTSTART;TZID=America/New_York:20250515T130000
DTEND;TZID=America/New_York:20250515T130000
DTSTAMP:20260425T001459
CREATED:20250501T201000Z
LAST-MODIFIED:20250501T201000Z
UID:10010958-1747314000-1747314000@hhsociety.org
SUMMARY:Singles Club - Luncheon at Il Villaggio
DESCRIPTION:Come and enjoy good food with good friends.  Will include family style appetizers\, three entree choices and dessert. Cash bar. \n$35 for members and non-members. Leave your checks in the Singles Club mail slot at the Activities Center no later than May 9.
URL:https://hhsociety.org/event/singles-club-luncheon-at-il-villaggio/
END:VEVENT
BEGIN:VEVENT
DTSTART;TZID=America/New_York:20250515T160000
DTEND;TZID=America/New_York:20250515T170000
DTSTAMP:20260425T001459
CREATED:20250507T134022Z
LAST-MODIFIED:20250507T134022Z
UID:10011020-1747324800-1747328400@hhsociety.org
SUMMARY:I Love Art Class with Miss. Judika
DESCRIPTION:After school Art in Heritage Hills for children ages grade K-6. \nTo register call Judika at (914) 438-6750 \n$20 per class; all 2 for $60
URL:https://hhsociety.org/event/i-love-art-class-with-miss-judika/2025-05-15/
LOCATION:Art Room A
END:VEVENT
BEGIN:VEVENT
DTSTART;TZID=America/New_York:20250516T080000
DTEND;TZID=America/New_York:20250516T170000
DTSTAMP:20260425T001459
CREATED:20250507T140213Z
LAST-MODIFIED:20250507T140213Z
UID:10011195-1747382400-1747414800@hhsociety.org
SUMMARY:Paint & Sip with Judika
DESCRIPTION:$40 per class. To register call Judika at (914) 438-6750
URL:https://hhsociety.org/event/paint-sip-with-judika-3/2025-05-16/1/
LOCATION:Art Room A
END:VEVENT
BEGIN:VEVENT
DTSTART;TZID=America/New_York:20250516T090000
DTEND;TZID=America/New_York:20250516T090000
DTSTAMP:20260425T001459
CREATED:20250514T152237Z
LAST-MODIFIED:20250514T152237Z
UID:10011958-1747386000-1747386000@hhsociety.org
SUMMARY:Continuum/Fluid Form Movement\, Mindfulness\, and Meditation with Melanie Gambino
DESCRIPTION:Pre-registration required. $15 per class \nFor more information and to reserve your place\, call\, text\, or email Melanie at (914) 588-2450 or melaniegambino1@gmail.com
URL:https://hhsociety.org/event/continuum-fluid-form-movement-mindfulness-and-meditation-with-melanie-gambino/2025-05-16/
LOCATION:Lake Lodge Room 3
END:VEVENT
BEGIN:VEVENT
DTSTART;TZID=America/New_York:20250516T100000
DTEND;TZID=America/New_York:20250516T100000
DTSTAMP:20260425T001459
CREATED:20241023T154744Z
LAST-MODIFIED:20241023T181006Z
UID:10004968-1747389600-1747389600@hhsociety.org
SUMMARY:Gentle Yoga with Lisa
DESCRIPTION:Mondays at 11:30am and Fridays at 10am in the Lake Lodge’s Upper Level.  $12 for a 75-minute class.  Contact lisaathomas@optonline.net or 914-497-0243 with questions or to register.
URL:https://hhsociety.org/event/gentle-yoga-with-lisa-4/2025-05-16/
LOCATION:Lake Lodge Upper Level
END:VEVENT
BEGIN:VEVENT
DTSTART;TZID=America/New_York:20250516T130000
DTEND;TZID=America/New_York:20250516T130000
DTSTAMP:20260425T001459
CREATED:20241029T174509Z
LAST-MODIFIED:20241029T174509Z
UID:10007294-1747400400-1747400400@hhsociety.org
SUMMARY:Mah Jongg Fridays
DESCRIPTION:Fridays at 1 pm in Lake Lodge \nCall Cheryl Milde at 914-342-3068.
URL:https://hhsociety.org/event/mah-jongg-fridays/2025-05-16/
LOCATION:Lake Lodge Room 3
END:VEVENT
BEGIN:VEVENT
DTSTART;TZID=America/New_York:20250517T090000
DTEND;TZID=America/New_York:20250517T090000
DTSTAMP:20260425T001459
CREATED:20241023T180749Z
LAST-MODIFIED:20241023T180749Z
UID:10004448-1747472400-1747472400@hhsociety.org
SUMMARY:Vinyasa Yoga with Joe
DESCRIPTION:Saturdays at 9 am in Lake Lodge’s Upper Level. $12 per class. To\nregister\, email Joe Ferrari at josephferrari@me.com.
URL:https://hhsociety.org/event/vinyasa-yoga-with-joe-2/2025-05-17/
LOCATION:Lake Lodge Upper Level
END:VEVENT
BEGIN:VEVENT
DTSTART;TZID=America/New_York:20250517T091500
DTEND;TZID=America/New_York:20250517T091500
DTSTAMP:20260425T001459
CREATED:20250514T154523Z
LAST-MODIFIED:20250514T154523Z
UID:10012727-1747473300-1747473300@hhsociety.org
SUMMARY:Hiker and Walkers
DESCRIPTION:Cranberry Lake Preserve (B) – Valhalla \nMisha Lef (914)272-7029
URL:https://hhsociety.org/event/hiker-and-walkers/
LOCATION:Activities Parking Lot
END:VEVENT
BEGIN:VEVENT
DTSTART;TZID=America/New_York:20250517T093000
DTEND;TZID=America/New_York:20250517T093000
DTSTAMP:20260425T001459
CREATED:20250514T161911Z
LAST-MODIFIED:20250514T161911Z
UID:10012812-1747474200-1747474200@hhsociety.org
SUMMARY:Bocce Group
DESCRIPTION:Weather permitting. \nFor more information contact Reno DiCristofaro at (914) 500-5160 or Diane Purr at (914) 617-9338
URL:https://hhsociety.org/event/bocce-group-4/2025-05-17/
END:VEVENT
BEGIN:VEVENT
DTSTART;TZID=America/New_York:20250517T093000
DTEND;TZID=America/New_York:20250517T093000
DTSTAMP:20260425T001459
CREATED:20250514T162209Z
LAST-MODIFIED:20250514T162209Z
UID:10012833-1747474200-1747474200@hhsociety.org
SUMMARY:Bocce Group
DESCRIPTION:Weather permitting. \nFor more information contact Reno DiCristofaro at (914) 500-5160 or Diane Purr at (914) 617-9338
URL:https://hhsociety.org/event/bocce-group-6/2025-05-17/
END:VEVENT
BEGIN:VEVENT
DTSTART;TZID=America/New_York:20250517T123000
DTEND;TZID=America/New_York:20250517T123000
DTSTAMP:20260425T001459
CREATED:20241023T183621Z
LAST-MODIFIED:20241023T183729Z
UID:10006251-1747485000-1747485000@hhsociety.org
SUMMARY:Canasta Club
DESCRIPTION:Saturdays 12:30pm to 4pm. Contact Doris Simon 914-276-0111 or\nDoris1121@me.com or Nancy Heilman 914-224-7180 or Nancy.C.Heilman@gmail.com
URL:https://hhsociety.org/event/canasta-club-3/2025-05-17/
LOCATION:Room 2/3
END:VEVENT
BEGIN:VEVENT
DTSTART;TZID=America/New_York:20250517T190000
DTEND;TZID=America/New_York:20250517T190000
DTSTAMP:20260425T001459
CREATED:20250404T184500Z
LAST-MODIFIED:20250404T184500Z
UID:10010939-1747508400-1747508400@hhsociety.org
SUMMARY:Club Shalom - Lerner and Loewe Songfest
DESCRIPTION:$15 Admission due with flyer by May 14.
URL:https://hhsociety.org/event/club-shalom-lerner-and-loewe-songfest/
LOCATION:Heritage Room
END:VEVENT
BEGIN:VEVENT
DTSTART;TZID=America/New_York:20250518T090000
DTEND;TZID=America/New_York:20250518T090000
DTSTAMP:20260425T001459
CREATED:20241023T175213Z
LAST-MODIFIED:20241023T175213Z
UID:10003664-1747558800-1747558800@hhsociety.org
SUMMARY:Linda's Lake Lodge Workouts - Sports Conditioning
DESCRIPTION:9:00am Sundays \nAll Classes are $10 per class.  Register at the start of the month. Contact Linda Zeiss Instructor at labzeiss@gmail.com or (718) 541-0861
URL:https://hhsociety.org/event/lindas-lake-lodge-workouts-sports-conditioning/2025-05-18/
LOCATION:Lake Lodge Upper Level
END:VEVENT
BEGIN:VEVENT
DTSTART;TZID=America/New_York:20250518T091500
DTEND;TZID=America/New_York:20250518T091500
DTSTAMP:20260425T001459
CREATED:20250514T154729Z
LAST-MODIFIED:20250514T154729Z
UID:10012728-1747559700-1747559700@hhsociety.org
SUMMARY:Hikers & Walkers
DESCRIPTION:Reservoir Road – Katonah (D) \nEvey Albert – (914) 275-7029
URL:https://hhsociety.org/event/hikers-walkers-2/
LOCATION:Activities Parking Lot
END:VEVENT
BEGIN:VEVENT
DTSTART;TZID=America/New_York:20250519T093000
DTEND;TZID=America/New_York:20250519T093000
DTSTAMP:20260425T001459
CREATED:20241029T175413Z
LAST-MODIFIED:20241029T175413Z
UID:10008457-1747647000-1747647000@hhsociety.org
SUMMARY:Morning Discussion Group
DESCRIPTION:Discussion group on current event topics. Meets Mondays\nfrom 9:30 to 11 am in the Activities Center. For information\, email Ken Benjamin at kenbenja@aol.com\nor call 914-617-9817.
URL:https://hhsociety.org/event/morning-discussion-group-2/2025-05-19/
LOCATION:Room 2/3
END:VEVENT
BEGIN:VEVENT
DTSTART;TZID=America/New_York:20250519T110000
DTEND;TZID=America/New_York:20250519T110000
DTSTAMP:20260425T001459
CREATED:20241023T151632Z
LAST-MODIFIED:20241023T151632Z
UID:10000031-1747652400-1747652400@hhsociety.org
SUMMARY:Learn to Bead with Allison
DESCRIPTION:Join us on Mondays at 11:00 am in Room B for our beading class.  Each class is $25 including materials fee.  You go home with a piece of jewelry that you made for yourself or for a special someone.  Come and join the fun.  To enroll or for more information\, contact Allison Rubin at (914) 629-3655 or ahrubin521@yahoo.com
URL:https://hhsociety.org/event/learn-to-bead-with-allison-3/2025-05-19/
LOCATION:Art Room B
END:VEVENT
BEGIN:VEVENT
DTSTART;TZID=America/New_York:20250519T113000
DTEND;TZID=America/New_York:20250519T113000
DTSTAMP:20260425T001459
CREATED:20241023T154622Z
LAST-MODIFIED:20241023T154622Z
UID:10001314-1747654200-1747654200@hhsociety.org
SUMMARY:Gentle Yoga with Lisa
DESCRIPTION:Mondays at 11:30 am and Fridays at 10 am in the Lake Lodge’s Upper Level.  $12 for a 75-minute class.  Contact lisaathomas@optonline.net or 914-497-0243 for more information.
URL:https://hhsociety.org/event/gentle-yoga-with-lisa-2/2025-05-19/
LOCATION:Lake Lodge Upper Level
END:VEVENT
BEGIN:VEVENT
DTSTART;TZID=America/New_York:20250519T120000
DTEND;TZID=America/New_York:20250519T120000
DTSTAMP:20260425T001459
CREATED:20241029T174209Z
LAST-MODIFIED:20241029T174209Z
UID:10006772-1747656000-1747656000@hhsociety.org
SUMMARY:Mah Jongg Mondays
DESCRIPTION:Mondays at noon in Lake Lodge (contact Sue Furino 914-617-9110);
URL:https://hhsociety.org/event/mah-jongg-mondays/2025-05-19/
LOCATION:Lake Lodge Room 3
END:VEVENT
BEGIN:VEVENT
DTSTART;TZID=America/New_York:20250519T123000
DTEND;TZID=America/New_York:20250519T123000
DTSTAMP:20260425T001459
CREATED:20241023T155031Z
LAST-MODIFIED:20241023T155031Z
UID:10001576-1747657800-1747657800@hhsociety.org
SUMMARY:Tai Chi & Chi Gong with Master Ellen
DESCRIPTION:Mondays from 12:30-1:30pm in the Gym.  $70 per month.  First class free.  All levels welcome.  Wear loose fitting\, comfortable clothing.  Contact heritagehillstaichi2@@gmail.com for more information or to register.
URL:https://hhsociety.org/event/tai-chi-chi-gong-with-master-ellen-2/2025-05-19/
LOCATION:Gym\, Fitness Center
END:VEVENT
BEGIN:VEVENT
DTSTART;TZID=America/New_York:20250519T123000
DTEND;TZID=America/New_York:20250519T123000
DTSTAMP:20260425T001459
CREATED:20241023T182608Z
LAST-MODIFIED:20241023T182608Z
UID:10005469-1747657800-1747657800@hhsociety.org
SUMMARY:Duplicate Bridge
DESCRIPTION:Mondays and Thursdays at 12:30pm in the Activities Center.  For information\, call Marie at (914) 277-4266
URL:https://hhsociety.org/event/duplicate-bridge-2/2025-05-19/
LOCATION:Heritage Room
END:VEVENT
BEGIN:VEVENT
DTSTART;TZID=America/New_York:20250520T083000
DTEND;TZID=America/New_York:20250520T083000
DTSTAMP:20260425T001459
CREATED:20241023T161410Z
LAST-MODIFIED:20241023T174857Z
UID:10002620-1747729800-1747729800@hhsociety.org
SUMMARY:Linda's Lake Lodge Classes - Body Conditioning
DESCRIPTION:8:30am Tuesdays and Thursdays \nAll Classes are $10 per class.  Register at the start of the month. Contact Linda Zeiss Instructor at labzeiss@gmail.com or (718) 541-0861
URL:https://hhsociety.org/event/lindas-lake-lodge-classes-body-conditioning/2025-05-20/
LOCATION:Lake Lodge Upper Level
END:VEVENT
BEGIN:VEVENT
DTSTART;TZID=America/New_York:20250520T093000
DTEND;TZID=America/New_York:20250520T093000
DTSTAMP:20260425T001459
CREATED:20241023T160743Z
LAST-MODIFIED:20241023T160743Z
UID:10002098-1747733400-1747733400@hhsociety.org
SUMMARY:Cardio / Strength / Stretch Class with Lori
DESCRIPTION:Tuesdays and Thursdays from 9:30-10:30am in the Gym. Join Lori for a fun\, safe\, effective workout.  Low impact cardio\, resistance training\, balance\, strength and breath work – all set to great music!  Appropriate for all levels.  Resistance bands and weights available.  No mats needed.  Fee $10 per class.  Try the first class for free!  Class is also available on ZOOM. Email Lori for more information or to register at eefyjiig@gmail.com
URL:https://hhsociety.org/event/cardio-strength-stretch-class-with-lori-2/2025-05-20/
LOCATION:Gym\, Fitness Center
END:VEVENT
BEGIN:VEVENT
DTSTART;TZID=America/New_York:20250520T093000
DTEND;TZID=America/New_York:20250520T093000
DTSTAMP:20260425T001459
CREATED:20241023T162528Z
LAST-MODIFIED:20241023T175103Z
UID:10003142-1747733400-1747733400@hhsociety.org
SUMMARY:Linda's Lake Lodge Classes - Rock & Roll Workout
DESCRIPTION:9:30am Tuesdays \nAll Classes are $10 per class.  Register at the start of the month. Contact Linda Zeiss Instructor at labzeiss@gmail.com or (718) 541-0861 \n  \n  \n  \n 
URL:https://hhsociety.org/event/lindas-lake-lodge-classes-rock-roll-workout/2025-05-20/
LOCATION:Lake Lodge Upper Level
END:VEVENT
END:VCALENDAR