BEGIN:VCALENDAR
VERSION:2.0
PRODID:-//Heritage Hills Society - ECPv6.15.20//NONSGML v1.0//EN
CALSCALE:GREGORIAN
METHOD:PUBLISH
X-WR-CALNAME:Heritage Hills Society
X-ORIGINAL-URL:https://hhsociety.org
X-WR-CALDESC:Events for Heritage Hills Society
REFRESH-INTERVAL;VALUE=DURATION:PT1H
X-Robots-Tag:noindex
X-PUBLISHED-TTL:PT1H
BEGIN:VTIMEZONE
TZID:America/New_York
BEGIN:DAYLIGHT
TZOFFSETFROM:-0500
TZOFFSETTO:-0400
TZNAME:EDT
DTSTART:20240310T070000
END:DAYLIGHT
BEGIN:STANDARD
TZOFFSETFROM:-0400
TZOFFSETTO:-0500
TZNAME:EST
DTSTART:20241103T060000
END:STANDARD
BEGIN:DAYLIGHT
TZOFFSETFROM:-0500
TZOFFSETTO:-0400
TZNAME:EDT
DTSTART:20250309T070000
END:DAYLIGHT
BEGIN:STANDARD
TZOFFSETFROM:-0400
TZOFFSETTO:-0500
TZNAME:EST
DTSTART:20251102T060000
END:STANDARD
BEGIN:DAYLIGHT
TZOFFSETFROM:-0500
TZOFFSETTO:-0400
TZNAME:EDT
DTSTART:20260308T070000
END:DAYLIGHT
BEGIN:STANDARD
TZOFFSETFROM:-0400
TZOFFSETTO:-0500
TZNAME:EST
DTSTART:20261101T060000
END:STANDARD
END:VTIMEZONE
BEGIN:VEVENT
DTSTART;TZID=America/New_York:20251204T083000
DTEND;TZID=America/New_York:20251204T083000
DTSTAMP:20260423T223803
CREATED:20241023T161616Z
LAST-MODIFIED:20241023T175018Z
UID:10002910-1764837000-1764837000@hhsociety.org
SUMMARY:Linda's Lake Lodge Classes - Body Conditioning
DESCRIPTION:8:30am Tuesdays and Thursdays \nAll Classes are $10 per class.  Register at the start of the month. Contact Linda Zeiss Instructor at labzeiss@gmail.com or (718) 541-0861
URL:https://hhsociety.org/event/lindas-lake-lodge-classes-body-conditioning-2-2/2025-12-04/
LOCATION:Lake Lodge Upper Level
END:VEVENT
BEGIN:VEVENT
DTSTART;TZID=America/New_York:20251204T093000
DTEND;TZID=America/New_York:20251204T093000
DTSTAMP:20260423T223803
CREATED:20241023T160957Z
LAST-MODIFIED:20241023T161031Z
UID:10002388-1764840600-1764840600@hhsociety.org
SUMMARY:Cardio / Strength / Stretch Class with Lori
DESCRIPTION:Tuesdays and Thursdays from 9:30-10:30am in the Gym. Join Lori for a fun\, safe\, effective workout.  Low impact cardio\, resistance training\, balance\, strength and breath work – all set to great music!  Appropriate for all levels.  Resistance bands and weights available.  No mats needed.  Fee $10 per class.  Try the first class for free!  Class is also available on ZOOM. Email Lori for more information or to register at eefyjiig@gmail.com
URL:https://hhsociety.org/event/cardio-strength-stretch-class-with-lori-4/2025-12-04/
LOCATION:Gym\, Fitness Center
END:VEVENT
BEGIN:VEVENT
DTSTART;TZID=America/New_York:20251204T093000
DTEND;TZID=America/New_York:20251204T093000
DTSTAMP:20260423T223803
CREATED:20241023T174709Z
LAST-MODIFIED:20241023T174814Z
UID:10003432-1764840600-1764840600@hhsociety.org
SUMMARY:Linda's Lake Lodge Classes - Yoga Pilates
DESCRIPTION:9:30am Thursdays \nAll Classes are $10 per class.  Register at the start of the month. Contact Linda Zeiss Instructor at labzeiss@gmail.com or (718) 541-0861
URL:https://hhsociety.org/event/lindas-lake-lodge-classes-yoga-pilates/2025-12-04/
LOCATION:Lake Lodge Upper Level
END:VEVENT
BEGIN:VEVENT
DTSTART;TZID=America/New_York:20251204T100000
DTEND;TZID=America/New_York:20251204T100000
DTSTAMP:20260423T223803
CREATED:20241029T182512Z
LAST-MODIFIED:20241029T182512Z
UID:10009068-1764842400-1764842400@hhsociety.org
SUMMARY:Ping Pong
DESCRIPTION:Thursdays at 10 am in the Activities Center’s Game Room. Open to all residents. Come\nhang out and play!
URL:https://hhsociety.org/event/ping-pong/2025-12-04/
LOCATION:Game Room
END:VEVENT
BEGIN:VEVENT
DTSTART;TZID=America/New_York:20251204T110000
DTEND;TZID=America/New_York:20251204T110000
DTSTAMP:20260423T223803
CREATED:20241023T182146Z
LAST-MODIFIED:20241023T182146Z
UID:10005333-1764846000-1764846000@hhsociety.org
SUMMARY:Spanish Conversation
DESCRIPTION:Meets the 1st Thursday of the month in Lake Lodge’s\nRoom 1 at 11 am. Group is open to intermediate through fluent Spanish speakers. ¡Vengan!
URL:https://hhsociety.org/event/spanish-conversation/2025-12-04/
LOCATION:Lake Lodge Room 1
END:VEVENT
BEGIN:VEVENT
DTSTART;TZID=America/New_York:20251204T110000
DTEND;TZID=America/New_York:20251204T110000
DTSTAMP:20260423T223803
CREATED:20241029T174738Z
LAST-MODIFIED:20241029T174738Z
UID:10007844-1764846000-1764846000@hhsociety.org
SUMMARY:Mah Jongg Thursdays
DESCRIPTION:Thursdays from 11 am to 1 pm Call Cheryl Milde at 914-342-3068.
URL:https://hhsociety.org/event/mah-jongg-thursdays/2025-12-04/
LOCATION:Lake Lodge Room 2
END:VEVENT
BEGIN:VEVENT
DTSTART;TZID=America/New_York:20251204T123000
DTEND;TZID=America/New_York:20251204T123000
DTSTAMP:20260423T223803
CREATED:20241023T182703Z
LAST-MODIFIED:20241023T182703Z
UID:10005759-1764851400-1764851400@hhsociety.org
SUMMARY:Duplicate Bridge
DESCRIPTION:Mondays and Thursdays at 12:30pm in the Activities Center.  For information\, call Marie at (914) 277-4266
URL:https://hhsociety.org/event/duplicate-bridge-4/2025-12-04/
LOCATION:Heritage Room
END:VEVENT
BEGIN:VEVENT
DTSTART;TZID=America/New_York:20251204T123000
DTEND;TZID=America/New_York:20251204T123000
DTSTAMP:20260423T223803
CREATED:20241029T175246Z
LAST-MODIFIED:20241029T175246Z
UID:10008382-1764851400-1764851400@hhsociety.org
SUMMARY:Alzheimer's/Dementia Caregivers Support Group
DESCRIPTION:Caring for someone with Alzheimer&#39;s/Dementia is\na difficult and painful challenge. A support group can help. Meetings take place the first Thursday of the\nmonth at 12:30 pm in Lake Lodge’s Room 1. Fee: $20 per session. Facilitated by Linda Ludwig\, Ph.D. To\nregister\, call 914-617-9328 or email ludwiglr@aol.com.
URL:https://hhsociety.org/event/alzheimers-dementia-caregivers-support-group-2/2025-12-04/
LOCATION:Lake Lodge Room 1
END:VEVENT
BEGIN:VEVENT
DTSTART;TZID=America/New_York:20251204T130000
DTEND;TZID=America/New_York:20251204T130000
DTSTAMP:20260423T223803
CREATED:20241029T174856Z
LAST-MODIFIED:20241029T174856Z
UID:10008105-1764853200-1764853200@hhsociety.org
SUMMARY:Scrabble
DESCRIPTION:Thursdays starting promptly at 1 pm in Room 2 in the Activities Center. Casual\nScrabble game play. Play 1 or more games. All levels of play\, including newbies\, are welcome. For more\ninformation\, just walk in or contact Susan at 914-617-9228 or ciwhitestar@comcast.net.
URL:https://hhsociety.org/event/scrabble/2025-12-04/
LOCATION:Room 2/3
END:VEVENT
BEGIN:VEVENT
DTSTART;TZID=America/New_York:20251204T130000
DTEND;TZID=America/New_York:20251204T130000
DTSTAMP:20260423T223803
CREATED:20241113T153705Z
LAST-MODIFIED:20241113T153705Z
UID:10009670-1764853200-1764853200@hhsociety.org
SUMMARY:Thriving in your Prime
DESCRIPTION:Join us every other week on Thursday at 1pm in Lake Lodge Room 3 to discuss relevant topics and learn strategies that will help those over the age of 50 navigate the challenges they are confronted with.  Each time we meet we will discuss a new topic\, and you will learn strategies you can implement in your own life.  The investment in each gathering is one hour of your time and $5!
URL:https://hhsociety.org/event/thriving-in-your-prime-2/2025-12-04/
LOCATION:Lake Lodge Room 3
END:VEVENT
BEGIN:VEVENT
DTSTART;TZID=America/New_York:20251204T160000
DTEND;TZID=America/New_York:20251204T170000
DTSTAMP:20260423T223803
CREATED:20250507T134022Z
LAST-MODIFIED:20250507T134022Z
UID:10011049-1764864000-1764867600@hhsociety.org
SUMMARY:I Love Art Class with Miss. Judika
DESCRIPTION:After school Art in Heritage Hills for children ages grade K-6. \nTo register call Judika at (914) 438-6750 \n$20 per class; all 2 for $60
URL:https://hhsociety.org/event/i-love-art-class-with-miss-judika/2025-12-04/
LOCATION:Art Room A
END:VEVENT
BEGIN:VEVENT
DTSTART;TZID=America/New_York:20251204T170000
DTEND;TZID=America/New_York:20251204T170000
DTSTAMP:20260423T223803
CREATED:20241029T181105Z
LAST-MODIFIED:20241029T181105Z
UID:10008703-1764867600-1764867600@hhsociety.org
SUMMARY:Rainbow Connection Club
DESCRIPTION:A group for LGBTQ members and their families\, friends\, and\nneighbors. All are welcome. We meet the first Thursday of each month at Lake Lodge from 5 to 7 pm.\nFor more information contact Joanne at 914-450-5609.
URL:https://hhsociety.org/event/rainbow-connection-club-2/2025-12-04/
LOCATION:Lake Lodge Room 3
END:VEVENT
BEGIN:VEVENT
DTSTART;TZID=America/New_York:20251205T090000
DTEND;TZID=America/New_York:20251205T090000
DTSTAMP:20260423T223803
CREATED:20250514T152237Z
LAST-MODIFIED:20250514T152237Z
UID:10011987-1764925200-1764925200@hhsociety.org
SUMMARY:Continuum/Fluid Form Movement\, Mindfulness\, and Meditation with Melanie Gambino
DESCRIPTION:Pre-registration required. $15 per class \nFor more information and to reserve your place\, call\, text\, or email Melanie at (914) 588-2450 or melaniegambino1@gmail.com
URL:https://hhsociety.org/event/continuum-fluid-form-movement-mindfulness-and-meditation-with-melanie-gambino/2025-12-05/
LOCATION:Lake Lodge Room 3
END:VEVENT
BEGIN:VEVENT
DTSTART;TZID=America/New_York:20251205T094500
DTEND;TZID=America/New_York:20251205T094500
DTSTAMP:20260423T223803
CREATED:20250502T150719Z
LAST-MODIFIED:20250502T150719Z
UID:10010981-1764927900-1764927900@hhsociety.org
SUMMARY:Move and Groove with Theresa
DESCRIPTION:Easy to learn and easy to follow beginner Line Dances to ALL music genres.  Contact Theresa for more information at zumbawithme@aol.com
URL:https://hhsociety.org/event/move-and-groove-with-theresa-2/2025-12-05/
LOCATION:Gym\, Fitness Center
END:VEVENT
BEGIN:VEVENT
DTSTART;TZID=America/New_York:20251205T094500
DTEND;TZID=America/New_York:20251205T094500
DTSTAMP:20260423T223803
CREATED:20250514T153212Z
LAST-MODIFIED:20250514T153212Z
UID:10012241-1764927900-1764927900@hhsociety.org
SUMMARY:Move and Groove with Theresa
DESCRIPTION:East to learn and easy to follow beginner Line Dances to ALL music genres. \nContact Theresa for more information at zumbawithme@aol.com
URL:https://hhsociety.org/event/move-and-groove-with-theresa-4/2025-12-05/
LOCATION:Gym\, Fitness Center
END:VEVENT
BEGIN:VEVENT
DTSTART;TZID=America/New_York:20251205T100000
DTEND;TZID=America/New_York:20251205T100000
DTSTAMP:20260423T223803
CREATED:20241023T154744Z
LAST-MODIFIED:20241023T181006Z
UID:10004997-1764928800-1764928800@hhsociety.org
SUMMARY:Gentle Yoga with Lisa
DESCRIPTION:Mondays at 11:30am and Fridays at 10am in the Lake Lodge’s Upper Level.  $12 for a 75-minute class.  Contact lisaathomas@optonline.net or 914-497-0243 with questions or to register.
URL:https://hhsociety.org/event/gentle-yoga-with-lisa-4/2025-12-05/
LOCATION:Lake Lodge Upper Level
END:VEVENT
BEGIN:VEVENT
DTSTART;TZID=America/New_York:20251205T105000
DTEND;TZID=America/New_York:20251205T105000
DTSTAMP:20260423T223803
CREATED:20250502T151043Z
LAST-MODIFIED:20250502T151043Z
UID:10011007-1764931800-1764931800@hhsociety.org
SUMMARY:Getting Back on Track (15-15-15) with Theresa
DESCRIPTION:Light cardio and balance\, functional strength and stretch\, and restorative breathing and relaxation.  Great class to begin or continue your fitness journey.  Contact Theresa for more information at zumbawithme@aol.com
URL:https://hhsociety.org/event/getting-back-on-track-15-15-15-with-theresa-2/2025-12-05/
LOCATION:Gym\, Fitness Center
END:VEVENT
BEGIN:VEVENT
DTSTART;TZID=America/New_York:20251205T105000
DTEND;TZID=America/New_York:20251205T105000
DTSTAMP:20260423T223803
CREATED:20250514T153814Z
LAST-MODIFIED:20250514T153814Z
UID:10012495-1764931800-1764931800@hhsociety.org
SUMMARY:Getting Back on Track (15-15-15) with Theresa
DESCRIPTION:Light cardio and balance\, functional strength and stretch\, and restorative breathing and relaxation.  Great class to begin or continue your fitness journey. Contact Theresa for more information at zumbawithme@aol.com
URL:https://hhsociety.org/event/getting-back-on-track-15-15-15-with-theresa-4/2025-12-05/
LOCATION:Gym\, Fitness Center
END:VEVENT
BEGIN:VEVENT
DTSTART;TZID=America/New_York:20251205T130000
DTEND;TZID=America/New_York:20251205T130000
DTSTAMP:20260423T223803
CREATED:20241029T174509Z
LAST-MODIFIED:20241029T174509Z
UID:10007323-1764939600-1764939600@hhsociety.org
SUMMARY:Mah Jongg Fridays
DESCRIPTION:Fridays at 1 pm in Lake Lodge \nCall Cheryl Milde at 914-342-3068.
URL:https://hhsociety.org/event/mah-jongg-fridays/2025-12-05/
LOCATION:Lake Lodge Room 3
END:VEVENT
BEGIN:VEVENT
DTSTART;TZID=America/New_York:20251205T150000
DTEND;TZID=America/New_York:20251205T150000
DTSTAMP:20260423T223803
CREATED:20250514T160458Z
LAST-MODIFIED:20250514T160458Z
UID:10012738-1764946800-1764946800@hhsociety.org
SUMMARY:Yacht Club ("HHYC")
DESCRIPTION:The HHYC is a fee-free social club of past and present water fans (swimmers\, boaters\, fishers\, cruisers\, surfers\, whatever). At our monthly pot luck “dock parties” on the first Friday of the month in the Lobby at Lake Lodge\, we share our experiences and plan future ones (theme parties\, day trips/activities\, or even cruises). For more information contact Susan at ciwhitestar@comcast.net or (914) 617-9228
URL:https://hhsociety.org/event/yacht-club-hhyc/2025-12-05/
LOCATION:Lake Lodge Lobby
END:VEVENT
BEGIN:VEVENT
DTSTART;TZID=America/New_York:20251205T180000
DTEND;TZID=America/New_York:20251205T200000
DTSTAMP:20260423T223803
CREATED:20250702T135118Z
LAST-MODIFIED:20250702T135118Z
UID:10013216-1764957600-1764964800@hhsociety.org
SUMMARY:Paint & Sip with Judika
DESCRIPTION:Fee is $40 per class. \nAll supplies included. \nContact Judika Lieberman to register at (914) 483-6750 or Judika266@gmail.com
URL:https://hhsociety.org/event/paint-sip-with-judika-5/2025-12-05/
LOCATION:Art Room A
END:VEVENT
BEGIN:VEVENT
DTSTART;TZID=America/New_York:20251205T190000
DTEND;TZID=America/New_York:20251205T190000
DTSTAMP:20260423T223803
CREATED:20241023T153853Z
LAST-MODIFIED:20241023T153853Z
UID:10000977-1764961200-1764961200@hhsociety.org
SUMMARY:Friday Night Social Dance
DESCRIPTION:The first Friday of every month from 7-10pm in the Activities Center’s Heritage Room.  $10 per person includes coffee and cake.  BYOB.  For more information\, call Angela Viscogliosi at (914) 393-8736
URL:https://hhsociety.org/event/friday-night-social-dance-2/2025-12-05/
LOCATION:Heritage Room
END:VEVENT
BEGIN:VEVENT
DTSTART;TZID=America/New_York:20251206T090000
DTEND;TZID=America/New_York:20251206T090000
DTSTAMP:20260423T223803
CREATED:20241023T180749Z
LAST-MODIFIED:20241023T180749Z
UID:10004477-1765011600-1765011600@hhsociety.org
SUMMARY:Vinyasa Yoga with Joe
DESCRIPTION:Saturdays at 9 am in Lake Lodge’s Upper Level. $12 per class. To\nregister\, email Joe Ferrari at josephferrari@me.com.
URL:https://hhsociety.org/event/vinyasa-yoga-with-joe-2/2025-12-06/
LOCATION:Lake Lodge Upper Level
END:VEVENT
BEGIN:VEVENT
DTSTART;TZID=America/New_York:20251206T093000
DTEND;TZID=America/New_York:20251206T093000
DTSTAMP:20260423T223803
CREATED:20251204T191121Z
LAST-MODIFIED:20251204T191121Z
UID:10013437-1765013400-1765013400@hhsociety.org
SUMMARY:Hikers and Walkers
DESCRIPTION:St. Matthews Church Woodlands – Bedford \nRating B – Leader: Cheryl Hochenberg (516) 220-0965
URL:https://hhsociety.org/event/hikers-and-walkers-7/
LOCATION:Activities Parking Lot
END:VEVENT
BEGIN:VEVENT
DTSTART;TZID=America/New_York:20251206T123000
DTEND;TZID=America/New_York:20251206T123000
DTSTAMP:20260423T223803
CREATED:20241023T183621Z
LAST-MODIFIED:20241023T183729Z
UID:10006280-1765024200-1765024200@hhsociety.org
SUMMARY:Canasta Club
DESCRIPTION:Saturdays 12:30pm to 4pm. Contact Doris Simon 914-276-0111 or\nDoris1121@me.com or Nancy Heilman 914-224-7180 or Nancy.C.Heilman@gmail.com
URL:https://hhsociety.org/event/canasta-club-3/2025-12-06/
LOCATION:Room 2/3
END:VEVENT
BEGIN:VEVENT
DTSTART;TZID=America/New_York:20251206T140000
DTEND;TZID=America/New_York:20251206T160000
DTSTAMP:20260423T223803
CREATED:20251103T160638Z
LAST-MODIFIED:20251103T160638Z
UID:10013363-1765029600-1765036800@hhsociety.org
SUMMARY:Toys for Tots - Holiday Extravaganza
DESCRIPTION:
URL:https://hhsociety.org/event/toys-for-tots-holiday-extravaganza/
LOCATION:Heritage Room
END:VEVENT
BEGIN:VEVENT
DTSTART;TZID=America/New_York:20251207T090000
DTEND;TZID=America/New_York:20251207T090000
DTSTAMP:20260423T223803
CREATED:20241023T175213Z
LAST-MODIFIED:20241023T175213Z
UID:10003693-1765098000-1765098000@hhsociety.org
SUMMARY:Linda's Lake Lodge Workouts - Sports Conditioning
DESCRIPTION:9:00am Sundays \nAll Classes are $10 per class.  Register at the start of the month. Contact Linda Zeiss Instructor at labzeiss@gmail.com or (718) 541-0861
URL:https://hhsociety.org/event/lindas-lake-lodge-workouts-sports-conditioning/2025-12-07/
LOCATION:Lake Lodge Upper Level
END:VEVENT
BEGIN:VEVENT
DTSTART;TZID=America/New_York:20251207T093000
DTEND;TZID=America/New_York:20251207T093000
DTSTAMP:20260423T223803
CREATED:20251204T191513Z
LAST-MODIFIED:20251204T191513Z
UID:10013438-1765099800-1765099800@hhsociety.org
SUMMARY:Hikers and Walkers
DESCRIPTION:Old Putnam RR – Somers \nRating D+; Leader: Cheryl Hochenberg (516) 220-0965
URL:https://hhsociety.org/event/hikers-and-walkers-8/
LOCATION:Activities Parking Lot
END:VEVENT
BEGIN:VEVENT
DTSTART;TZID=America/New_York:20251207T160000
DTEND;TZID=America/New_York:20251207T160000
DTSTAMP:20260423T223803
CREATED:20251202T163914Z
LAST-MODIFIED:20251202T163914Z
UID:10013433-1765123200-1765123200@hhsociety.org
SUMMARY:Ciao Italia
DESCRIPTION:Members Only Christmas Celebration
URL:https://hhsociety.org/event/ciao-italia-3/
LOCATION:Heritage Room
END:VEVENT
BEGIN:VEVENT
DTSTART;TZID=America/New_York:20251208T093000
DTEND;TZID=America/New_York:20251208T093000
DTSTAMP:20260423T223803
CREATED:20241029T175413Z
LAST-MODIFIED:20241029T175413Z
UID:10008486-1765186200-1765186200@hhsociety.org
SUMMARY:Morning Discussion Group
DESCRIPTION:Discussion group on current event topics. Meets Mondays\nfrom 9:30 to 11 am in the Activities Center. For information\, email Ken Benjamin at kenbenja@aol.com\nor call 914-617-9817.
URL:https://hhsociety.org/event/morning-discussion-group-2/2025-12-08/
LOCATION:Room 2/3
END:VEVENT
END:VCALENDAR