BEGIN:VCALENDAR
VERSION:2.0
PRODID:-//Heritage Hills Society - ECPv6.15.20//NONSGML v1.0//EN
CALSCALE:GREGORIAN
METHOD:PUBLISH
X-ORIGINAL-URL:https://hhsociety.org
X-WR-CALDESC:Events for Heritage Hills Society
REFRESH-INTERVAL;VALUE=DURATION:PT1H
X-Robots-Tag:noindex
X-PUBLISHED-TTL:PT1H
BEGIN:VTIMEZONE
TZID:America/New_York
BEGIN:DAYLIGHT
TZOFFSETFROM:-0500
TZOFFSETTO:-0400
TZNAME:EDT
DTSTART:20230312T070000
END:DAYLIGHT
BEGIN:STANDARD
TZOFFSETFROM:-0400
TZOFFSETTO:-0500
TZNAME:EST
DTSTART:20231105T060000
END:STANDARD
BEGIN:DAYLIGHT
TZOFFSETFROM:-0500
TZOFFSETTO:-0400
TZNAME:EDT
DTSTART:20240310T070000
END:DAYLIGHT
BEGIN:STANDARD
TZOFFSETFROM:-0400
TZOFFSETTO:-0500
TZNAME:EST
DTSTART:20241103T060000
END:STANDARD
BEGIN:DAYLIGHT
TZOFFSETFROM:-0500
TZOFFSETTO:-0400
TZNAME:EDT
DTSTART:20250309T070000
END:DAYLIGHT
BEGIN:STANDARD
TZOFFSETFROM:-0400
TZOFFSETTO:-0500
TZNAME:EST
DTSTART:20251102T060000
END:STANDARD
END:VTIMEZONE
BEGIN:VEVENT
DTSTART;TZID=America/New_York:20241106T090000
DTEND;TZID=America/New_York:20241106T090000
DTSTAMP:20260425T102252
CREATED:20241029T184500Z
LAST-MODIFIED:20241029T184500Z
UID:10009377-1730883600-1730883600@hhsociety.org
SUMMARY:10-A-Men Club
DESCRIPTION:Come to the Activities Center’s Heritage Room on Wednesdays at 9 am and have\ncontinental breakfast for $2. The meeting starts at 10 am.
URL:https://hhsociety.org/event/10-a-men-club/2024-11-06/
LOCATION:Heritage Room
END:VEVENT
BEGIN:VEVENT
DTSTART;TZID=America/New_York:20241106T093000
DTEND;TZID=America/New_York:20241106T093000
DTSTAMP:20260425T102252
CREATED:20241023T153549Z
LAST-MODIFIED:20241023T153549Z
UID:10000705-1730885400-1730885400@hhsociety.org
SUMMARY:Sketch Workshop
DESCRIPTION:Wednesdays from 9:30-11:30am in the Activities Center’s Studio A.  Portraits\, figures\, still lifes.  Bring your choice of paper\, pen\, pencil\, watercolor\, pastel\, etc.  Models are welcome to pose for 20 minutes (clothed!).  No fee\, no teacher\, but guidance available.
URL:https://hhsociety.org/event/sketch-workshop-3/2024-11-06/
LOCATION:Art Room B
END:VEVENT
BEGIN:VEVENT
DTSTART;TZID=America/New_York:20241106T100000
DTEND;TZID=America/New_York:20241106T100000
DTSTAMP:20260425T102252
CREATED:20241023T182940Z
LAST-MODIFIED:20241023T183355Z
UID:10005963-1730887200-1730887200@hhsociety.org
SUMMARY:Social Bridge
DESCRIPTION:Wednesdays at 10am at Lake Lodge
URL:https://hhsociety.org/event/social-bridge-2/2024-11-06/
LOCATION:Lake Lodge Room 2
END:VEVENT
BEGIN:VEVENT
DTSTART;TZID=America/New_York:20241106T120000
DTEND;TZID=America/New_York:20241106T120000
DTSTAMP:20260425T102252
CREATED:20241029T174331Z
LAST-MODIFIED:20241029T174331Z
UID:10007006-1730894400-1730894400@hhsociety.org
SUMMARY:Mah Jongg Wednesdays
DESCRIPTION:Wednesdays at\nnoon in the Activities Center (Contact Carol Tocci 914-471-5689)
URL:https://hhsociety.org/event/mah-jongg-wednesdays/2024-11-06/
LOCATION:Room 2/3
END:VEVENT
BEGIN:VEVENT
DTSTART;TZID=America/New_York:20241106T123000
DTEND;TZID=America/New_York:20241106T123000
DTSTAMP:20260425T102252
CREATED:20241023T152857Z
LAST-MODIFIED:20241023T152857Z
UID:10000385-1730896200-1730896200@hhsociety.org
SUMMARY:Needlecraft Goup
DESCRIPTION:Charitable needlecraft group meets Wednesdays at 12:30pm in the Game Room.  All skill levels are welcome.  $20 Annual dues. For questions\, or to register\, call Linda at (914) 277-2776 or Ginger at (914) 617-9058
URL:https://hhsociety.org/event/needlecraft-goup/2024-11-06/
LOCATION:Game Room
END:VEVENT
BEGIN:VEVENT
DTSTART;TZID=America/New_York:20241106T130000
DTEND;TZID=America/New_York:20241106T130000
DTSTAMP:20260425T102252
CREATED:20241029T173525Z
LAST-MODIFIED:20241029T173525Z
UID:10006484-1730898000-1730898000@hhsociety.org
SUMMARY:Chess Club
DESCRIPTION:Wednesdays from 1 to 3:30 pm in Lake Lodge’s Room 3. We are a group of chess\nenthusiasts who enjoy coming together to play some friendly games of chess! Beginners are welcome!\nBring your chess set if you have one. Some playing pairs may choose to use a chess clock; bring this\,\nalso\, if you have one. For more information\, contact Pat Posluszny at patpugs@comcast.net or 914-276-\n6550.
URL:https://hhsociety.org/event/chess-club-2/2024-11-06/
LOCATION:Lake Lodge Room 3
END:VEVENT
BEGIN:VEVENT
DTSTART;TZID=America/New_York:20241106T130000
DTEND;TZID=America/New_York:20241106T130000
DTSTAMP:20260425T102252
CREATED:20241029T182733Z
LAST-MODIFIED:20241029T182733Z
UID:10009273-1730898000-1730898000@hhsociety.org
SUMMARY:Shuffleboard Group
DESCRIPTION:October through March on Wednesdays from 1 to 3 pm\, and on Saturdays\nfrom 9:30 am to noon\, in the Gym.
URL:https://hhsociety.org/event/shuffleboard-group-2/2024-11-06/
LOCATION:Gym\, Fitness Center
END:VEVENT
BEGIN:VEVENT
DTSTART;TZID=America/New_York:20241107T083000
DTEND;TZID=America/New_York:20241107T083000
DTSTAMP:20260425T102252
CREATED:20241023T161616Z
LAST-MODIFIED:20241023T175018Z
UID:10002854-1730968200-1730968200@hhsociety.org
SUMMARY:Linda's Lake Lodge Classes - Body Conditioning
DESCRIPTION:8:30am Tuesdays and Thursdays \nAll Classes are $10 per class.  Register at the start of the month. Contact Linda Zeiss Instructor at labzeiss@gmail.com or (718) 541-0861
URL:https://hhsociety.org/event/lindas-lake-lodge-classes-body-conditioning-2-2/2024-11-07/
LOCATION:Lake Lodge Upper Level
END:VEVENT
BEGIN:VEVENT
DTSTART;TZID=America/New_York:20241107T093000
DTEND;TZID=America/New_York:20241107T093000
DTSTAMP:20260425T102252
CREATED:20241023T160957Z
LAST-MODIFIED:20241023T161031Z
UID:10002332-1730971800-1730971800@hhsociety.org
SUMMARY:Cardio / Strength / Stretch Class with Lori
DESCRIPTION:Tuesdays and Thursdays from 9:30-10:30am in the Gym. Join Lori for a fun\, safe\, effective workout.  Low impact cardio\, resistance training\, balance\, strength and breath work – all set to great music!  Appropriate for all levels.  Resistance bands and weights available.  No mats needed.  Fee $10 per class.  Try the first class for free!  Class is also available on ZOOM. Email Lori for more information or to register at eefyjiig@gmail.com
URL:https://hhsociety.org/event/cardio-strength-stretch-class-with-lori-4/2024-11-07/
LOCATION:Gym\, Fitness Center
END:VEVENT
BEGIN:VEVENT
DTSTART;TZID=America/New_York:20241107T093000
DTEND;TZID=America/New_York:20241107T093000
DTSTAMP:20260425T102252
CREATED:20241023T174709Z
LAST-MODIFIED:20241023T174814Z
UID:10003376-1730971800-1730971800@hhsociety.org
SUMMARY:Linda's Lake Lodge Classes - Yoga Pilates
DESCRIPTION:9:30am Thursdays \nAll Classes are $10 per class.  Register at the start of the month. Contact Linda Zeiss Instructor at labzeiss@gmail.com or (718) 541-0861
URL:https://hhsociety.org/event/lindas-lake-lodge-classes-yoga-pilates/2024-11-07/
LOCATION:Lake Lodge Upper Level
END:VEVENT
BEGIN:VEVENT
DTSTART;TZID=America/New_York:20241107T100000
DTEND;TZID=America/New_York:20241107T100000
DTSTAMP:20260425T102252
CREATED:20241029T182512Z
LAST-MODIFIED:20241029T182512Z
UID:10009012-1730973600-1730973600@hhsociety.org
SUMMARY:Ping Pong
DESCRIPTION:Thursdays at 10 am in the Activities Center’s Game Room. Open to all residents. Come\nhang out and play!
URL:https://hhsociety.org/event/ping-pong/2024-11-07/
LOCATION:Game Room
END:VEVENT
BEGIN:VEVENT
DTSTART;TZID=America/New_York:20241107T110000
DTEND;TZID=America/New_York:20241107T110000
DTSTAMP:20260425T102252
CREATED:20241023T182146Z
LAST-MODIFIED:20241023T182146Z
UID:10005320-1730977200-1730977200@hhsociety.org
SUMMARY:Spanish Conversation
DESCRIPTION:Meets the 1st Thursday of the month in Lake Lodge’s\nRoom 1 at 11 am. Group is open to intermediate through fluent Spanish speakers. ¡Vengan!
URL:https://hhsociety.org/event/spanish-conversation/2024-11-07/
LOCATION:Lake Lodge Room 1
END:VEVENT
BEGIN:VEVENT
DTSTART;TZID=America/New_York:20241107T110000
DTEND;TZID=America/New_York:20241107T110000
DTSTAMP:20260425T102252
CREATED:20241029T174738Z
LAST-MODIFIED:20241029T174738Z
UID:10007788-1730977200-1730977200@hhsociety.org
SUMMARY:Mah Jongg Thursdays
DESCRIPTION:Thursdays from 11 am to 1 pm Call Cheryl Milde at 914-342-3068.
URL:https://hhsociety.org/event/mah-jongg-thursdays/2024-11-07/
LOCATION:Lake Lodge Room 2
END:VEVENT
BEGIN:VEVENT
DTSTART;TZID=America/New_York:20241107T123000
DTEND;TZID=America/New_York:20241107T123000
DTSTAMP:20260425T102252
CREATED:20241023T182703Z
LAST-MODIFIED:20241023T182703Z
UID:10005703-1730982600-1730982600@hhsociety.org
SUMMARY:Duplicate Bridge
DESCRIPTION:Mondays and Thursdays at 12:30pm in the Activities Center.  For information\, call Marie at (914) 277-4266
URL:https://hhsociety.org/event/duplicate-bridge-4/2024-11-07/
LOCATION:Heritage Room
END:VEVENT
BEGIN:VEVENT
DTSTART;TZID=America/New_York:20241107T123000
DTEND;TZID=America/New_York:20241107T123000
DTSTAMP:20260425T102252
CREATED:20241029T175246Z
LAST-MODIFIED:20241029T175246Z
UID:10008369-1730982600-1730982600@hhsociety.org
SUMMARY:Alzheimer's/Dementia Caregivers Support Group
DESCRIPTION:Caring for someone with Alzheimer&#39;s/Dementia is\na difficult and painful challenge. A support group can help. Meetings take place the first Thursday of the\nmonth at 12:30 pm in Lake Lodge’s Room 1. Fee: $20 per session. Facilitated by Linda Ludwig\, Ph.D. To\nregister\, call 914-617-9328 or email ludwiglr@aol.com.
URL:https://hhsociety.org/event/alzheimers-dementia-caregivers-support-group-2/2024-11-07/
LOCATION:Lake Lodge Room 1
END:VEVENT
BEGIN:VEVENT
DTSTART;TZID=America/New_York:20241107T130000
DTEND;TZID=America/New_York:20241107T130000
DTSTAMP:20260425T102252
CREATED:20241029T174856Z
LAST-MODIFIED:20241029T174856Z
UID:10008049-1730984400-1730984400@hhsociety.org
SUMMARY:Scrabble
DESCRIPTION:Thursdays starting promptly at 1 pm in Room 2 in the Activities Center. Casual\nScrabble game play. Play 1 or more games. All levels of play\, including newbies\, are welcome. For more\ninformation\, just walk in or contact Susan at 914-617-9228 or ciwhitestar@comcast.net.
URL:https://hhsociety.org/event/scrabble/2024-11-07/
LOCATION:Room 2/3
END:VEVENT
BEGIN:VEVENT
DTSTART;TZID=America/New_York:20241107T170000
DTEND;TZID=America/New_York:20241107T170000
DTSTAMP:20260425T102252
CREATED:20241029T181105Z
LAST-MODIFIED:20241029T181105Z
UID:10008690-1730998800-1730998800@hhsociety.org
SUMMARY:Rainbow Connection Club
DESCRIPTION:A group for LGBTQ members and their families\, friends\, and\nneighbors. All are welcome. We meet the first Thursday of each month at Lake Lodge from 5 to 7 pm.\nFor more information contact Joanne at 914-450-5609.
URL:https://hhsociety.org/event/rainbow-connection-club-2/2024-11-07/
LOCATION:Lake Lodge Room 3
END:VEVENT
BEGIN:VEVENT
DTSTART;TZID=America/New_York:20241108T090000
DTEND;TZID=America/New_York:20241108T090000
DTSTAMP:20260425T102252
CREATED:20241029T175106Z
LAST-MODIFIED:20241029T175106Z
UID:10008309-1731056400-1731056400@hhsociety.org
SUMMARY:Blood Pressure Screening
DESCRIPTION:Nurse Ellie Eidam offers screenings on the second Friday of\nthe month from 9 to 11 am in the Activities Center’s Game Room. Your temperature may be taken. Do\nnot come if you have tested positive for Covid-19\, were recently exposed (within 14 days) to the virus or\ntraveled to areas that have experienced high levels of the virus. Contact Ellie at elliebob1@gmail.com or\n914-617-2109 for more information.
URL:https://hhsociety.org/event/blood-pressure-screening-2/2024-11-08/
LOCATION:Game Room
END:VEVENT
BEGIN:VEVENT
DTSTART;TZID=America/New_York:20241108T100000
DTEND;TZID=America/New_York:20241108T100000
DTSTAMP:20260425T102252
CREATED:20241023T154744Z
LAST-MODIFIED:20241023T181006Z
UID:10004941-1731060000-1731060000@hhsociety.org
SUMMARY:Gentle Yoga with Lisa
DESCRIPTION:Mondays at 11:30am and Fridays at 10am in the Lake Lodge’s Upper Level.  $12 for a 75-minute class.  Contact lisaathomas@optonline.net or 914-497-0243 with questions or to register.
URL:https://hhsociety.org/event/gentle-yoga-with-lisa-4/2024-11-08/
LOCATION:Lake Lodge Upper Level
END:VEVENT
BEGIN:VEVENT
DTSTART;TZID=America/New_York:20241108T110000
DTEND;TZID=America/New_York:20241108T110000
DTSTAMP:20260425T102252
CREATED:20241023T181940Z
LAST-MODIFIED:20241023T181940Z
UID:10005260-1731063600-1731063600@hhsociety.org
SUMMARY:French Conversation
DESCRIPTION:Meets the 2nd and 4th Friday of the month at Lake Lodge in Room 1\nfrom 11 am to noon. Members should have a basic knowledge of French conversation but need not be\nfluent. Refresh your French language skills and laugh and learn with us. If you have any questions\, call\nCarole Ellis 914-260-9182 or email her at carellis14@yahoo.com.
URL:https://hhsociety.org/event/french-conversation-2-2/2024-11-08/
LOCATION:Lake Lodge Room 1
END:VEVENT
BEGIN:VEVENT
DTSTART;TZID=America/New_York:20241108T130000
DTEND;TZID=America/New_York:20241108T130000
DTSTAMP:20260425T102252
CREATED:20241029T174509Z
LAST-MODIFIED:20241029T174509Z
UID:10007267-1731070800-1731070800@hhsociety.org
SUMMARY:Mah Jongg Fridays
DESCRIPTION:Fridays at 1 pm in Lake Lodge \nCall Cheryl Milde at 914-342-3068.
URL:https://hhsociety.org/event/mah-jongg-fridays/2024-11-08/
LOCATION:Lake Lodge Room 3
END:VEVENT
BEGIN:VEVENT
DTSTART;TZID=America/New_York:20241109T090000
DTEND;TZID=America/New_York:20241109T090000
DTSTAMP:20260425T102252
CREATED:20241023T180749Z
LAST-MODIFIED:20241023T180749Z
UID:10004421-1731142800-1731142800@hhsociety.org
SUMMARY:Vinyasa Yoga with Joe
DESCRIPTION:Saturdays at 9 am in Lake Lodge’s Upper Level. $12 per class. To\nregister\, email Joe Ferrari at josephferrari@me.com.
URL:https://hhsociety.org/event/vinyasa-yoga-with-joe-2/2024-11-09/
LOCATION:Lake Lodge Upper Level
END:VEVENT
BEGIN:VEVENT
DTSTART;TZID=America/New_York:20241109T093000
DTEND;TZID=America/New_York:20241109T093000
DTSTAMP:20260425T102252
CREATED:20241029T182938Z
LAST-MODIFIED:20241029T182938Z
UID:10009295-1731144600-1731144600@hhsociety.org
SUMMARY:Shuffleboard Group
DESCRIPTION:October through March on Wednesdays from 1 to 3 pm\, and on Saturdays\nfrom 9:30 am to noon\, in the Gym.
URL:https://hhsociety.org/event/shuffleboard-group-4/2024-11-09/
LOCATION:Gym\, Fitness Center
END:VEVENT
BEGIN:VEVENT
DTSTART;TZID=America/New_York:20241109T123000
DTEND;TZID=America/New_York:20241109T123000
DTSTAMP:20260425T102252
CREATED:20241023T183621Z
LAST-MODIFIED:20241023T183729Z
UID:10006224-1731155400-1731155400@hhsociety.org
SUMMARY:Canasta Club
DESCRIPTION:Saturdays 12:30pm to 4pm. Contact Doris Simon 914-276-0111 or\nDoris1121@me.com or Nancy Heilman 914-224-7180 or Nancy.C.Heilman@gmail.com
URL:https://hhsociety.org/event/canasta-club-3/2024-11-09/
LOCATION:Room 2/3
END:VEVENT
BEGIN:VEVENT
DTSTART;TZID=America/New_York:20241110T090000
DTEND;TZID=America/New_York:20241110T090000
DTSTAMP:20260425T102252
CREATED:20241023T175213Z
LAST-MODIFIED:20241023T175213Z
UID:10003637-1731229200-1731229200@hhsociety.org
SUMMARY:Linda's Lake Lodge Workouts - Sports Conditioning
DESCRIPTION:9:00am Sundays \nAll Classes are $10 per class.  Register at the start of the month. Contact Linda Zeiss Instructor at labzeiss@gmail.com or (718) 541-0861
URL:https://hhsociety.org/event/lindas-lake-lodge-workouts-sports-conditioning/2024-11-10/
LOCATION:Lake Lodge Upper Level
END:VEVENT
BEGIN:VEVENT
DTSTART;TZID=America/New_York:20241110T130000
DTEND;TZID=America/New_York:20241110T130000
DTSTAMP:20260425T102252
CREATED:20241029T185136Z
LAST-MODIFIED:20241029T185136Z
UID:10009637-1731243600-1731243600@hhsociety.org
SUMMARY:Club Shalom - Peter Calo and Anne Carpenter - A Cabaret Act
DESCRIPTION:Admission is $15.00 per person.  Light refreshments will be served.  Place your check in Club Shalom’s mail slot by November 5 along with your name\, phone number and unit number.  If you want to sit with friends\, put all checks in one envelope (10 people per table).
URL:https://hhsociety.org/event/club-shalom-peter-calo-and-anne-carpenter-a-cabaret-act/
LOCATION:Heritage Room
END:VEVENT
BEGIN:VEVENT
DTSTART;TZID=America/New_York:20241111T093000
DTEND;TZID=America/New_York:20241111T093000
DTSTAMP:20260425T102252
CREATED:20241029T175413Z
LAST-MODIFIED:20241029T175413Z
UID:10008430-1731317400-1731317400@hhsociety.org
SUMMARY:Morning Discussion Group
DESCRIPTION:Discussion group on current event topics. Meets Mondays\nfrom 9:30 to 11 am in the Activities Center. For information\, email Ken Benjamin at kenbenja@aol.com\nor call 914-617-9817.
URL:https://hhsociety.org/event/morning-discussion-group-2/2024-11-11/
LOCATION:Room 2/3
END:VEVENT
BEGIN:VEVENT
DTSTART;TZID=America/New_York:20241111T110000
DTEND;TZID=America/New_York:20241111T110000
DTSTAMP:20260425T102252
CREATED:20241023T151632Z
LAST-MODIFIED:20241023T151632Z
UID:10000004-1731322800-1731322800@hhsociety.org
SUMMARY:Learn to Bead with Allison
DESCRIPTION:Join us on Mondays at 11:00 am in Room B for our beading class.  Each class is $25 including materials fee.  You go home with a piece of jewelry that you made for yourself or for a special someone.  Come and join the fun.  To enroll or for more information\, contact Allison Rubin at (914) 629-3655 or ahrubin521@yahoo.com
URL:https://hhsociety.org/event/learn-to-bead-with-allison-3/2024-11-11/
LOCATION:Art Room B
END:VEVENT
BEGIN:VEVENT
DTSTART;TZID=America/New_York:20241111T113000
DTEND;TZID=America/New_York:20241111T113000
DTSTAMP:20260425T102252
CREATED:20241023T154622Z
LAST-MODIFIED:20241023T154622Z
UID:10001287-1731324600-1731324600@hhsociety.org
SUMMARY:Gentle Yoga with Lisa
DESCRIPTION:Mondays at 11:30 am and Fridays at 10 am in the Lake Lodge’s Upper Level.  $12 for a 75-minute class.  Contact lisaathomas@optonline.net or 914-497-0243 for more information.
URL:https://hhsociety.org/event/gentle-yoga-with-lisa-2/2024-11-11/
LOCATION:Lake Lodge Upper Level
END:VEVENT
BEGIN:VEVENT
DTSTART;TZID=America/New_York:20241111T120000
DTEND;TZID=America/New_York:20241111T120000
DTSTAMP:20260425T102252
CREATED:20241029T174209Z
LAST-MODIFIED:20241029T174209Z
UID:10006745-1731326400-1731326400@hhsociety.org
SUMMARY:Mah Jongg Mondays
DESCRIPTION:Mondays at noon in Lake Lodge (contact Sue Furino 914-617-9110);
URL:https://hhsociety.org/event/mah-jongg-mondays/2024-11-11/
LOCATION:Lake Lodge Room 3
END:VEVENT
END:VCALENDAR