BEGIN:VCALENDAR
VERSION:2.0
PRODID:-//Heritage Hills Society - ECPv6.15.20//NONSGML v1.0//EN
CALSCALE:GREGORIAN
METHOD:PUBLISH
X-ORIGINAL-URL:https://hhsociety.org
X-WR-CALDESC:Events for Heritage Hills Society
REFRESH-INTERVAL;VALUE=DURATION:PT1H
X-Robots-Tag:noindex
X-PUBLISHED-TTL:PT1H
BEGIN:VTIMEZONE
TZID:America/New_York
BEGIN:DAYLIGHT
TZOFFSETFROM:-0500
TZOFFSETTO:-0400
TZNAME:EDT
DTSTART:20230312T070000
END:DAYLIGHT
BEGIN:STANDARD
TZOFFSETFROM:-0400
TZOFFSETTO:-0500
TZNAME:EST
DTSTART:20231105T060000
END:STANDARD
BEGIN:DAYLIGHT
TZOFFSETFROM:-0500
TZOFFSETTO:-0400
TZNAME:EDT
DTSTART:20240310T070000
END:DAYLIGHT
BEGIN:STANDARD
TZOFFSETFROM:-0400
TZOFFSETTO:-0500
TZNAME:EST
DTSTART:20241103T060000
END:STANDARD
BEGIN:DAYLIGHT
TZOFFSETFROM:-0500
TZOFFSETTO:-0400
TZNAME:EDT
DTSTART:20250309T070000
END:DAYLIGHT
BEGIN:STANDARD
TZOFFSETFROM:-0400
TZOFFSETTO:-0500
TZNAME:EST
DTSTART:20251102T060000
END:STANDARD
END:VTIMEZONE
BEGIN:VEVENT
DTSTART;TZID=America/New_York:20241115T100000
DTEND;TZID=America/New_York:20241115T100000
DTSTAMP:20260425T102857
CREATED:20241023T154744Z
LAST-MODIFIED:20241023T181006Z
UID:10004942-1731664800-1731664800@hhsociety.org
SUMMARY:Gentle Yoga with Lisa
DESCRIPTION:Mondays at 11:30am and Fridays at 10am in the Lake Lodge’s Upper Level.  $12 for a 75-minute class.  Contact lisaathomas@optonline.net or 914-497-0243 with questions or to register.
URL:https://hhsociety.org/event/gentle-yoga-with-lisa-4/2024-11-15/
LOCATION:Lake Lodge Upper Level
END:VEVENT
BEGIN:VEVENT
DTSTART;TZID=America/New_York:20241115T130000
DTEND;TZID=America/New_York:20241115T130000
DTSTAMP:20260425T102857
CREATED:20241029T174509Z
LAST-MODIFIED:20241029T174509Z
UID:10007268-1731675600-1731675600@hhsociety.org
SUMMARY:Mah Jongg Fridays
DESCRIPTION:Fridays at 1 pm in Lake Lodge \nCall Cheryl Milde at 914-342-3068.
URL:https://hhsociety.org/event/mah-jongg-fridays/2024-11-15/
LOCATION:Lake Lodge Room 3
END:VEVENT
BEGIN:VEVENT
DTSTART;TZID=America/New_York:20241115T183000
DTEND;TZID=America/New_York:20241115T183000
DTSTAMP:20260425T102857
CREATED:20241101T140453Z
LAST-MODIFIED:20241101T140453Z
UID:10009640-1731695400-1731695400@hhsociety.org
SUMMARY:Ciao Italia - Veteran's Day Dinner
DESCRIPTION:Celebrating those who served. Members $25 per person\, non-Members\, $30 per person.  Flyers containing all the information are available outside the Activities Office.  Fill out the form and include with your payment  – checks only.
URL:https://hhsociety.org/event/ciao-italia-veterans-day-dinner/
LOCATION:Heritage Room
END:VEVENT
BEGIN:VEVENT
DTSTART;TZID=America/New_York:20241116T090000
DTEND;TZID=America/New_York:20241116T090000
DTSTAMP:20260425T102857
CREATED:20241023T180749Z
LAST-MODIFIED:20241023T180749Z
UID:10004422-1731747600-1731747600@hhsociety.org
SUMMARY:Vinyasa Yoga with Joe
DESCRIPTION:Saturdays at 9 am in Lake Lodge’s Upper Level. $12 per class. To\nregister\, email Joe Ferrari at josephferrari@me.com.
URL:https://hhsociety.org/event/vinyasa-yoga-with-joe-2/2024-11-16/
LOCATION:Lake Lodge Upper Level
END:VEVENT
BEGIN:VEVENT
DTSTART;TZID=America/New_York:20241116T093000
DTEND;TZID=America/New_York:20241116T093000
DTSTAMP:20260425T102857
CREATED:20241029T182938Z
LAST-MODIFIED:20241029T182938Z
UID:10009296-1731749400-1731749400@hhsociety.org
SUMMARY:Shuffleboard Group
DESCRIPTION:October through March on Wednesdays from 1 to 3 pm\, and on Saturdays\nfrom 9:30 am to noon\, in the Gym.
URL:https://hhsociety.org/event/shuffleboard-group-4/2024-11-16/
LOCATION:Gym\, Fitness Center
END:VEVENT
BEGIN:VEVENT
DTSTART;TZID=America/New_York:20241116T123000
DTEND;TZID=America/New_York:20241116T123000
DTSTAMP:20260425T102857
CREATED:20241023T183621Z
LAST-MODIFIED:20241023T183729Z
UID:10006225-1731760200-1731760200@hhsociety.org
SUMMARY:Canasta Club
DESCRIPTION:Saturdays 12:30pm to 4pm. Contact Doris Simon 914-276-0111 or\nDoris1121@me.com or Nancy Heilman 914-224-7180 or Nancy.C.Heilman@gmail.com
URL:https://hhsociety.org/event/canasta-club-3/2024-11-16/
LOCATION:Room 2/3
END:VEVENT
BEGIN:VEVENT
DTSTART;TZID=America/New_York:20241117T090000
DTEND;TZID=America/New_York:20241117T090000
DTSTAMP:20260425T102857
CREATED:20241023T175213Z
LAST-MODIFIED:20241023T175213Z
UID:10003638-1731834000-1731834000@hhsociety.org
SUMMARY:Linda's Lake Lodge Workouts - Sports Conditioning
DESCRIPTION:9:00am Sundays \nAll Classes are $10 per class.  Register at the start of the month. Contact Linda Zeiss Instructor at labzeiss@gmail.com or (718) 541-0861
URL:https://hhsociety.org/event/lindas-lake-lodge-workouts-sports-conditioning/2024-11-17/
LOCATION:Lake Lodge Upper Level
END:VEVENT
BEGIN:VEVENT
DTSTART;TZID=America/New_York:20241117T190000
DTEND;TZID=America/New_York:20241117T190000
DTSTAMP:20260425T102857
CREATED:20241101T140908Z
LAST-MODIFIED:20241101T140908Z
UID:10009641-1731870000-1731870000@hhsociety.org
SUMMARY:Independent and Foreign Film Club
DESCRIPTION:The Quiet Girl (Ireland\, 95 minutes\, 2022) – Nine year old Cait is sent to live with foster parents.  After struggles at home and school she adapts and blossoms.  But\, she discovers one painful truth. \nA discussion\, let by Bill Costanzo\, retired film studies instructor\, follow the screening.
URL:https://hhsociety.org/event/independent-and-foreign-film-club/
LOCATION:Heritage Room
END:VEVENT
BEGIN:VEVENT
DTSTART;TZID=America/New_York:20241118T093000
DTEND;TZID=America/New_York:20241118T093000
DTSTAMP:20260425T102857
CREATED:20241029T175413Z
LAST-MODIFIED:20241029T175413Z
UID:10008431-1731922200-1731922200@hhsociety.org
SUMMARY:Morning Discussion Group
DESCRIPTION:Discussion group on current event topics. Meets Mondays\nfrom 9:30 to 11 am in the Activities Center. For information\, email Ken Benjamin at kenbenja@aol.com\nor call 914-617-9817.
URL:https://hhsociety.org/event/morning-discussion-group-2/2024-11-18/
LOCATION:Room 2/3
END:VEVENT
BEGIN:VEVENT
DTSTART;TZID=America/New_York:20241118T110000
DTEND;TZID=America/New_York:20241118T110000
DTSTAMP:20260425T102857
CREATED:20241023T151632Z
LAST-MODIFIED:20241023T151632Z
UID:10000005-1731927600-1731927600@hhsociety.org
SUMMARY:Learn to Bead with Allison
DESCRIPTION:Join us on Mondays at 11:00 am in Room B for our beading class.  Each class is $25 including materials fee.  You go home with a piece of jewelry that you made for yourself or for a special someone.  Come and join the fun.  To enroll or for more information\, contact Allison Rubin at (914) 629-3655 or ahrubin521@yahoo.com
URL:https://hhsociety.org/event/learn-to-bead-with-allison-3/2024-11-18/
LOCATION:Art Room B
END:VEVENT
BEGIN:VEVENT
DTSTART;TZID=America/New_York:20241118T113000
DTEND;TZID=America/New_York:20241118T113000
DTSTAMP:20260425T102857
CREATED:20241023T154622Z
LAST-MODIFIED:20241023T154622Z
UID:10001288-1731929400-1731929400@hhsociety.org
SUMMARY:Gentle Yoga with Lisa
DESCRIPTION:Mondays at 11:30 am and Fridays at 10 am in the Lake Lodge’s Upper Level.  $12 for a 75-minute class.  Contact lisaathomas@optonline.net or 914-497-0243 for more information.
URL:https://hhsociety.org/event/gentle-yoga-with-lisa-2/2024-11-18/
LOCATION:Lake Lodge Upper Level
END:VEVENT
BEGIN:VEVENT
DTSTART;TZID=America/New_York:20241118T120000
DTEND;TZID=America/New_York:20241118T120000
DTSTAMP:20260425T102857
CREATED:20241029T174209Z
LAST-MODIFIED:20241029T174209Z
UID:10006746-1731931200-1731931200@hhsociety.org
SUMMARY:Mah Jongg Mondays
DESCRIPTION:Mondays at noon in Lake Lodge (contact Sue Furino 914-617-9110);
URL:https://hhsociety.org/event/mah-jongg-mondays/2024-11-18/
LOCATION:Lake Lodge Room 3
END:VEVENT
BEGIN:VEVENT
DTSTART;TZID=America/New_York:20241118T123000
DTEND;TZID=America/New_York:20241118T123000
DTSTAMP:20260425T102857
CREATED:20241023T155031Z
LAST-MODIFIED:20241023T155031Z
UID:10001550-1731933000-1731933000@hhsociety.org
SUMMARY:Tai Chi & Chi Gong with Master Ellen
DESCRIPTION:Mondays from 12:30-1:30pm in the Gym.  $70 per month.  First class free.  All levels welcome.  Wear loose fitting\, comfortable clothing.  Contact heritagehillstaichi2@@gmail.com for more information or to register.
URL:https://hhsociety.org/event/tai-chi-chi-gong-with-master-ellen-2/2024-11-18/
LOCATION:Gym\, Fitness Center
END:VEVENT
BEGIN:VEVENT
DTSTART;TZID=America/New_York:20241118T123000
DTEND;TZID=America/New_York:20241118T123000
DTSTAMP:20260425T102857
CREATED:20241023T182608Z
LAST-MODIFIED:20241023T182608Z
UID:10005443-1731933000-1731933000@hhsociety.org
SUMMARY:Duplicate Bridge
DESCRIPTION:Mondays and Thursdays at 12:30pm in the Activities Center.  For information\, call Marie at (914) 277-4266
URL:https://hhsociety.org/event/duplicate-bridge-2/2024-11-18/
LOCATION:Heritage Room
END:VEVENT
BEGIN:VEVENT
DTSTART;TZID=America/New_York:20241119T083000
DTEND;TZID=America/New_York:20241119T083000
DTSTAMP:20260425T102857
CREATED:20241023T161410Z
LAST-MODIFIED:20241023T174857Z
UID:10002594-1732005000-1732005000@hhsociety.org
SUMMARY:Linda's Lake Lodge Classes - Body Conditioning
DESCRIPTION:8:30am Tuesdays and Thursdays \nAll Classes are $10 per class.  Register at the start of the month. Contact Linda Zeiss Instructor at labzeiss@gmail.com or (718) 541-0861
URL:https://hhsociety.org/event/lindas-lake-lodge-classes-body-conditioning/2024-11-19/
LOCATION:Lake Lodge Upper Level
END:VEVENT
BEGIN:VEVENT
DTSTART;TZID=America/New_York:20241119T093000
DTEND;TZID=America/New_York:20241119T093000
DTSTAMP:20260425T102857
CREATED:20241023T160743Z
LAST-MODIFIED:20241023T160743Z
UID:10002072-1732008600-1732008600@hhsociety.org
SUMMARY:Cardio / Strength / Stretch Class with Lori
DESCRIPTION:Tuesdays and Thursdays from 9:30-10:30am in the Gym. Join Lori for a fun\, safe\, effective workout.  Low impact cardio\, resistance training\, balance\, strength and breath work – all set to great music!  Appropriate for all levels.  Resistance bands and weights available.  No mats needed.  Fee $10 per class.  Try the first class for free!  Class is also available on ZOOM. Email Lori for more information or to register at eefyjiig@gmail.com
URL:https://hhsociety.org/event/cardio-strength-stretch-class-with-lori-2/2024-11-19/
LOCATION:Gym\, Fitness Center
END:VEVENT
BEGIN:VEVENT
DTSTART;TZID=America/New_York:20241119T093000
DTEND;TZID=America/New_York:20241119T093000
DTSTAMP:20260425T102857
CREATED:20241023T162528Z
LAST-MODIFIED:20241023T175103Z
UID:10003116-1732008600-1732008600@hhsociety.org
SUMMARY:Linda's Lake Lodge Classes - Rock & Roll Workout
DESCRIPTION:9:30am Tuesdays \nAll Classes are $10 per class.  Register at the start of the month. Contact Linda Zeiss Instructor at labzeiss@gmail.com or (718) 541-0861 \n  \n  \n  \n 
URL:https://hhsociety.org/event/lindas-lake-lodge-classes-rock-roll-workout/2024-11-19/
LOCATION:Lake Lodge Upper Level
END:VEVENT
BEGIN:VEVENT
DTSTART;TZID=America/New_York:20241119T100000
DTEND;TZID=America/New_York:20241119T100000
DTSTAMP:20260425T102857
CREATED:20241023T155520Z
LAST-MODIFIED:20241023T155520Z
UID:10001811-1732010400-1732010400@hhsociety.org
SUMMARY:Chair Yoga with Satish
DESCRIPTION:Practice Tuesdays from 10-11:15am in Lake Lodge Room 3 with Satish Gambhir\, Registered Yoga (500-RYT) and acupressure teacher with over 20 years of experience.  Chair Yoga aimed at toning the entire body and increasing flexibility.  Breathing and meditation for relaxation and mind-body connection.  Live music.  $10 per class.  Call or email to register at (914) 646-0887 or satishgambhir@gmail.com
URL:https://hhsociety.org/event/chair-yoga-with-satish-2/2024-11-19/
LOCATION:Lake Lodge Room 3
END:VEVENT
BEGIN:VEVENT
DTSTART;TZID=America/New_York:20241119T100000
DTEND;TZID=America/New_York:20241119T100000
DTSTAMP:20260425T102857
CREATED:20241029T182020Z
LAST-MODIFIED:20241029T182020Z
UID:10008753-1732010400-1732010400@hhsociety.org
SUMMARY:Shakespeare Group
DESCRIPTION:Tuesdays from 10 to 11:30 am in the Activities Center’s Game Room\,\nand on Zoom. See a film of a classic Shakespeare play\, then read it and join in lively discussions. All are\nwelcome! For more information\, call Susan Ray at 914-391-6686 or Margaret Howlett at 973-746-7816.
URL:https://hhsociety.org/event/shakespeare-group-2/2024-11-19/
LOCATION:Game Room
END:VEVENT
BEGIN:VEVENT
DTSTART;TZID=America/New_York:20241119T110000
DTEND;TZID=America/New_York:20241119T110000
DTSTAMP:20260425T102857
CREATED:20241029T174628Z
LAST-MODIFIED:20241029T174628Z
UID:10007529-1732014000-1732014000@hhsociety.org
SUMMARY:Mah Jongg Tuesdays
DESCRIPTION:Tuesdays from 11 am to 1 pm Call Cheryl Milde at 914-342-3068.
URL:https://hhsociety.org/event/mah-jongg-tuesdays/2024-11-19/
LOCATION:Lake Lodge Room 2
END:VEVENT
BEGIN:VEVENT
DTSTART;TZID=America/New_York:20241120T090000
DTEND;TZID=America/New_York:20241120T090000
DTSTAMP:20260425T102857
CREATED:20241029T184500Z
LAST-MODIFIED:20241029T184500Z
UID:10009379-1732093200-1732093200@hhsociety.org
SUMMARY:10-A-Men Club
DESCRIPTION:Come to the Activities Center’s Heritage Room on Wednesdays at 9 am and have\ncontinental breakfast for $2. The meeting starts at 10 am.
URL:https://hhsociety.org/event/10-a-men-club/2024-11-20/
LOCATION:Heritage Room
END:VEVENT
BEGIN:VEVENT
DTSTART;TZID=America/New_York:20241120T093000
DTEND;TZID=America/New_York:20241120T093000
DTSTAMP:20260425T102857
CREATED:20241023T153549Z
LAST-MODIFIED:20241023T153549Z
UID:10000707-1732095000-1732095000@hhsociety.org
SUMMARY:Sketch Workshop
DESCRIPTION:Wednesdays from 9:30-11:30am in the Activities Center’s Studio A.  Portraits\, figures\, still lifes.  Bring your choice of paper\, pen\, pencil\, watercolor\, pastel\, etc.  Models are welcome to pose for 20 minutes (clothed!).  No fee\, no teacher\, but guidance available.
URL:https://hhsociety.org/event/sketch-workshop-3/2024-11-20/
LOCATION:Art Room B
END:VEVENT
BEGIN:VEVENT
DTSTART;TZID=America/New_York:20241120T100000
DTEND;TZID=America/New_York:20241120T100000
DTSTAMP:20260425T102857
CREATED:20241023T182940Z
LAST-MODIFIED:20241023T183355Z
UID:10005965-1732096800-1732096800@hhsociety.org
SUMMARY:Social Bridge
DESCRIPTION:Wednesdays at 10am at Lake Lodge
URL:https://hhsociety.org/event/social-bridge-2/2024-11-20/
LOCATION:Lake Lodge Room 2
END:VEVENT
BEGIN:VEVENT
DTSTART;TZID=America/New_York:20241120T120000
DTEND;TZID=America/New_York:20241120T120000
DTSTAMP:20260425T102857
CREATED:20241029T174331Z
LAST-MODIFIED:20241029T174331Z
UID:10007008-1732104000-1732104000@hhsociety.org
SUMMARY:Mah Jongg Wednesdays
DESCRIPTION:Wednesdays at\nnoon in the Activities Center (Contact Carol Tocci 914-471-5689)
URL:https://hhsociety.org/event/mah-jongg-wednesdays/2024-11-20/
LOCATION:Room 2/3
END:VEVENT
BEGIN:VEVENT
DTSTART;TZID=America/New_York:20241120T123000
DTEND;TZID=America/New_York:20241120T123000
DTSTAMP:20260425T102857
CREATED:20241023T152857Z
LAST-MODIFIED:20241023T152857Z
UID:10000387-1732105800-1732105800@hhsociety.org
SUMMARY:Needlecraft Goup
DESCRIPTION:Charitable needlecraft group meets Wednesdays at 12:30pm in the Game Room.  All skill levels are welcome.  $20 Annual dues. For questions\, or to register\, call Linda at (914) 277-2776 or Ginger at (914) 617-9058
URL:https://hhsociety.org/event/needlecraft-goup/2024-11-20/
LOCATION:Game Room
END:VEVENT
BEGIN:VEVENT
DTSTART;TZID=America/New_York:20241120T130000
DTEND;TZID=America/New_York:20241120T130000
DTSTAMP:20260425T102857
CREATED:20241029T173525Z
LAST-MODIFIED:20241029T173525Z
UID:10006486-1732107600-1732107600@hhsociety.org
SUMMARY:Chess Club
DESCRIPTION:Wednesdays from 1 to 3:30 pm in Lake Lodge’s Room 3. We are a group of chess\nenthusiasts who enjoy coming together to play some friendly games of chess! Beginners are welcome!\nBring your chess set if you have one. Some playing pairs may choose to use a chess clock; bring this\,\nalso\, if you have one. For more information\, contact Pat Posluszny at patpugs@comcast.net or 914-276-\n6550.
URL:https://hhsociety.org/event/chess-club-2/2024-11-20/
LOCATION:Lake Lodge Room 3
END:VEVENT
BEGIN:VEVENT
DTSTART;TZID=America/New_York:20241120T130000
DTEND;TZID=America/New_York:20241120T130000
DTSTAMP:20260425T102857
CREATED:20241029T182733Z
LAST-MODIFIED:20241029T182733Z
UID:10009275-1732107600-1732107600@hhsociety.org
SUMMARY:Shuffleboard Group
DESCRIPTION:October through March on Wednesdays from 1 to 3 pm\, and on Saturdays\nfrom 9:30 am to noon\, in the Gym.
URL:https://hhsociety.org/event/shuffleboard-group-2/2024-11-20/
LOCATION:Gym\, Fitness Center
END:VEVENT
BEGIN:VEVENT
DTSTART;TZID=America/New_York:20241120T133000
DTEND;TZID=America/New_York:20241120T133000
DTSTAMP:20260425T102857
CREATED:20241101T142425Z
LAST-MODIFIED:20241101T142425Z
UID:10009642-1732109400-1732109400@hhsociety.org
SUMMARY:Society Board Monthly Meeting
DESCRIPTION:All unit owners are welcome to attend the meeting in person.  It will be broadcast on Comcast’s channels 21 and 1070 while in progress and will be rebroadcast daily on those channels at 2 and 7 pm until the next meeting occurs.  It can also be viewed on the Society website at hhsociety.org; go to Heritage Hills Society\, then choose Board Meetings & Documents. \nOwners are welcome to raise matters of concern in person at the meeting.  Residents who cannot attend may send an email to society@hhsociety.org\, call 914-276-2908\, or mail them to Society Board\, 8 Heritage Hills\, Somers\, NY 10589.  They will be discussed at the end of the meeting.  Provide your name and unit number on correspondence.
URL:https://hhsociety.org/event/society-board-monthly-meeting/
LOCATION:Heritage Room
END:VEVENT
BEGIN:VEVENT
DTSTART;TZID=America/New_York:20241121T083000
DTEND;TZID=America/New_York:20241121T083000
DTSTAMP:20260425T102857
CREATED:20241023T161616Z
LAST-MODIFIED:20241023T175018Z
UID:10002856-1732177800-1732177800@hhsociety.org
SUMMARY:Linda's Lake Lodge Classes - Body Conditioning
DESCRIPTION:8:30am Tuesdays and Thursdays \nAll Classes are $10 per class.  Register at the start of the month. Contact Linda Zeiss Instructor at labzeiss@gmail.com or (718) 541-0861
URL:https://hhsociety.org/event/lindas-lake-lodge-classes-body-conditioning-2-2/2024-11-21/
LOCATION:Lake Lodge Upper Level
END:VEVENT
BEGIN:VEVENT
DTSTART;TZID=America/New_York:20241121T093000
DTEND;TZID=America/New_York:20241121T093000
DTSTAMP:20260425T102857
CREATED:20241023T160957Z
LAST-MODIFIED:20241023T161031Z
UID:10002334-1732181400-1732181400@hhsociety.org
SUMMARY:Cardio / Strength / Stretch Class with Lori
DESCRIPTION:Tuesdays and Thursdays from 9:30-10:30am in the Gym. Join Lori for a fun\, safe\, effective workout.  Low impact cardio\, resistance training\, balance\, strength and breath work – all set to great music!  Appropriate for all levels.  Resistance bands and weights available.  No mats needed.  Fee $10 per class.  Try the first class for free!  Class is also available on ZOOM. Email Lori for more information or to register at eefyjiig@gmail.com
URL:https://hhsociety.org/event/cardio-strength-stretch-class-with-lori-4/2024-11-21/
LOCATION:Gym\, Fitness Center
END:VEVENT
END:VCALENDAR