BEGIN:VCALENDAR
VERSION:2.0
PRODID:-//Heritage Hills Society - ECPv6.15.20//NONSGML v1.0//EN
CALSCALE:GREGORIAN
METHOD:PUBLISH
X-ORIGINAL-URL:https://hhsociety.org
X-WR-CALDESC:Events for Heritage Hills Society
REFRESH-INTERVAL;VALUE=DURATION:PT1H
X-Robots-Tag:noindex
X-PUBLISHED-TTL:PT1H
BEGIN:VTIMEZONE
TZID:America/New_York
BEGIN:DAYLIGHT
TZOFFSETFROM:-0500
TZOFFSETTO:-0400
TZNAME:EDT
DTSTART:20230312T070000
END:DAYLIGHT
BEGIN:STANDARD
TZOFFSETFROM:-0400
TZOFFSETTO:-0500
TZNAME:EST
DTSTART:20231105T060000
END:STANDARD
BEGIN:DAYLIGHT
TZOFFSETFROM:-0500
TZOFFSETTO:-0400
TZNAME:EDT
DTSTART:20240310T070000
END:DAYLIGHT
BEGIN:STANDARD
TZOFFSETFROM:-0400
TZOFFSETTO:-0500
TZNAME:EST
DTSTART:20241103T060000
END:STANDARD
BEGIN:DAYLIGHT
TZOFFSETFROM:-0500
TZOFFSETTO:-0400
TZNAME:EDT
DTSTART:20250309T070000
END:DAYLIGHT
BEGIN:STANDARD
TZOFFSETFROM:-0400
TZOFFSETTO:-0500
TZNAME:EST
DTSTART:20251102T060000
END:STANDARD
END:VTIMEZONE
BEGIN:VEVENT
DTSTART;TZID=America/New_York:20241203T083000
DTEND;TZID=America/New_York:20241203T083000
DTSTAMP:20260425T085014
CREATED:20241023T161410Z
LAST-MODIFIED:20241023T174857Z
UID:10002596-1733214600-1733214600@hhsociety.org
SUMMARY:Linda's Lake Lodge Classes - Body Conditioning
DESCRIPTION:8:30am Tuesdays and Thursdays \nAll Classes are $10 per class.  Register at the start of the month. Contact Linda Zeiss Instructor at labzeiss@gmail.com or (718) 541-0861
URL:https://hhsociety.org/event/lindas-lake-lodge-classes-body-conditioning/2024-12-03/
LOCATION:Lake Lodge Upper Level
END:VEVENT
BEGIN:VEVENT
DTSTART;TZID=America/New_York:20241203T093000
DTEND;TZID=America/New_York:20241203T093000
DTSTAMP:20260425T085014
CREATED:20241023T160743Z
LAST-MODIFIED:20241023T160743Z
UID:10002074-1733218200-1733218200@hhsociety.org
SUMMARY:Cardio / Strength / Stretch Class with Lori
DESCRIPTION:Tuesdays and Thursdays from 9:30-10:30am in the Gym. Join Lori for a fun\, safe\, effective workout.  Low impact cardio\, resistance training\, balance\, strength and breath work – all set to great music!  Appropriate for all levels.  Resistance bands and weights available.  No mats needed.  Fee $10 per class.  Try the first class for free!  Class is also available on ZOOM. Email Lori for more information or to register at eefyjiig@gmail.com
URL:https://hhsociety.org/event/cardio-strength-stretch-class-with-lori-2/2024-12-03/
LOCATION:Gym\, Fitness Center
END:VEVENT
BEGIN:VEVENT
DTSTART;TZID=America/New_York:20241203T093000
DTEND;TZID=America/New_York:20241203T093000
DTSTAMP:20260425T085014
CREATED:20241023T162528Z
LAST-MODIFIED:20241023T175103Z
UID:10003118-1733218200-1733218200@hhsociety.org
SUMMARY:Linda's Lake Lodge Classes - Rock & Roll Workout
DESCRIPTION:9:30am Tuesdays \nAll Classes are $10 per class.  Register at the start of the month. Contact Linda Zeiss Instructor at labzeiss@gmail.com or (718) 541-0861 \n  \n  \n  \n 
URL:https://hhsociety.org/event/lindas-lake-lodge-classes-rock-roll-workout/2024-12-03/
LOCATION:Lake Lodge Upper Level
END:VEVENT
BEGIN:VEVENT
DTSTART;TZID=America/New_York:20241203T100000
DTEND;TZID=America/New_York:20241203T100000
DTSTAMP:20260425T085014
CREATED:20241023T155520Z
LAST-MODIFIED:20241023T155520Z
UID:10001813-1733220000-1733220000@hhsociety.org
SUMMARY:Chair Yoga with Satish
DESCRIPTION:Practice Tuesdays from 10-11:15am in Lake Lodge Room 3 with Satish Gambhir\, Registered Yoga (500-RYT) and acupressure teacher with over 20 years of experience.  Chair Yoga aimed at toning the entire body and increasing flexibility.  Breathing and meditation for relaxation and mind-body connection.  Live music.  $10 per class.  Call or email to register at (914) 646-0887 or satishgambhir@gmail.com
URL:https://hhsociety.org/event/chair-yoga-with-satish-2/2024-12-03/
LOCATION:Lake Lodge Room 3
END:VEVENT
BEGIN:VEVENT
DTSTART;TZID=America/New_York:20241203T100000
DTEND;TZID=America/New_York:20241203T100000
DTSTAMP:20260425T085014
CREATED:20241029T182020Z
LAST-MODIFIED:20241029T182020Z
UID:10008755-1733220000-1733220000@hhsociety.org
SUMMARY:Shakespeare Group
DESCRIPTION:Tuesdays from 10 to 11:30 am in the Activities Center’s Game Room\,\nand on Zoom. See a film of a classic Shakespeare play\, then read it and join in lively discussions. All are\nwelcome! For more information\, call Susan Ray at 914-391-6686 or Margaret Howlett at 973-746-7816.
URL:https://hhsociety.org/event/shakespeare-group-2/2024-12-03/
LOCATION:Game Room
END:VEVENT
BEGIN:VEVENT
DTSTART;TZID=America/New_York:20241203T110000
DTEND;TZID=America/New_York:20241203T110000
DTSTAMP:20260425T085014
CREATED:20241029T174628Z
LAST-MODIFIED:20241029T174628Z
UID:10007531-1733223600-1733223600@hhsociety.org
SUMMARY:Mah Jongg Tuesdays
DESCRIPTION:Tuesdays from 11 am to 1 pm Call Cheryl Milde at 914-342-3068.
URL:https://hhsociety.org/event/mah-jongg-tuesdays/2024-12-03/
LOCATION:Lake Lodge Room 2
END:VEVENT
BEGIN:VEVENT
DTSTART;TZID=America/New_York:20241203T140000
DTEND;TZID=America/New_York:20241203T140000
DTSTAMP:20260425T085014
CREATED:20241023T182339Z
LAST-MODIFIED:20241023T182339Z
UID:10005381-1733234400-1733234400@hhsociety.org
SUMMARY:Contemporary Fiction Book Club
DESCRIPTION:Openings are available for residents interested in\njoining The Contemporary Fiction Book Club. The club meets on the first Tuesday of each month\nfrom 2:00-3:30. Contact Myra Hopper at 520 390-5523 or myrahopper@gmail.com.
URL:https://hhsociety.org/event/contemporary-fiction-book-club-2/2024-12-03/
LOCATION:Game Room
END:VEVENT
BEGIN:VEVENT
DTSTART;TZID=America/New_York:20241204T090000
DTEND;TZID=America/New_York:20241204T090000
DTSTAMP:20260425T085014
CREATED:20241029T184500Z
LAST-MODIFIED:20241029T184500Z
UID:10009381-1733302800-1733302800@hhsociety.org
SUMMARY:10-A-Men Club
DESCRIPTION:Come to the Activities Center’s Heritage Room on Wednesdays at 9 am and have\ncontinental breakfast for $2. The meeting starts at 10 am.
URL:https://hhsociety.org/event/10-a-men-club/2024-12-04/
LOCATION:Heritage Room
END:VEVENT
BEGIN:VEVENT
DTSTART;TZID=America/New_York:20241204T093000
DTEND;TZID=America/New_York:20241204T093000
DTSTAMP:20260425T085014
CREATED:20241023T153549Z
LAST-MODIFIED:20241023T153549Z
UID:10000709-1733304600-1733304600@hhsociety.org
SUMMARY:Sketch Workshop
DESCRIPTION:Wednesdays from 9:30-11:30am in the Activities Center’s Studio A.  Portraits\, figures\, still lifes.  Bring your choice of paper\, pen\, pencil\, watercolor\, pastel\, etc.  Models are welcome to pose for 20 minutes (clothed!).  No fee\, no teacher\, but guidance available.
URL:https://hhsociety.org/event/sketch-workshop-3/2024-12-04/
LOCATION:Art Room B
END:VEVENT
BEGIN:VEVENT
DTSTART;TZID=America/New_York:20241204T100000
DTEND;TZID=America/New_York:20241204T100000
DTSTAMP:20260425T085014
CREATED:20241023T182940Z
LAST-MODIFIED:20241023T183355Z
UID:10005967-1733306400-1733306400@hhsociety.org
SUMMARY:Social Bridge
DESCRIPTION:Wednesdays at 10am at Lake Lodge
URL:https://hhsociety.org/event/social-bridge-2/2024-12-04/
LOCATION:Lake Lodge Room 2
END:VEVENT
BEGIN:VEVENT
DTSTART;TZID=America/New_York:20241204T120000
DTEND;TZID=America/New_York:20241204T120000
DTSTAMP:20260425T085014
CREATED:20241029T174331Z
LAST-MODIFIED:20241029T174331Z
UID:10007010-1733313600-1733313600@hhsociety.org
SUMMARY:Mah Jongg Wednesdays
DESCRIPTION:Wednesdays at\nnoon in the Activities Center (Contact Carol Tocci 914-471-5689)
URL:https://hhsociety.org/event/mah-jongg-wednesdays/2024-12-04/
LOCATION:Room 2/3
END:VEVENT
BEGIN:VEVENT
DTSTART;TZID=America/New_York:20241204T123000
DTEND;TZID=America/New_York:20241204T123000
DTSTAMP:20260425T085014
CREATED:20241023T152857Z
LAST-MODIFIED:20241023T152857Z
UID:10000389-1733315400-1733315400@hhsociety.org
SUMMARY:Needlecraft Goup
DESCRIPTION:Charitable needlecraft group meets Wednesdays at 12:30pm in the Game Room.  All skill levels are welcome.  $20 Annual dues. For questions\, or to register\, call Linda at (914) 277-2776 or Ginger at (914) 617-9058
URL:https://hhsociety.org/event/needlecraft-goup/2024-12-04/
LOCATION:Game Room
END:VEVENT
BEGIN:VEVENT
DTSTART;TZID=America/New_York:20241204T130000
DTEND;TZID=America/New_York:20241204T130000
DTSTAMP:20260425T085014
CREATED:20241029T173525Z
LAST-MODIFIED:20241029T173525Z
UID:10006488-1733317200-1733317200@hhsociety.org
SUMMARY:Chess Club
DESCRIPTION:Wednesdays from 1 to 3:30 pm in Lake Lodge’s Room 3. We are a group of chess\nenthusiasts who enjoy coming together to play some friendly games of chess! Beginners are welcome!\nBring your chess set if you have one. Some playing pairs may choose to use a chess clock; bring this\,\nalso\, if you have one. For more information\, contact Pat Posluszny at patpugs@comcast.net or 914-276-\n6550.
URL:https://hhsociety.org/event/chess-club-2/2024-12-04/
LOCATION:Lake Lodge Room 3
END:VEVENT
BEGIN:VEVENT
DTSTART;TZID=America/New_York:20241204T130000
DTEND;TZID=America/New_York:20241204T130000
DTSTAMP:20260425T085014
CREATED:20241029T182733Z
LAST-MODIFIED:20241029T182733Z
UID:10009277-1733317200-1733317200@hhsociety.org
SUMMARY:Shuffleboard Group
DESCRIPTION:October through March on Wednesdays from 1 to 3 pm\, and on Saturdays\nfrom 9:30 am to noon\, in the Gym.
URL:https://hhsociety.org/event/shuffleboard-group-2/2024-12-04/
LOCATION:Gym\, Fitness Center
END:VEVENT
BEGIN:VEVENT
DTSTART;TZID=America/New_York:20241205T083000
DTEND;TZID=America/New_York:20241205T083000
DTSTAMP:20260425T085014
CREATED:20241023T161616Z
LAST-MODIFIED:20241023T175018Z
UID:10002858-1733387400-1733387400@hhsociety.org
SUMMARY:Linda's Lake Lodge Classes - Body Conditioning
DESCRIPTION:8:30am Tuesdays and Thursdays \nAll Classes are $10 per class.  Register at the start of the month. Contact Linda Zeiss Instructor at labzeiss@gmail.com or (718) 541-0861
URL:https://hhsociety.org/event/lindas-lake-lodge-classes-body-conditioning-2-2/2024-12-05/
LOCATION:Lake Lodge Upper Level
END:VEVENT
BEGIN:VEVENT
DTSTART;TZID=America/New_York:20241205T093000
DTEND;TZID=America/New_York:20241205T093000
DTSTAMP:20260425T085014
CREATED:20241023T160957Z
LAST-MODIFIED:20241023T161031Z
UID:10002336-1733391000-1733391000@hhsociety.org
SUMMARY:Cardio / Strength / Stretch Class with Lori
DESCRIPTION:Tuesdays and Thursdays from 9:30-10:30am in the Gym. Join Lori for a fun\, safe\, effective workout.  Low impact cardio\, resistance training\, balance\, strength and breath work – all set to great music!  Appropriate for all levels.  Resistance bands and weights available.  No mats needed.  Fee $10 per class.  Try the first class for free!  Class is also available on ZOOM. Email Lori for more information or to register at eefyjiig@gmail.com
URL:https://hhsociety.org/event/cardio-strength-stretch-class-with-lori-4/2024-12-05/
LOCATION:Gym\, Fitness Center
END:VEVENT
BEGIN:VEVENT
DTSTART;TZID=America/New_York:20241205T093000
DTEND;TZID=America/New_York:20241205T093000
DTSTAMP:20260425T085014
CREATED:20241023T174709Z
LAST-MODIFIED:20241023T174814Z
UID:10003380-1733391000-1733391000@hhsociety.org
SUMMARY:Linda's Lake Lodge Classes - Yoga Pilates
DESCRIPTION:9:30am Thursdays \nAll Classes are $10 per class.  Register at the start of the month. Contact Linda Zeiss Instructor at labzeiss@gmail.com or (718) 541-0861
URL:https://hhsociety.org/event/lindas-lake-lodge-classes-yoga-pilates/2024-12-05/
LOCATION:Lake Lodge Upper Level
END:VEVENT
BEGIN:VEVENT
DTSTART;TZID=America/New_York:20241205T100000
DTEND;TZID=America/New_York:20241205T100000
DTSTAMP:20260425T085014
CREATED:20241029T182512Z
LAST-MODIFIED:20241029T182512Z
UID:10009016-1733392800-1733392800@hhsociety.org
SUMMARY:Ping Pong
DESCRIPTION:Thursdays at 10 am in the Activities Center’s Game Room. Open to all residents. Come\nhang out and play!
URL:https://hhsociety.org/event/ping-pong/2024-12-05/
LOCATION:Game Room
END:VEVENT
BEGIN:VEVENT
DTSTART;TZID=America/New_York:20241205T110000
DTEND;TZID=America/New_York:20241205T110000
DTSTAMP:20260425T085014
CREATED:20241023T182146Z
LAST-MODIFIED:20241023T182146Z
UID:10005321-1733396400-1733396400@hhsociety.org
SUMMARY:Spanish Conversation
DESCRIPTION:Meets the 1st Thursday of the month in Lake Lodge’s\nRoom 1 at 11 am. Group is open to intermediate through fluent Spanish speakers. ¡Vengan!
URL:https://hhsociety.org/event/spanish-conversation/2024-12-05/
LOCATION:Lake Lodge Room 1
END:VEVENT
BEGIN:VEVENT
DTSTART;TZID=America/New_York:20241205T110000
DTEND;TZID=America/New_York:20241205T110000
DTSTAMP:20260425T085014
CREATED:20241029T174738Z
LAST-MODIFIED:20241029T174738Z
UID:10007792-1733396400-1733396400@hhsociety.org
SUMMARY:Mah Jongg Thursdays
DESCRIPTION:Thursdays from 11 am to 1 pm Call Cheryl Milde at 914-342-3068.
URL:https://hhsociety.org/event/mah-jongg-thursdays/2024-12-05/
LOCATION:Lake Lodge Room 2
END:VEVENT
BEGIN:VEVENT
DTSTART;TZID=America/New_York:20241205T123000
DTEND;TZID=America/New_York:20241205T123000
DTSTAMP:20260425T085014
CREATED:20241023T182703Z
LAST-MODIFIED:20241023T182703Z
UID:10005707-1733401800-1733401800@hhsociety.org
SUMMARY:Duplicate Bridge
DESCRIPTION:Mondays and Thursdays at 12:30pm in the Activities Center.  For information\, call Marie at (914) 277-4266
URL:https://hhsociety.org/event/duplicate-bridge-4/2024-12-05/
LOCATION:Heritage Room
END:VEVENT
BEGIN:VEVENT
DTSTART;TZID=America/New_York:20241205T123000
DTEND;TZID=America/New_York:20241205T123000
DTSTAMP:20260425T085014
CREATED:20241029T175246Z
LAST-MODIFIED:20241029T175246Z
UID:10008370-1733401800-1733401800@hhsociety.org
SUMMARY:Alzheimer's/Dementia Caregivers Support Group
DESCRIPTION:Caring for someone with Alzheimer&#39;s/Dementia is\na difficult and painful challenge. A support group can help. Meetings take place the first Thursday of the\nmonth at 12:30 pm in Lake Lodge’s Room 1. Fee: $20 per session. Facilitated by Linda Ludwig\, Ph.D. To\nregister\, call 914-617-9328 or email ludwiglr@aol.com.
URL:https://hhsociety.org/event/alzheimers-dementia-caregivers-support-group-2/2024-12-05/
LOCATION:Lake Lodge Room 1
END:VEVENT
BEGIN:VEVENT
DTSTART;TZID=America/New_York:20241205T130000
DTEND;TZID=America/New_York:20241205T130000
DTSTAMP:20260425T085014
CREATED:20241029T174856Z
LAST-MODIFIED:20241029T174856Z
UID:10008053-1733403600-1733403600@hhsociety.org
SUMMARY:Scrabble
DESCRIPTION:Thursdays starting promptly at 1 pm in Room 2 in the Activities Center. Casual\nScrabble game play. Play 1 or more games. All levels of play\, including newbies\, are welcome. For more\ninformation\, just walk in or contact Susan at 914-617-9228 or ciwhitestar@comcast.net.
URL:https://hhsociety.org/event/scrabble/2024-12-05/
LOCATION:Room 2/3
END:VEVENT
BEGIN:VEVENT
DTSTART;TZID=America/New_York:20241205T130000
DTEND;TZID=America/New_York:20241205T130000
DTSTAMP:20260425T085014
CREATED:20241113T153705Z
LAST-MODIFIED:20241113T153705Z
UID:10009644-1733403600-1733403600@hhsociety.org
SUMMARY:Thriving in your Prime
DESCRIPTION:Join us every other week on Thursday at 1pm in Lake Lodge Room 3 to discuss relevant topics and learn strategies that will help those over the age of 50 navigate the challenges they are confronted with.  Each time we meet we will discuss a new topic\, and you will learn strategies you can implement in your own life.  The investment in each gathering is one hour of your time and $5!
URL:https://hhsociety.org/event/thriving-in-your-prime-2/2024-12-05/
LOCATION:Lake Lodge Room 3
END:VEVENT
BEGIN:VEVENT
DTSTART;TZID=America/New_York:20241205T170000
DTEND;TZID=America/New_York:20241205T170000
DTSTAMP:20260425T085014
CREATED:20241029T181105Z
LAST-MODIFIED:20241029T181105Z
UID:10008691-1733418000-1733418000@hhsociety.org
SUMMARY:Rainbow Connection Club
DESCRIPTION:A group for LGBTQ members and their families\, friends\, and\nneighbors. All are welcome. We meet the first Thursday of each month at Lake Lodge from 5 to 7 pm.\nFor more information contact Joanne at 914-450-5609.
URL:https://hhsociety.org/event/rainbow-connection-club-2/2024-12-05/
LOCATION:Lake Lodge Room 3
END:VEVENT
BEGIN:VEVENT
DTSTART;TZID=America/New_York:20241206T100000
DTEND;TZID=America/New_York:20241206T100000
DTSTAMP:20260425T085014
CREATED:20241023T154744Z
LAST-MODIFIED:20241023T181006Z
UID:10004945-1733479200-1733479200@hhsociety.org
SUMMARY:Gentle Yoga with Lisa
DESCRIPTION:Mondays at 11:30am and Fridays at 10am in the Lake Lodge’s Upper Level.  $12 for a 75-minute class.  Contact lisaathomas@optonline.net or 914-497-0243 with questions or to register.
URL:https://hhsociety.org/event/gentle-yoga-with-lisa-4/2024-12-06/
LOCATION:Lake Lodge Upper Level
END:VEVENT
BEGIN:VEVENT
DTSTART;TZID=America/New_York:20241206T130000
DTEND;TZID=America/New_York:20241206T130000
DTSTAMP:20260425T085014
CREATED:20241029T174509Z
LAST-MODIFIED:20241029T174509Z
UID:10007271-1733490000-1733490000@hhsociety.org
SUMMARY:Mah Jongg Fridays
DESCRIPTION:Fridays at 1 pm in Lake Lodge \nCall Cheryl Milde at 914-342-3068.
URL:https://hhsociety.org/event/mah-jongg-fridays/2024-12-06/
LOCATION:Lake Lodge Room 3
END:VEVENT
BEGIN:VEVENT
DTSTART;TZID=America/New_York:20241206T190000
DTEND;TZID=America/New_York:20241206T190000
DTSTAMP:20260425T085014
CREATED:20241023T153853Z
LAST-MODIFIED:20241023T153853Z
UID:10000965-1733511600-1733511600@hhsociety.org
SUMMARY:Friday Night Social Dance
DESCRIPTION:The first Friday of every month from 7-10pm in the Activities Center’s Heritage Room.  $10 per person includes coffee and cake.  BYOB.  For more information\, call Angela Viscogliosi at (914) 393-8736
URL:https://hhsociety.org/event/friday-night-social-dance-2/2024-12-06/
LOCATION:Heritage Room
END:VEVENT
BEGIN:VEVENT
DTSTART;TZID=America/New_York:20241207T090000
DTEND;TZID=America/New_York:20241207T090000
DTSTAMP:20260425T085014
CREATED:20241023T180749Z
LAST-MODIFIED:20241023T180749Z
UID:10004425-1733562000-1733562000@hhsociety.org
SUMMARY:Vinyasa Yoga with Joe
DESCRIPTION:Saturdays at 9 am in Lake Lodge’s Upper Level. $12 per class. To\nregister\, email Joe Ferrari at josephferrari@me.com.
URL:https://hhsociety.org/event/vinyasa-yoga-with-joe-2/2024-12-07/
LOCATION:Lake Lodge Upper Level
END:VEVENT
BEGIN:VEVENT
DTSTART;TZID=America/New_York:20241207T093000
DTEND;TZID=America/New_York:20241207T093000
DTSTAMP:20260425T085014
CREATED:20241029T182938Z
LAST-MODIFIED:20241029T182938Z
UID:10009299-1733563800-1733563800@hhsociety.org
SUMMARY:Shuffleboard Group
DESCRIPTION:October through March on Wednesdays from 1 to 3 pm\, and on Saturdays\nfrom 9:30 am to noon\, in the Gym.
URL:https://hhsociety.org/event/shuffleboard-group-4/2024-12-07/
LOCATION:Gym\, Fitness Center
END:VEVENT
END:VCALENDAR