BEGIN:VCALENDAR
VERSION:2.0
PRODID:-//Heritage Hills Society - ECPv6.15.20//NONSGML v1.0//EN
CALSCALE:GREGORIAN
METHOD:PUBLISH
X-ORIGINAL-URL:https://hhsociety.org
X-WR-CALDESC:Events for Heritage Hills Society
REFRESH-INTERVAL;VALUE=DURATION:PT1H
X-Robots-Tag:noindex
X-PUBLISHED-TTL:PT1H
BEGIN:VTIMEZONE
TZID:America/New_York
BEGIN:DAYLIGHT
TZOFFSETFROM:-0500
TZOFFSETTO:-0400
TZNAME:EDT
DTSTART:20240310T070000
END:DAYLIGHT
BEGIN:STANDARD
TZOFFSETFROM:-0400
TZOFFSETTO:-0500
TZNAME:EST
DTSTART:20241103T060000
END:STANDARD
BEGIN:DAYLIGHT
TZOFFSETFROM:-0500
TZOFFSETTO:-0400
TZNAME:EDT
DTSTART:20250309T070000
END:DAYLIGHT
BEGIN:STANDARD
TZOFFSETFROM:-0400
TZOFFSETTO:-0500
TZNAME:EST
DTSTART:20251102T060000
END:STANDARD
BEGIN:DAYLIGHT
TZOFFSETFROM:-0500
TZOFFSETTO:-0400
TZNAME:EDT
DTSTART:20260308T070000
END:DAYLIGHT
BEGIN:STANDARD
TZOFFSETFROM:-0400
TZOFFSETTO:-0500
TZNAME:EST
DTSTART:20261101T060000
END:STANDARD
END:VTIMEZONE
BEGIN:VEVENT
DTSTART;TZID=America/New_York:20250520T083000
DTEND;TZID=America/New_York:20250520T083000
DTSTAMP:20260425T001329
CREATED:20241023T161410Z
LAST-MODIFIED:20241023T174857Z
UID:10002620-1747729800-1747729800@hhsociety.org
SUMMARY:Linda's Lake Lodge Classes - Body Conditioning
DESCRIPTION:8:30am Tuesdays and Thursdays \nAll Classes are $10 per class.  Register at the start of the month. Contact Linda Zeiss Instructor at labzeiss@gmail.com or (718) 541-0861
URL:https://hhsociety.org/event/lindas-lake-lodge-classes-body-conditioning/2025-05-20/
LOCATION:Lake Lodge Upper Level
END:VEVENT
BEGIN:VEVENT
DTSTART;TZID=America/New_York:20250520T093000
DTEND;TZID=America/New_York:20250520T093000
DTSTAMP:20260425T001329
CREATED:20241023T160743Z
LAST-MODIFIED:20241023T160743Z
UID:10002098-1747733400-1747733400@hhsociety.org
SUMMARY:Cardio / Strength / Stretch Class with Lori
DESCRIPTION:Tuesdays and Thursdays from 9:30-10:30am in the Gym. Join Lori for a fun\, safe\, effective workout.  Low impact cardio\, resistance training\, balance\, strength and breath work – all set to great music!  Appropriate for all levels.  Resistance bands and weights available.  No mats needed.  Fee $10 per class.  Try the first class for free!  Class is also available on ZOOM. Email Lori for more information or to register at eefyjiig@gmail.com
URL:https://hhsociety.org/event/cardio-strength-stretch-class-with-lori-2/2025-05-20/
LOCATION:Gym\, Fitness Center
END:VEVENT
BEGIN:VEVENT
DTSTART;TZID=America/New_York:20250520T093000
DTEND;TZID=America/New_York:20250520T093000
DTSTAMP:20260425T001329
CREATED:20241023T162528Z
LAST-MODIFIED:20241023T175103Z
UID:10003142-1747733400-1747733400@hhsociety.org
SUMMARY:Linda's Lake Lodge Classes - Rock & Roll Workout
DESCRIPTION:9:30am Tuesdays \nAll Classes are $10 per class.  Register at the start of the month. Contact Linda Zeiss Instructor at labzeiss@gmail.com or (718) 541-0861 \n  \n  \n  \n 
URL:https://hhsociety.org/event/lindas-lake-lodge-classes-rock-roll-workout/2025-05-20/
LOCATION:Lake Lodge Upper Level
END:VEVENT
BEGIN:VEVENT
DTSTART;TZID=America/New_York:20250520T100000
DTEND;TZID=America/New_York:20250520T100000
DTSTAMP:20260425T001329
CREATED:20241023T155520Z
LAST-MODIFIED:20241023T155520Z
UID:10001837-1747735200-1747735200@hhsociety.org
SUMMARY:Chair Yoga with Satish
DESCRIPTION:Practice Tuesdays from 10-11:15am in Lake Lodge Room 3 with Satish Gambhir\, Registered Yoga (500-RYT) and acupressure teacher with over 20 years of experience.  Chair Yoga aimed at toning the entire body and increasing flexibility.  Breathing and meditation for relaxation and mind-body connection.  Live music.  $10 per class.  Call or email to register at (914) 646-0887 or satishgambhir@gmail.com
URL:https://hhsociety.org/event/chair-yoga-with-satish-2/2025-05-20/
LOCATION:Lake Lodge Room 3
END:VEVENT
BEGIN:VEVENT
DTSTART;TZID=America/New_York:20250520T100000
DTEND;TZID=America/New_York:20250520T100000
DTSTAMP:20260425T001329
CREATED:20241029T182020Z
LAST-MODIFIED:20241029T182020Z
UID:10008779-1747735200-1747735200@hhsociety.org
SUMMARY:Shakespeare Group
DESCRIPTION:Tuesdays from 10 to 11:30 am in the Activities Center’s Game Room\,\nand on Zoom. See a film of a classic Shakespeare play\, then read it and join in lively discussions. All are\nwelcome! For more information\, call Susan Ray at 914-391-6686 or Margaret Howlett at 973-746-7816.
URL:https://hhsociety.org/event/shakespeare-group-2/2025-05-20/
LOCATION:Game Room
END:VEVENT
BEGIN:VEVENT
DTSTART;TZID=America/New_York:20250520T110000
DTEND;TZID=America/New_York:20250520T110000
DTSTAMP:20260425T001329
CREATED:20241029T174628Z
LAST-MODIFIED:20241029T174628Z
UID:10007555-1747738800-1747738800@hhsociety.org
SUMMARY:Mah Jongg Tuesdays
DESCRIPTION:Tuesdays from 11 am to 1 pm Call Cheryl Milde at 914-342-3068.
URL:https://hhsociety.org/event/mah-jongg-tuesdays/2025-05-20/
LOCATION:Lake Lodge Room 2
END:VEVENT
BEGIN:VEVENT
DTSTART;TZID=America/New_York:20250521T090000
DTEND;TZID=America/New_York:20250521T090000
DTSTAMP:20260425T001329
CREATED:20241029T184500Z
LAST-MODIFIED:20241029T184500Z
UID:10009405-1747818000-1747818000@hhsociety.org
SUMMARY:10-A-Men Club
DESCRIPTION:Come to the Activities Center’s Heritage Room on Wednesdays at 9 am and have\ncontinental breakfast for $2. The meeting starts at 10 am.
URL:https://hhsociety.org/event/10-a-men-club/2025-05-21/
LOCATION:Heritage Room
END:VEVENT
BEGIN:VEVENT
DTSTART;TZID=America/New_York:20250521T093000
DTEND;TZID=America/New_York:20250521T093000
DTSTAMP:20260425T001329
CREATED:20241023T153549Z
LAST-MODIFIED:20241023T153549Z
UID:10000733-1747819800-1747819800@hhsociety.org
SUMMARY:Sketch Workshop
DESCRIPTION:Wednesdays from 9:30-11:30am in the Activities Center’s Studio A.  Portraits\, figures\, still lifes.  Bring your choice of paper\, pen\, pencil\, watercolor\, pastel\, etc.  Models are welcome to pose for 20 minutes (clothed!).  No fee\, no teacher\, but guidance available.
URL:https://hhsociety.org/event/sketch-workshop-3/2025-05-21/
LOCATION:Art Room B
END:VEVENT
BEGIN:VEVENT
DTSTART;TZID=America/New_York:20250521T093000
DTEND;TZID=America/New_York:20250521T093000
DTSTAMP:20260425T001329
CREATED:20250514T160936Z
LAST-MODIFIED:20250514T160936Z
UID:10012792-1747819800-1747819800@hhsociety.org
SUMMARY:Bocce Group
DESCRIPTION:Weather permitting. \nFor more information contact Reno DiCristofaro at (914) 500-5160 or Diane Purr at (914) 617-9338
URL:https://hhsociety.org/event/bocce-group-2/2025-05-21/
END:VEVENT
BEGIN:VEVENT
DTSTART;TZID=America/New_York:20250521T100000
DTEND;TZID=America/New_York:20250521T100000
DTSTAMP:20260425T001329
CREATED:20241023T182940Z
LAST-MODIFIED:20241023T183355Z
UID:10005991-1747821600-1747821600@hhsociety.org
SUMMARY:Social Bridge
DESCRIPTION:Wednesdays at 10am at Lake Lodge
URL:https://hhsociety.org/event/social-bridge-2/2025-05-21/
LOCATION:Lake Lodge Room 2
END:VEVENT
BEGIN:VEVENT
DTSTART;TZID=America/New_York:20250521T103000
DTEND;TZID=America/New_York:20250521T103000
DTSTAMP:20260425T001329
CREATED:20250514T143224Z
LAST-MODIFIED:20250514T143224Z
UID:10011638-1747823400-1747823400@hhsociety.org
SUMMARY:Balance and Agility for Active Seniors
DESCRIPTION:Navigate obstacles; strengthen balance; move better for walks\, hikes\, or pickleball. \nLearn from a master teacher with years of experience\, Elena Remais. $80 for 4 weeks\, $25 for drop in. elenathetrainer@yahoo.com or (914) 848-3174
URL:https://hhsociety.org/event/balance-and-agility-for-active-seniors/2025-05-21/
LOCATION:Lake Lodge Upper Level
END:VEVENT
BEGIN:VEVENT
DTSTART;TZID=America/New_York:20250521T120000
DTEND;TZID=America/New_York:20250521T120000
DTSTAMP:20260425T001329
CREATED:20241029T174331Z
LAST-MODIFIED:20241029T174331Z
UID:10007034-1747828800-1747828800@hhsociety.org
SUMMARY:Mah Jongg Wednesdays
DESCRIPTION:Wednesdays at\nnoon in the Activities Center (Contact Carol Tocci 914-471-5689)
URL:https://hhsociety.org/event/mah-jongg-wednesdays/2025-05-21/
LOCATION:Room 2/3
END:VEVENT
BEGIN:VEVENT
DTSTART;TZID=America/New_York:20250521T123000
DTEND;TZID=America/New_York:20250521T123000
DTSTAMP:20260425T001329
CREATED:20241023T152857Z
LAST-MODIFIED:20241023T152857Z
UID:10000413-1747830600-1747830600@hhsociety.org
SUMMARY:Needlecraft Goup
DESCRIPTION:Charitable needlecraft group meets Wednesdays at 12:30pm in the Game Room.  All skill levels are welcome.  $20 Annual dues. For questions\, or to register\, call Linda at (914) 277-2776 or Ginger at (914) 617-9058
URL:https://hhsociety.org/event/needlecraft-goup/2025-05-21/
LOCATION:Game Room
END:VEVENT
BEGIN:VEVENT
DTSTART;TZID=America/New_York:20250521T130000
DTEND;TZID=America/New_York:20250521T130000
DTSTAMP:20260425T001329
CREATED:20241029T173525Z
LAST-MODIFIED:20241029T173525Z
UID:10006512-1747832400-1747832400@hhsociety.org
SUMMARY:Chess Club
DESCRIPTION:Wednesdays from 1 to 3:30 pm in Lake Lodge’s Room 3. We are a group of chess\nenthusiasts who enjoy coming together to play some friendly games of chess! Beginners are welcome!\nBring your chess set if you have one. Some playing pairs may choose to use a chess clock; bring this\,\nalso\, if you have one. For more information\, contact Pat Posluszny at patpugs@comcast.net or 914-276-\n6550.
URL:https://hhsociety.org/event/chess-club-2/2025-05-21/
LOCATION:Lake Lodge Room 3
END:VEVENT
BEGIN:VEVENT
DTSTART;TZID=America/New_York:20250521T133000
DTEND;TZID=America/New_York:20250521T133000
DTSTAMP:20260425T001329
CREATED:20250501T194530Z
LAST-MODIFIED:20250501T200401Z
UID:10010956-1747834200-1747834200@hhsociety.org
SUMMARY:Society Board - Monthly Meeting
DESCRIPTION:All unit owners are welcome to attend the meeting in person.  It will be broadcast on Comcast’s channels 21 and 1070 while in progress and will be rebroadcast daily on those channels at 2 and 7 pm until the next meeting occurs.  It can also be viewed on the Society website at hhsociety.org; go to Heritage Hills Society\, then choose Board Meetings and Documents. \nOwners are welcome to raise matters of concern in person at the meeting.  Residents who cannot attend may send an email to society@hhsociety.org\, call (914) 276-2908\, or mail them to Society Board\, 8 Heritage Hills\, Somers\, NY 10589.  They will be discussed at the end of the meeting.  Provide your name and unit numbers on written correspondence.
URL:https://hhsociety.org/event/society-board-monthly-meeting-2/
LOCATION:Heritage Room
END:VEVENT
BEGIN:VEVENT
DTSTART;TZID=America/New_York:20250521T133000
DTEND;TZID=America/New_York:20250521T133000
DTSTAMP:20260425T001329
CREATED:20250507T142012Z
LAST-MODIFIED:20250507T142012Z
UID:10011259-1747834200-1747834200@hhsociety.org
SUMMARY:Silk Fabric Painting Class
DESCRIPTION:Must sign up for a full four week session. Fee $135 \nContact Evey at (914) 276-0737 or email at eveymusart@comcast.net
URL:https://hhsociety.org/event/silk-fabric-painting-class-2/2025-05-21/
LOCATION:Room B
END:VEVENT
BEGIN:VEVENT
DTSTART;TZID=America/New_York:20250522T083000
DTEND;TZID=America/New_York:20250522T083000
DTSTAMP:20260425T001329
CREATED:20241023T161616Z
LAST-MODIFIED:20241023T175018Z
UID:10002882-1747902600-1747902600@hhsociety.org
SUMMARY:Linda's Lake Lodge Classes - Body Conditioning
DESCRIPTION:8:30am Tuesdays and Thursdays \nAll Classes are $10 per class.  Register at the start of the month. Contact Linda Zeiss Instructor at labzeiss@gmail.com or (718) 541-0861
URL:https://hhsociety.org/event/lindas-lake-lodge-classes-body-conditioning-2-2/2025-05-22/
LOCATION:Lake Lodge Upper Level
END:VEVENT
BEGIN:VEVENT
DTSTART;TZID=America/New_York:20250522T093000
DTEND;TZID=America/New_York:20250522T093000
DTSTAMP:20260425T001329
CREATED:20241023T160957Z
LAST-MODIFIED:20241023T161031Z
UID:10002360-1747906200-1747906200@hhsociety.org
SUMMARY:Cardio / Strength / Stretch Class with Lori
DESCRIPTION:Tuesdays and Thursdays from 9:30-10:30am in the Gym. Join Lori for a fun\, safe\, effective workout.  Low impact cardio\, resistance training\, balance\, strength and breath work – all set to great music!  Appropriate for all levels.  Resistance bands and weights available.  No mats needed.  Fee $10 per class.  Try the first class for free!  Class is also available on ZOOM. Email Lori for more information or to register at eefyjiig@gmail.com
URL:https://hhsociety.org/event/cardio-strength-stretch-class-with-lori-4/2025-05-22/
LOCATION:Gym\, Fitness Center
END:VEVENT
BEGIN:VEVENT
DTSTART;TZID=America/New_York:20250522T093000
DTEND;TZID=America/New_York:20250522T093000
DTSTAMP:20260425T001329
CREATED:20241023T174709Z
LAST-MODIFIED:20241023T174814Z
UID:10003404-1747906200-1747906200@hhsociety.org
SUMMARY:Linda's Lake Lodge Classes - Yoga Pilates
DESCRIPTION:9:30am Thursdays \nAll Classes are $10 per class.  Register at the start of the month. Contact Linda Zeiss Instructor at labzeiss@gmail.com or (718) 541-0861
URL:https://hhsociety.org/event/lindas-lake-lodge-classes-yoga-pilates/2025-05-22/
LOCATION:Lake Lodge Upper Level
END:VEVENT
BEGIN:VEVENT
DTSTART;TZID=America/New_York:20250522T100000
DTEND;TZID=America/New_York:20250522T100000
DTSTAMP:20260425T001329
CREATED:20241029T182512Z
LAST-MODIFIED:20241029T182512Z
UID:10009040-1747908000-1747908000@hhsociety.org
SUMMARY:Ping Pong
DESCRIPTION:Thursdays at 10 am in the Activities Center’s Game Room. Open to all residents. Come\nhang out and play!
URL:https://hhsociety.org/event/ping-pong/2025-05-22/
LOCATION:Game Room
END:VEVENT
BEGIN:VEVENT
DTSTART;TZID=America/New_York:20250522T110000
DTEND;TZID=America/New_York:20250522T110000
DTSTAMP:20260425T001329
CREATED:20241029T174738Z
LAST-MODIFIED:20241029T174738Z
UID:10007816-1747911600-1747911600@hhsociety.org
SUMMARY:Mah Jongg Thursdays
DESCRIPTION:Thursdays from 11 am to 1 pm Call Cheryl Milde at 914-342-3068.
URL:https://hhsociety.org/event/mah-jongg-thursdays/2025-05-22/
LOCATION:Lake Lodge Room 2
END:VEVENT
BEGIN:VEVENT
DTSTART;TZID=America/New_York:20250522T123000
DTEND;TZID=America/New_York:20250522T123000
DTSTAMP:20260425T001329
CREATED:20241023T182703Z
LAST-MODIFIED:20241023T182703Z
UID:10005731-1747917000-1747917000@hhsociety.org
SUMMARY:Duplicate Bridge
DESCRIPTION:Mondays and Thursdays at 12:30pm in the Activities Center.  For information\, call Marie at (914) 277-4266
URL:https://hhsociety.org/event/duplicate-bridge-4/2025-05-22/
LOCATION:Heritage Room
END:VEVENT
BEGIN:VEVENT
DTSTART;TZID=America/New_York:20250522T130000
DTEND;TZID=America/New_York:20250522T130000
DTSTAMP:20260425T001329
CREATED:20241029T174856Z
LAST-MODIFIED:20241029T174856Z
UID:10008077-1747918800-1747918800@hhsociety.org
SUMMARY:Scrabble
DESCRIPTION:Thursdays starting promptly at 1 pm in Room 2 in the Activities Center. Casual\nScrabble game play. Play 1 or more games. All levels of play\, including newbies\, are welcome. For more\ninformation\, just walk in or contact Susan at 914-617-9228 or ciwhitestar@comcast.net.
URL:https://hhsociety.org/event/scrabble/2025-05-22/
LOCATION:Room 2/3
END:VEVENT
BEGIN:VEVENT
DTSTART;TZID=America/New_York:20250522T130000
DTEND;TZID=America/New_York:20250522T130000
DTSTAMP:20260425T001329
CREATED:20241113T153705Z
LAST-MODIFIED:20241113T153705Z
UID:10009656-1747918800-1747918800@hhsociety.org
SUMMARY:Thriving in your Prime
DESCRIPTION:Join us every other week on Thursday at 1pm in Lake Lodge Room 3 to discuss relevant topics and learn strategies that will help those over the age of 50 navigate the challenges they are confronted with.  Each time we meet we will discuss a new topic\, and you will learn strategies you can implement in your own life.  The investment in each gathering is one hour of your time and $5!
URL:https://hhsociety.org/event/thriving-in-your-prime-2/2025-05-22/
LOCATION:Lake Lodge Room 3
END:VEVENT
BEGIN:VEVENT
DTSTART;TZID=America/New_York:20250522T160000
DTEND;TZID=America/New_York:20250522T170000
DTSTAMP:20260425T001329
CREATED:20250507T134022Z
LAST-MODIFIED:20250507T134022Z
UID:10011021-1747929600-1747933200@hhsociety.org
SUMMARY:I Love Art Class with Miss. Judika
DESCRIPTION:After school Art in Heritage Hills for children ages grade K-6. \nTo register call Judika at (914) 438-6750 \n$20 per class; all 2 for $60
URL:https://hhsociety.org/event/i-love-art-class-with-miss-judika/2025-05-22/
LOCATION:Art Room A
END:VEVENT
BEGIN:VEVENT
DTSTART;TZID=America/New_York:20250523T090000
DTEND;TZID=America/New_York:20250523T090000
DTSTAMP:20260425T001329
CREATED:20250514T152237Z
LAST-MODIFIED:20250514T152237Z
UID:10011959-1747990800-1747990800@hhsociety.org
SUMMARY:Continuum/Fluid Form Movement\, Mindfulness\, and Meditation with Melanie Gambino
DESCRIPTION:Pre-registration required. $15 per class \nFor more information and to reserve your place\, call\, text\, or email Melanie at (914) 588-2450 or melaniegambino1@gmail.com
URL:https://hhsociety.org/event/continuum-fluid-form-movement-mindfulness-and-meditation-with-melanie-gambino/2025-05-23/
LOCATION:Lake Lodge Room 3
END:VEVENT
BEGIN:VEVENT
DTSTART;TZID=America/New_York:20250523T100000
DTEND;TZID=America/New_York:20250523T100000
DTSTAMP:20260425T001329
CREATED:20241023T154744Z
LAST-MODIFIED:20241023T181006Z
UID:10004969-1747994400-1747994400@hhsociety.org
SUMMARY:Gentle Yoga with Lisa
DESCRIPTION:Mondays at 11:30am and Fridays at 10am in the Lake Lodge’s Upper Level.  $12 for a 75-minute class.  Contact lisaathomas@optonline.net or 914-497-0243 with questions or to register.
URL:https://hhsociety.org/event/gentle-yoga-with-lisa-4/2025-05-23/
LOCATION:Lake Lodge Upper Level
END:VEVENT
BEGIN:VEVENT
DTSTART;TZID=America/New_York:20250523T110000
DTEND;TZID=America/New_York:20250523T110000
DTSTAMP:20260425T001329
CREATED:20241023T181829Z
LAST-MODIFIED:20241023T181829Z
UID:10005207-1747998000-1747998000@hhsociety.org
SUMMARY:French Conversation
DESCRIPTION:Meets the 2nd and 4th Friday of the month at Lake Lodge in Room 1\nfrom 11 am to noon. Members should have a basic knowledge of French conversation but need not be\nfluent. Refresh your French language skills and laugh and learn with us. If you have any questions\, call\nCarole Ellis 914-260-9182 or email her at carellis14@yahoo.com.
URL:https://hhsociety.org/event/french-conversation/2025-05-23/
LOCATION:Lake Lodge Room 1
END:VEVENT
BEGIN:VEVENT
DTSTART;TZID=America/New_York:20250523T130000
DTEND;TZID=America/New_York:20250523T130000
DTSTAMP:20260425T001329
CREATED:20241029T174509Z
LAST-MODIFIED:20241029T174509Z
UID:10007295-1748005200-1748005200@hhsociety.org
SUMMARY:Mah Jongg Fridays
DESCRIPTION:Fridays at 1 pm in Lake Lodge \nCall Cheryl Milde at 914-342-3068.
URL:https://hhsociety.org/event/mah-jongg-fridays/2025-05-23/
LOCATION:Lake Lodge Room 3
END:VEVENT
BEGIN:VEVENT
DTSTART;TZID=America/New_York:20250523T161500
DTEND;TZID=America/New_York:20250523T161500
DTSTAMP:20260425T001329
CREATED:20250507T132923Z
LAST-MODIFIED:20250507T132923Z
UID:10011018-1748016900-1748016900@hhsociety.org
SUMMARY:Environmental Club Book Discussion
DESCRIPTION:
URL:https://hhsociety.org/event/environmental-club-book-discussion/
LOCATION:Room 2/3
END:VEVENT
END:VCALENDAR