BEGIN:VCALENDAR
VERSION:2.0
PRODID:-//Heritage Hills Society - ECPv6.15.20//NONSGML v1.0//EN
CALSCALE:GREGORIAN
METHOD:PUBLISH
X-WR-CALNAME:Heritage Hills Society
X-ORIGINAL-URL:https://hhsociety.org
X-WR-CALDESC:Events for Heritage Hills Society
REFRESH-INTERVAL;VALUE=DURATION:PT1H
X-Robots-Tag:noindex
X-PUBLISHED-TTL:PT1H
BEGIN:VTIMEZONE
TZID:America/New_York
BEGIN:DAYLIGHT
TZOFFSETFROM:-0500
TZOFFSETTO:-0400
TZNAME:EDT
DTSTART:20240310T070000
END:DAYLIGHT
BEGIN:STANDARD
TZOFFSETFROM:-0400
TZOFFSETTO:-0500
TZNAME:EST
DTSTART:20241103T060000
END:STANDARD
BEGIN:DAYLIGHT
TZOFFSETFROM:-0500
TZOFFSETTO:-0400
TZNAME:EDT
DTSTART:20250309T070000
END:DAYLIGHT
BEGIN:STANDARD
TZOFFSETFROM:-0400
TZOFFSETTO:-0500
TZNAME:EST
DTSTART:20251102T060000
END:STANDARD
BEGIN:DAYLIGHT
TZOFFSETFROM:-0500
TZOFFSETTO:-0400
TZNAME:EDT
DTSTART:20260308T070000
END:DAYLIGHT
BEGIN:STANDARD
TZOFFSETFROM:-0400
TZOFFSETTO:-0500
TZNAME:EST
DTSTART:20261101T060000
END:STANDARD
END:VTIMEZONE
BEGIN:VEVENT
DTSTART;TZID=America/New_York:20250603T133000
DTEND;TZID=America/New_York:20250603T133000
DTSTAMP:20260424T235630
CREATED:20250505T164733Z
LAST-MODIFIED:20250505T164733Z
UID:10011015-1748957400-1748957400@hhsociety.org
SUMMARY:Continuing Education - Theatre Music & the Influence of Leonard Bernstein
DESCRIPTION:A lecture-recital by Howard Kilik\, pianist\, composer and conductor \nAdmission is $10 per event\, paid at the door. \nIf you have any questions\, call Ann (914) 617-9434.
URL:https://hhsociety.org/event/continuing-education-theatre-music-the-influence-of-leonard-bernstein/
LOCATION:Heritage Room
END:VEVENT
BEGIN:VEVENT
DTSTART;TZID=America/New_York:20250603T140000
DTEND;TZID=America/New_York:20250603T140000
DTSTAMP:20260424T235630
CREATED:20241023T182339Z
LAST-MODIFIED:20241023T182339Z
UID:10005387-1748959200-1748959200@hhsociety.org
SUMMARY:Contemporary Fiction Book Club
DESCRIPTION:Openings are available for residents interested in\njoining The Contemporary Fiction Book Club. The club meets on the first Tuesday of each month\nfrom 2:00-3:30. Contact Myra Hopper at 520 390-5523 or myrahopper@gmail.com.
URL:https://hhsociety.org/event/contemporary-fiction-book-club-2/2025-06-03/
LOCATION:Game Room
END:VEVENT
BEGIN:VEVENT
DTSTART;TZID=America/New_York:20250603T183000
DTEND;TZID=America/New_York:20250603T183000
DTSTAMP:20260424T235630
CREATED:20250603T140624Z
LAST-MODIFIED:20250603T140624Z
UID:10012858-1748975400-1748975400@hhsociety.org
SUMMARY:Health & Safety Committee
DESCRIPTION:Health\, Safety & your Pet
URL:https://hhsociety.org/event/health-safety-committee-2/
LOCATION:Heritage Room
END:VEVENT
BEGIN:VEVENT
DTSTART;TZID=America/New_York:20250604T090000
DTEND;TZID=America/New_York:20250604T090000
DTSTAMP:20260424T235630
CREATED:20241029T184500Z
LAST-MODIFIED:20241029T184500Z
UID:10009407-1749027600-1749027600@hhsociety.org
SUMMARY:10-A-Men Club
DESCRIPTION:Come to the Activities Center’s Heritage Room on Wednesdays at 9 am and have\ncontinental breakfast for $2. The meeting starts at 10 am.
URL:https://hhsociety.org/event/10-a-men-club/2025-06-04/
LOCATION:Heritage Room
END:VEVENT
BEGIN:VEVENT
DTSTART;TZID=America/New_York:20250604T093000
DTEND;TZID=America/New_York:20250604T093000
DTSTAMP:20260424T235630
CREATED:20241023T153549Z
LAST-MODIFIED:20241023T153549Z
UID:10000735-1749029400-1749029400@hhsociety.org
SUMMARY:Sketch Workshop
DESCRIPTION:Wednesdays from 9:30-11:30am in the Activities Center’s Studio A.  Portraits\, figures\, still lifes.  Bring your choice of paper\, pen\, pencil\, watercolor\, pastel\, etc.  Models are welcome to pose for 20 minutes (clothed!).  No fee\, no teacher\, but guidance available.
URL:https://hhsociety.org/event/sketch-workshop-3/2025-06-04/
LOCATION:Art Room B
END:VEVENT
BEGIN:VEVENT
DTSTART;TZID=America/New_York:20250604T093000
DTEND;TZID=America/New_York:20250604T093000
DTSTAMP:20260424T235630
CREATED:20250514T160936Z
LAST-MODIFIED:20250514T160936Z
UID:10012794-1749029400-1749029400@hhsociety.org
SUMMARY:Bocce Group
DESCRIPTION:Weather permitting. \nFor more information contact Reno DiCristofaro at (914) 500-5160 or Diane Purr at (914) 617-9338
URL:https://hhsociety.org/event/bocce-group-2/2025-06-04/
END:VEVENT
BEGIN:VEVENT
DTSTART;TZID=America/New_York:20250604T100000
DTEND;TZID=America/New_York:20250604T100000
DTSTAMP:20260424T235630
CREATED:20241023T182940Z
LAST-MODIFIED:20241023T183355Z
UID:10005993-1749031200-1749031200@hhsociety.org
SUMMARY:Social Bridge
DESCRIPTION:Wednesdays at 10am at Lake Lodge
URL:https://hhsociety.org/event/social-bridge-2/2025-06-04/
LOCATION:Lake Lodge Room 2
END:VEVENT
BEGIN:VEVENT
DTSTART;TZID=America/New_York:20250604T103000
DTEND;TZID=America/New_York:20250604T103000
DTSTAMP:20260424T235630
CREATED:20250514T143224Z
LAST-MODIFIED:20250514T143224Z
UID:10011640-1749033000-1749033000@hhsociety.org
SUMMARY:Balance and Agility for Active Seniors
DESCRIPTION:Navigate obstacles; strengthen balance; move better for walks\, hikes\, or pickleball. \nLearn from a master teacher with years of experience\, Elena Remais. $80 for 4 weeks\, $25 for drop in. elenathetrainer@yahoo.com or (914) 848-3174
URL:https://hhsociety.org/event/balance-and-agility-for-active-seniors/2025-06-04/
LOCATION:Lake Lodge Upper Level
END:VEVENT
BEGIN:VEVENT
DTSTART;TZID=America/New_York:20250604T120000
DTEND;TZID=America/New_York:20250604T120000
DTSTAMP:20260424T235630
CREATED:20241029T174331Z
LAST-MODIFIED:20241029T174331Z
UID:10007036-1749038400-1749038400@hhsociety.org
SUMMARY:Mah Jongg Wednesdays
DESCRIPTION:Wednesdays at\nnoon in the Activities Center (Contact Carol Tocci 914-471-5689)
URL:https://hhsociety.org/event/mah-jongg-wednesdays/2025-06-04/
LOCATION:Room 2/3
END:VEVENT
BEGIN:VEVENT
DTSTART;TZID=America/New_York:20250604T123000
DTEND;TZID=America/New_York:20250604T123000
DTSTAMP:20260424T235630
CREATED:20241023T152857Z
LAST-MODIFIED:20241023T152857Z
UID:10000415-1749040200-1749040200@hhsociety.org
SUMMARY:Needlecraft Goup
DESCRIPTION:Charitable needlecraft group meets Wednesdays at 12:30pm in the Game Room.  All skill levels are welcome.  $20 Annual dues. For questions\, or to register\, call Linda at (914) 277-2776 or Ginger at (914) 617-9058
URL:https://hhsociety.org/event/needlecraft-goup/2025-06-04/
LOCATION:Game Room
END:VEVENT
BEGIN:VEVENT
DTSTART;TZID=America/New_York:20250604T130000
DTEND;TZID=America/New_York:20250604T130000
DTSTAMP:20260424T235630
CREATED:20241029T173525Z
LAST-MODIFIED:20241029T173525Z
UID:10006514-1749042000-1749042000@hhsociety.org
SUMMARY:Chess Club
DESCRIPTION:Wednesdays from 1 to 3:30 pm in Lake Lodge’s Room 3. We are a group of chess\nenthusiasts who enjoy coming together to play some friendly games of chess! Beginners are welcome!\nBring your chess set if you have one. Some playing pairs may choose to use a chess clock; bring this\,\nalso\, if you have one. For more information\, contact Pat Posluszny at patpugs@comcast.net or 914-276-\n6550.
URL:https://hhsociety.org/event/chess-club-2/2025-06-04/
LOCATION:Lake Lodge Room 3
END:VEVENT
BEGIN:VEVENT
DTSTART;TZID=America/New_York:20250604T133000
DTEND;TZID=America/New_York:20250604T133000
DTSTAMP:20260424T235630
CREATED:20250507T142012Z
LAST-MODIFIED:20250507T142012Z
UID:10011261-1749043800-1749043800@hhsociety.org
SUMMARY:Silk Fabric Painting Class
DESCRIPTION:Must sign up for a full four week session. Fee $135 \nContact Evey at (914) 276-0737 or email at eveymusart@comcast.net
URL:https://hhsociety.org/event/silk-fabric-painting-class-2/2025-06-04/
LOCATION:Room B
END:VEVENT
BEGIN:VEVENT
DTSTART;TZID=America/New_York:20250604T180000
DTEND;TZID=America/New_York:20250604T200000
DTSTAMP:20260424T235630
CREATED:20250603T141246Z
LAST-MODIFIED:20250603T141246Z
UID:10012859-1749060000-1749067200@hhsociety.org
SUMMARY:CPR & AED Demonstrations
DESCRIPTION:
URL:https://hhsociety.org/event/cpr-aed-demonstrations/
LOCATION:Heritage Room
END:VEVENT
BEGIN:VEVENT
DTSTART;TZID=America/New_York:20250604T190000
DTEND;TZID=America/New_York:20250604T190000
DTSTAMP:20260424T235630
CREATED:20250514T144427Z
LAST-MODIFIED:20250514T144427Z
UID:10011898-1749063600-1749063600@hhsociety.org
SUMMARY:Energy Healing for Self\, Family\, Friends and Pets with Melanie Gambino
DESCRIPTION:Pre-registration required.  $20 per class \nFor more information and to reserve your place\, call\, text or email Melanie at (914) 588-2450 or melaniegambino1@gmail.com$20 per \n 
URL:https://hhsociety.org/event/energy-healing-for-self-family-friends-and-pets-with-melanie-gambino/2025-06-04/
LOCATION:Lake Lodge Room 3
END:VEVENT
BEGIN:VEVENT
DTSTART;TZID=America/New_York:20250605T110000
DTEND;TZID=America/New_York:20250605T110000
DTSTAMP:20260424T235630
CREATED:20241023T182146Z
LAST-MODIFIED:20241023T182146Z
UID:10005327-1749121200-1749121200@hhsociety.org
SUMMARY:Spanish Conversation
DESCRIPTION:Meets the 1st Thursday of the month in Lake Lodge’s\nRoom 1 at 11 am. Group is open to intermediate through fluent Spanish speakers. ¡Vengan!
URL:https://hhsociety.org/event/spanish-conversation/2025-06-05/
LOCATION:Lake Lodge Room 1
END:VEVENT
BEGIN:VEVENT
DTSTART;TZID=America/New_York:20250605T123000
DTEND;TZID=America/New_York:20250605T123000
DTSTAMP:20260424T235630
CREATED:20241029T175246Z
LAST-MODIFIED:20241029T175246Z
UID:10008376-1749126600-1749126600@hhsociety.org
SUMMARY:Alzheimer's/Dementia Caregivers Support Group
DESCRIPTION:Caring for someone with Alzheimer&#39;s/Dementia is\na difficult and painful challenge. A support group can help. Meetings take place the first Thursday of the\nmonth at 12:30 pm in Lake Lodge’s Room 1. Fee: $20 per session. Facilitated by Linda Ludwig\, Ph.D. To\nregister\, call 914-617-9328 or email ludwiglr@aol.com.
URL:https://hhsociety.org/event/alzheimers-dementia-caregivers-support-group-2/2025-06-05/
LOCATION:Lake Lodge Room 1
END:VEVENT
BEGIN:VEVENT
DTSTART;TZID=America/New_York:20250605T130000
DTEND;TZID=America/New_York:20250605T130000
DTSTAMP:20260424T235630
CREATED:20241113T153705Z
LAST-MODIFIED:20241113T153705Z
UID:10009657-1749128400-1749128400@hhsociety.org
SUMMARY:Thriving in your Prime
DESCRIPTION:Join us every other week on Thursday at 1pm in Lake Lodge Room 3 to discuss relevant topics and learn strategies that will help those over the age of 50 navigate the challenges they are confronted with.  Each time we meet we will discuss a new topic\, and you will learn strategies you can implement in your own life.  The investment in each gathering is one hour of your time and $5!
URL:https://hhsociety.org/event/thriving-in-your-prime-2/2025-06-05/
LOCATION:Lake Lodge Room 3
END:VEVENT
BEGIN:VEVENT
DTSTART;TZID=America/New_York:20250605T170000
DTEND;TZID=America/New_York:20250605T170000
DTSTAMP:20260424T235630
CREATED:20241029T181105Z
LAST-MODIFIED:20241029T181105Z
UID:10008697-1749142800-1749142800@hhsociety.org
SUMMARY:Rainbow Connection Club
DESCRIPTION:A group for LGBTQ members and their families\, friends\, and\nneighbors. All are welcome. We meet the first Thursday of each month at Lake Lodge from 5 to 7 pm.\nFor more information contact Joanne at 914-450-5609.
URL:https://hhsociety.org/event/rainbow-connection-club-2/2025-06-05/
LOCATION:Lake Lodge Room 3
END:VEVENT
BEGIN:VEVENT
DTSTART;TZID=America/New_York:20250605T170000
DTEND;TZID=America/New_York:20250605T190000
DTSTAMP:20260424T235630
CREATED:20250603T142749Z
LAST-MODIFIED:20250603T142749Z
UID:10012860-1749142800-1749150000@hhsociety.org
SUMMARY:Food Truck Thursday
DESCRIPTION:Sayit’s – Greek
URL:https://hhsociety.org/event/food-truck-thursday/
LOCATION:Meadowlark Park
END:VEVENT
BEGIN:VEVENT
DTSTART;TZID=America/New_York:20250606T150000
DTEND;TZID=America/New_York:20250606T150000
DTSTAMP:20260424T235630
CREATED:20250514T160458Z
LAST-MODIFIED:20250514T160458Z
UID:10012732-1749222000-1749222000@hhsociety.org
SUMMARY:Yacht Club ("HHYC")
DESCRIPTION:The HHYC is a fee-free social club of past and present water fans (swimmers\, boaters\, fishers\, cruisers\, surfers\, whatever). At our monthly pot luck “dock parties” on the first Friday of the month in the Lobby at Lake Lodge\, we share our experiences and plan future ones (theme parties\, day trips/activities\, or even cruises). For more information contact Susan at ciwhitestar@comcast.net or (914) 617-9228
URL:https://hhsociety.org/event/yacht-club-hhyc/2025-06-06/
LOCATION:Lake Lodge Lobby
END:VEVENT
BEGIN:VEVENT
DTSTART;TZID=America/New_York:20250606T190000
DTEND;TZID=America/New_York:20250606T190000
DTSTAMP:20260424T235630
CREATED:20241023T153853Z
LAST-MODIFIED:20241023T153853Z
UID:10000971-1749236400-1749236400@hhsociety.org
SUMMARY:Friday Night Social Dance
DESCRIPTION:The first Friday of every month from 7-10pm in the Activities Center’s Heritage Room.  $10 per person includes coffee and cake.  BYOB.  For more information\, call Angela Viscogliosi at (914) 393-8736
URL:https://hhsociety.org/event/friday-night-social-dance-2/2025-06-06/
LOCATION:Heritage Room
END:VEVENT
BEGIN:VEVENT
DTSTART;TZID=America/New_York:20250608T150000
DTEND;TZID=America/New_York:20250608T150000
DTSTAMP:20260424T235630
CREATED:20250603T145050Z
LAST-MODIFIED:20250603T145429Z
UID:10012864-1749394800-1749394800@hhsociety.org
SUMMARY:Concert Society - Pianist Llewellyn Sanchez-Werner
DESCRIPTION:$26.00 per person at the door for non-subscribers \nCall Teddi Meltzer at (914) 277-1418 with questions
URL:https://hhsociety.org/event/concert-society-pianist-llewellyn-sanchez-werner/
LOCATION:Heritage Room
END:VEVENT
BEGIN:VEVENT
DTSTART;TZID=America/New_York:20250608T190000
DTEND;TZID=America/New_York:20250608T190000
DTSTAMP:20260424T235630
CREATED:20250603T153442Z
LAST-MODIFIED:20250603T153442Z
UID:10012865-1749409200-1749409200@hhsociety.org
SUMMARY:Independent Film Club - Amelie
DESCRIPTION:
URL:https://hhsociety.org/event/independent-film-club-amelie/
LOCATION:Heritage Room
END:VEVENT
BEGIN:VEVENT
DTSTART;TZID=America/New_York:20250610T133000
DTEND;TZID=America/New_York:20250610T133000
DTSTAMP:20260424T235630
CREATED:20250603T134959Z
LAST-MODIFIED:20250603T134959Z
UID:10012854-1749562200-1749562200@hhsociety.org
SUMMARY:Continuing Education - The Rise of Artificial Intelligence and Bitcoin
DESCRIPTION:A lecture by John Patrick – former Vice President for Internet Technology\, IBM \n$10 per event\, paid at the door \nContact Ann at (914) 617-9434 with questions
URL:https://hhsociety.org/event/continuing-education-the-rise-of-artificial-intelligence-and-bitcoin/
LOCATION:Heritage Room
END:VEVENT
BEGIN:VEVENT
DTSTART;TZID=America/New_York:20250612T123000
DTEND;TZID=America/New_York:20250612T123000
DTSTAMP:20260424T235630
CREATED:20241113T161414Z
LAST-MODIFIED:20241113T161414Z
UID:10009780-1749731400-1749731400@hhsociety.org
SUMMARY:Spousal Bereavement Group
DESCRIPTION:Led by Linda Ludwig\, PsD (NotPhD) on the second Thursday of the month at 12:30 pm in Lake Lodge Room 1.  The fee is $20 per session.  For more information\, call 914-617-9328.
URL:https://hhsociety.org/event/spousal-bereavement-group/2025-06-12/
LOCATION:Lake Lodge Room 1
END:VEVENT
BEGIN:VEVENT
DTSTART;TZID=America/New_York:20250612T170000
DTEND;TZID=America/New_York:20250612T190000
DTSTAMP:20260424T235630
CREATED:20250603T142932Z
LAST-MODIFIED:20250603T142932Z
UID:10012861-1749747600-1749754800@hhsociety.org
SUMMARY:Food Truck Thursdays
DESCRIPTION:Graziella’s – Italian
URL:https://hhsociety.org/event/food-truck-thursdays/
LOCATION:Meadowlark Park
END:VEVENT
BEGIN:VEVENT
DTSTART;TZID=America/New_York:20250613T090000
DTEND;TZID=America/New_York:20250613T090000
DTSTAMP:20260424T235630
CREATED:20241029T175106Z
LAST-MODIFIED:20241029T175106Z
UID:10008316-1749805200-1749805200@hhsociety.org
SUMMARY:Blood Pressure Screening
DESCRIPTION:Nurse Ellie Eidam offers screenings on the second Friday of\nthe month from 9 to 11 am in the Activities Center’s Game Room. Your temperature may be taken. Do\nnot come if you have tested positive for Covid-19\, were recently exposed (within 14 days) to the virus or\ntraveled to areas that have experienced high levels of the virus. Contact Ellie at elliebob1@gmail.com or\n914-617-2109 for more information.
URL:https://hhsociety.org/event/blood-pressure-screening-2/2025-06-13/
LOCATION:Game Room
END:VEVENT
BEGIN:VEVENT
DTSTART;TZID=America/New_York:20250613T110000
DTEND;TZID=America/New_York:20250613T110000
DTSTAMP:20260424T235630
CREATED:20241023T181940Z
LAST-MODIFIED:20241023T181940Z
UID:10005267-1749812400-1749812400@hhsociety.org
SUMMARY:French Conversation
DESCRIPTION:Meets the 2nd and 4th Friday of the month at Lake Lodge in Room 1\nfrom 11 am to noon. Members should have a basic knowledge of French conversation but need not be\nfluent. Refresh your French language skills and laugh and learn with us. If you have any questions\, call\nCarole Ellis 914-260-9182 or email her at carellis14@yahoo.com.
URL:https://hhsociety.org/event/french-conversation-2-2/2025-06-13/
LOCATION:Lake Lodge Room 1
END:VEVENT
BEGIN:VEVENT
DTSTART;TZID=America/New_York:20250613T130000
DTEND;TZID=America/New_York:20250613T130000
DTSTAMP:20260424T235630
CREATED:20241114T183953Z
LAST-MODIFIED:20241114T183953Z
UID:10010883-1749819600-1749819600@hhsociety.org
SUMMARY:Let's Talk Senior Care
DESCRIPTION:Join us the second Friday of every month at 1pm.  Stephanie Roberti\, MHA\, will be introducing different senior care topics to help educate us on this important subject.  For more information contact Stephanie Roberti at (914) 357-3049 or by email at sroberti@newbeginningsforseniors.com
URL:https://hhsociety.org/event/lets-talk-senior-care/2025-06-13/
LOCATION:Heritage Room
END:VEVENT
BEGIN:VEVENT
DTSTART;TZID=America/New_York:20250613T150000
DTEND;TZID=America/New_York:20250613T150000
DTSTAMP:20260424T235630
CREATED:20250507T143510Z
LAST-MODIFIED:20251202T162235Z
UID:10013367-1749826800-1749826800@hhsociety.org
SUMMARY:Environmental Club
DESCRIPTION:This Club’s primary objective is to foster a culture of environmental responsibility within Heritage Hills.  All are welcome\, including teens.  Watch for announcements and postings about special events and field trips.  No fee. \nFor more information contact Carrie Sears at carolynnsears@me.com  or (914) 522-3111
URL:https://hhsociety.org/event/environmental-club/2025-06-13/
LOCATION:Room 2/3
END:VEVENT
END:VCALENDAR