BEGIN:VCALENDAR
VERSION:2.0
PRODID:-//Heritage Hills Society - ECPv6.15.20//NONSGML v1.0//EN
CALSCALE:GREGORIAN
METHOD:PUBLISH
X-WR-CALNAME:Heritage Hills Society
X-ORIGINAL-URL:https://hhsociety.org
X-WR-CALDESC:Events for Heritage Hills Society
REFRESH-INTERVAL;VALUE=DURATION:PT1H
X-Robots-Tag:noindex
X-PUBLISHED-TTL:PT1H
BEGIN:VTIMEZONE
TZID:America/New_York
BEGIN:DAYLIGHT
TZOFFSETFROM:-0500
TZOFFSETTO:-0400
TZNAME:EDT
DTSTART:20240310T070000
END:DAYLIGHT
BEGIN:STANDARD
TZOFFSETFROM:-0400
TZOFFSETTO:-0500
TZNAME:EST
DTSTART:20241103T060000
END:STANDARD
BEGIN:DAYLIGHT
TZOFFSETFROM:-0500
TZOFFSETTO:-0400
TZNAME:EDT
DTSTART:20250309T070000
END:DAYLIGHT
BEGIN:STANDARD
TZOFFSETFROM:-0400
TZOFFSETTO:-0500
TZNAME:EST
DTSTART:20251102T060000
END:STANDARD
BEGIN:DAYLIGHT
TZOFFSETFROM:-0500
TZOFFSETTO:-0400
TZNAME:EDT
DTSTART:20260308T070000
END:DAYLIGHT
BEGIN:STANDARD
TZOFFSETFROM:-0400
TZOFFSETTO:-0500
TZNAME:EST
DTSTART:20261101T060000
END:STANDARD
END:VTIMEZONE
BEGIN:VEVENT
DTSTART;TZID=America/New_York:20250609T123000
DTEND;TZID=America/New_York:20250609T123000
DTSTAMP:20260425T000150
CREATED:20241023T182608Z
LAST-MODIFIED:20241023T182608Z
UID:10005472-1749472200-1749472200@hhsociety.org
SUMMARY:Duplicate Bridge
DESCRIPTION:Mondays and Thursdays at 12:30pm in the Activities Center.  For information\, call Marie at (914) 277-4266
URL:https://hhsociety.org/event/duplicate-bridge-2/2025-06-09/
LOCATION:Heritage Room
END:VEVENT
BEGIN:VEVENT
DTSTART;TZID=America/New_York:20250610T083000
DTEND;TZID=America/New_York:20250610T083000
DTSTAMP:20260425T000150
CREATED:20241023T161410Z
LAST-MODIFIED:20241023T174857Z
UID:10002623-1749544200-1749544200@hhsociety.org
SUMMARY:Linda's Lake Lodge Classes - Body Conditioning
DESCRIPTION:8:30am Tuesdays and Thursdays \nAll Classes are $10 per class.  Register at the start of the month. Contact Linda Zeiss Instructor at labzeiss@gmail.com or (718) 541-0861
URL:https://hhsociety.org/event/lindas-lake-lodge-classes-body-conditioning/2025-06-10/
LOCATION:Lake Lodge Upper Level
END:VEVENT
BEGIN:VEVENT
DTSTART;TZID=America/New_York:20250610T093000
DTEND;TZID=America/New_York:20250610T093000
DTSTAMP:20260425T000150
CREATED:20241023T160743Z
LAST-MODIFIED:20241023T160743Z
UID:10002101-1749547800-1749547800@hhsociety.org
SUMMARY:Cardio / Strength / Stretch Class with Lori
DESCRIPTION:Tuesdays and Thursdays from 9:30-10:30am in the Gym. Join Lori for a fun\, safe\, effective workout.  Low impact cardio\, resistance training\, balance\, strength and breath work – all set to great music!  Appropriate for all levels.  Resistance bands and weights available.  No mats needed.  Fee $10 per class.  Try the first class for free!  Class is also available on ZOOM. Email Lori for more information or to register at eefyjiig@gmail.com
URL:https://hhsociety.org/event/cardio-strength-stretch-class-with-lori-2/2025-06-10/
LOCATION:Gym\, Fitness Center
END:VEVENT
BEGIN:VEVENT
DTSTART;TZID=America/New_York:20250610T093000
DTEND;TZID=America/New_York:20250610T093000
DTSTAMP:20260425T000150
CREATED:20241023T162528Z
LAST-MODIFIED:20241023T175103Z
UID:10003145-1749547800-1749547800@hhsociety.org
SUMMARY:Linda's Lake Lodge Classes - Rock & Roll Workout
DESCRIPTION:9:30am Tuesdays \nAll Classes are $10 per class.  Register at the start of the month. Contact Linda Zeiss Instructor at labzeiss@gmail.com or (718) 541-0861 \n  \n  \n  \n 
URL:https://hhsociety.org/event/lindas-lake-lodge-classes-rock-roll-workout/2025-06-10/
LOCATION:Lake Lodge Upper Level
END:VEVENT
BEGIN:VEVENT
DTSTART;TZID=America/New_York:20250610T100000
DTEND;TZID=America/New_York:20250610T100000
DTSTAMP:20260425T000150
CREATED:20241023T155520Z
LAST-MODIFIED:20241023T155520Z
UID:10001840-1749549600-1749549600@hhsociety.org
SUMMARY:Chair Yoga with Satish
DESCRIPTION:Practice Tuesdays from 10-11:15am in Lake Lodge Room 3 with Satish Gambhir\, Registered Yoga (500-RYT) and acupressure teacher with over 20 years of experience.  Chair Yoga aimed at toning the entire body and increasing flexibility.  Breathing and meditation for relaxation and mind-body connection.  Live music.  $10 per class.  Call or email to register at (914) 646-0887 or satishgambhir@gmail.com
URL:https://hhsociety.org/event/chair-yoga-with-satish-2/2025-06-10/
LOCATION:Lake Lodge Room 3
END:VEVENT
BEGIN:VEVENT
DTSTART;TZID=America/New_York:20250610T100000
DTEND;TZID=America/New_York:20250610T100000
DTSTAMP:20260425T000150
CREATED:20241029T182020Z
LAST-MODIFIED:20241029T182020Z
UID:10008782-1749549600-1749549600@hhsociety.org
SUMMARY:Shakespeare Group
DESCRIPTION:Tuesdays from 10 to 11:30 am in the Activities Center’s Game Room\,\nand on Zoom. See a film of a classic Shakespeare play\, then read it and join in lively discussions. All are\nwelcome! For more information\, call Susan Ray at 914-391-6686 or Margaret Howlett at 973-746-7816.
URL:https://hhsociety.org/event/shakespeare-group-2/2025-06-10/
LOCATION:Game Room
END:VEVENT
BEGIN:VEVENT
DTSTART;TZID=America/New_York:20250610T110000
DTEND;TZID=America/New_York:20250610T110000
DTSTAMP:20260425T000150
CREATED:20241029T174628Z
LAST-MODIFIED:20241029T174628Z
UID:10007558-1749553200-1749553200@hhsociety.org
SUMMARY:Mah Jongg Tuesdays
DESCRIPTION:Tuesdays from 11 am to 1 pm Call Cheryl Milde at 914-342-3068.
URL:https://hhsociety.org/event/mah-jongg-tuesdays/2025-06-10/
LOCATION:Lake Lodge Room 2
END:VEVENT
BEGIN:VEVENT
DTSTART;TZID=America/New_York:20250610T133000
DTEND;TZID=America/New_York:20250610T133000
DTSTAMP:20260425T000150
CREATED:20250603T134959Z
LAST-MODIFIED:20250603T134959Z
UID:10012854-1749562200-1749562200@hhsociety.org
SUMMARY:Continuing Education - The Rise of Artificial Intelligence and Bitcoin
DESCRIPTION:A lecture by John Patrick – former Vice President for Internet Technology\, IBM \n$10 per event\, paid at the door \nContact Ann at (914) 617-9434 with questions
URL:https://hhsociety.org/event/continuing-education-the-rise-of-artificial-intelligence-and-bitcoin/
LOCATION:Heritage Room
END:VEVENT
BEGIN:VEVENT
DTSTART;TZID=America/New_York:20250611T090000
DTEND;TZID=America/New_York:20250611T090000
DTSTAMP:20260425T000150
CREATED:20241029T184500Z
LAST-MODIFIED:20241029T184500Z
UID:10009408-1749632400-1749632400@hhsociety.org
SUMMARY:10-A-Men Club
DESCRIPTION:Come to the Activities Center’s Heritage Room on Wednesdays at 9 am and have\ncontinental breakfast for $2. The meeting starts at 10 am.
URL:https://hhsociety.org/event/10-a-men-club/2025-06-11/
LOCATION:Heritage Room
END:VEVENT
BEGIN:VEVENT
DTSTART;TZID=America/New_York:20250611T093000
DTEND;TZID=America/New_York:20250611T093000
DTSTAMP:20260425T000150
CREATED:20241023T153549Z
LAST-MODIFIED:20241023T153549Z
UID:10000736-1749634200-1749634200@hhsociety.org
SUMMARY:Sketch Workshop
DESCRIPTION:Wednesdays from 9:30-11:30am in the Activities Center’s Studio A.  Portraits\, figures\, still lifes.  Bring your choice of paper\, pen\, pencil\, watercolor\, pastel\, etc.  Models are welcome to pose for 20 minutes (clothed!).  No fee\, no teacher\, but guidance available.
URL:https://hhsociety.org/event/sketch-workshop-3/2025-06-11/
LOCATION:Art Room B
END:VEVENT
BEGIN:VEVENT
DTSTART;TZID=America/New_York:20250611T093000
DTEND;TZID=America/New_York:20250611T093000
DTSTAMP:20260425T000150
CREATED:20250514T160936Z
LAST-MODIFIED:20250514T160936Z
UID:10012795-1749634200-1749634200@hhsociety.org
SUMMARY:Bocce Group
DESCRIPTION:Weather permitting. \nFor more information contact Reno DiCristofaro at (914) 500-5160 or Diane Purr at (914) 617-9338
URL:https://hhsociety.org/event/bocce-group-2/2025-06-11/
END:VEVENT
BEGIN:VEVENT
DTSTART;TZID=America/New_York:20250611T100000
DTEND;TZID=America/New_York:20250611T100000
DTSTAMP:20260425T000150
CREATED:20241023T182940Z
LAST-MODIFIED:20241023T183355Z
UID:10005994-1749636000-1749636000@hhsociety.org
SUMMARY:Social Bridge
DESCRIPTION:Wednesdays at 10am at Lake Lodge
URL:https://hhsociety.org/event/social-bridge-2/2025-06-11/
LOCATION:Lake Lodge Room 2
END:VEVENT
BEGIN:VEVENT
DTSTART;TZID=America/New_York:20250611T103000
DTEND;TZID=America/New_York:20250611T103000
DTSTAMP:20260425T000150
CREATED:20250514T143224Z
LAST-MODIFIED:20250514T143224Z
UID:10011641-1749637800-1749637800@hhsociety.org
SUMMARY:Balance and Agility for Active Seniors
DESCRIPTION:Navigate obstacles; strengthen balance; move better for walks\, hikes\, or pickleball. \nLearn from a master teacher with years of experience\, Elena Remais. $80 for 4 weeks\, $25 for drop in. elenathetrainer@yahoo.com or (914) 848-3174
URL:https://hhsociety.org/event/balance-and-agility-for-active-seniors/2025-06-11/
LOCATION:Lake Lodge Upper Level
END:VEVENT
BEGIN:VEVENT
DTSTART;TZID=America/New_York:20250611T120000
DTEND;TZID=America/New_York:20250611T120000
DTSTAMP:20260425T000150
CREATED:20241029T174331Z
LAST-MODIFIED:20241029T174331Z
UID:10007037-1749643200-1749643200@hhsociety.org
SUMMARY:Mah Jongg Wednesdays
DESCRIPTION:Wednesdays at\nnoon in the Activities Center (Contact Carol Tocci 914-471-5689)
URL:https://hhsociety.org/event/mah-jongg-wednesdays/2025-06-11/
LOCATION:Room 2/3
END:VEVENT
BEGIN:VEVENT
DTSTART;TZID=America/New_York:20250611T123000
DTEND;TZID=America/New_York:20250611T123000
DTSTAMP:20260425T000150
CREATED:20241023T152857Z
LAST-MODIFIED:20241023T152857Z
UID:10000416-1749645000-1749645000@hhsociety.org
SUMMARY:Needlecraft Goup
DESCRIPTION:Charitable needlecraft group meets Wednesdays at 12:30pm in the Game Room.  All skill levels are welcome.  $20 Annual dues. For questions\, or to register\, call Linda at (914) 277-2776 or Ginger at (914) 617-9058
URL:https://hhsociety.org/event/needlecraft-goup/2025-06-11/
LOCATION:Game Room
END:VEVENT
BEGIN:VEVENT
DTSTART;TZID=America/New_York:20250611T130000
DTEND;TZID=America/New_York:20250611T130000
DTSTAMP:20260425T000150
CREATED:20241029T173525Z
LAST-MODIFIED:20241029T173525Z
UID:10006515-1749646800-1749646800@hhsociety.org
SUMMARY:Chess Club
DESCRIPTION:Wednesdays from 1 to 3:30 pm in Lake Lodge’s Room 3. We are a group of chess\nenthusiasts who enjoy coming together to play some friendly games of chess! Beginners are welcome!\nBring your chess set if you have one. Some playing pairs may choose to use a chess clock; bring this\,\nalso\, if you have one. For more information\, contact Pat Posluszny at patpugs@comcast.net or 914-276-\n6550.
URL:https://hhsociety.org/event/chess-club-2/2025-06-11/
LOCATION:Lake Lodge Room 3
END:VEVENT
BEGIN:VEVENT
DTSTART;TZID=America/New_York:20250611T133000
DTEND;TZID=America/New_York:20250611T133000
DTSTAMP:20260425T000150
CREATED:20250507T142012Z
LAST-MODIFIED:20250507T142012Z
UID:10011262-1749648600-1749648600@hhsociety.org
SUMMARY:Silk Fabric Painting Class
DESCRIPTION:Must sign up for a full four week session. Fee $135 \nContact Evey at (914) 276-0737 or email at eveymusart@comcast.net
URL:https://hhsociety.org/event/silk-fabric-painting-class-2/2025-06-11/
LOCATION:Room B
END:VEVENT
BEGIN:VEVENT
DTSTART;TZID=America/New_York:20250612T123000
DTEND;TZID=America/New_York:20250612T123000
DTSTAMP:20260425T000150
CREATED:20241113T161414Z
LAST-MODIFIED:20241113T161414Z
UID:10009780-1749731400-1749731400@hhsociety.org
SUMMARY:Spousal Bereavement Group
DESCRIPTION:Led by Linda Ludwig\, PsD (NotPhD) on the second Thursday of the month at 12:30 pm in Lake Lodge Room 1.  The fee is $20 per session.  For more information\, call 914-617-9328.
URL:https://hhsociety.org/event/spousal-bereavement-group/2025-06-12/
LOCATION:Lake Lodge Room 1
END:VEVENT
BEGIN:VEVENT
DTSTART;TZID=America/New_York:20250612T170000
DTEND;TZID=America/New_York:20250612T190000
DTSTAMP:20260425T000150
CREATED:20250603T142932Z
LAST-MODIFIED:20250603T142932Z
UID:10012861-1749747600-1749754800@hhsociety.org
SUMMARY:Food Truck Thursdays
DESCRIPTION:Graziella’s – Italian
URL:https://hhsociety.org/event/food-truck-thursdays/
LOCATION:Meadowlark Park
END:VEVENT
BEGIN:VEVENT
DTSTART;TZID=America/New_York:20250613T090000
DTEND;TZID=America/New_York:20250613T090000
DTSTAMP:20260425T000150
CREATED:20241029T175106Z
LAST-MODIFIED:20241029T175106Z
UID:10008316-1749805200-1749805200@hhsociety.org
SUMMARY:Blood Pressure Screening
DESCRIPTION:Nurse Ellie Eidam offers screenings on the second Friday of\nthe month from 9 to 11 am in the Activities Center’s Game Room. Your temperature may be taken. Do\nnot come if you have tested positive for Covid-19\, were recently exposed (within 14 days) to the virus or\ntraveled to areas that have experienced high levels of the virus. Contact Ellie at elliebob1@gmail.com or\n914-617-2109 for more information.
URL:https://hhsociety.org/event/blood-pressure-screening-2/2025-06-13/
LOCATION:Game Room
END:VEVENT
BEGIN:VEVENT
DTSTART;TZID=America/New_York:20250613T110000
DTEND;TZID=America/New_York:20250613T110000
DTSTAMP:20260425T000150
CREATED:20241023T181940Z
LAST-MODIFIED:20241023T181940Z
UID:10005267-1749812400-1749812400@hhsociety.org
SUMMARY:French Conversation
DESCRIPTION:Meets the 2nd and 4th Friday of the month at Lake Lodge in Room 1\nfrom 11 am to noon. Members should have a basic knowledge of French conversation but need not be\nfluent. Refresh your French language skills and laugh and learn with us. If you have any questions\, call\nCarole Ellis 914-260-9182 or email her at carellis14@yahoo.com.
URL:https://hhsociety.org/event/french-conversation-2-2/2025-06-13/
LOCATION:Lake Lodge Room 1
END:VEVENT
BEGIN:VEVENT
DTSTART;TZID=America/New_York:20250613T130000
DTEND;TZID=America/New_York:20250613T130000
DTSTAMP:20260425T000150
CREATED:20241114T183953Z
LAST-MODIFIED:20241114T183953Z
UID:10010883-1749819600-1749819600@hhsociety.org
SUMMARY:Let's Talk Senior Care
DESCRIPTION:Join us the second Friday of every month at 1pm.  Stephanie Roberti\, MHA\, will be introducing different senior care topics to help educate us on this important subject.  For more information contact Stephanie Roberti at (914) 357-3049 or by email at sroberti@newbeginningsforseniors.com
URL:https://hhsociety.org/event/lets-talk-senior-care/2025-06-13/
LOCATION:Heritage Room
END:VEVENT
BEGIN:VEVENT
DTSTART;TZID=America/New_York:20250613T150000
DTEND;TZID=America/New_York:20250613T150000
DTSTAMP:20260425T000150
CREATED:20250507T143510Z
LAST-MODIFIED:20251202T162235Z
UID:10013367-1749826800-1749826800@hhsociety.org
SUMMARY:Environmental Club
DESCRIPTION:This Club’s primary objective is to foster a culture of environmental responsibility within Heritage Hills.  All are welcome\, including teens.  Watch for announcements and postings about special events and field trips.  No fee. \nFor more information contact Carrie Sears at carolynnsears@me.com  or (914) 522-3111
URL:https://hhsociety.org/event/environmental-club/2025-06-13/
LOCATION:Room 2/3
END:VEVENT
BEGIN:VEVENT
DTSTART;TZID=America/New_York:20250613T190000
DTEND;TZID=America/New_York:20250613T190000
DTSTAMP:20260425T000150
CREATED:20250603T144732Z
LAST-MODIFIED:20250603T144732Z
UID:10012863-1749841200-1749841200@hhsociety.org
SUMMARY:Ciao Italia - Pete Custode
DESCRIPTION:Singer  / Entertainer
URL:https://hhsociety.org/event/ciao-italia-pete-custode/
LOCATION:Heritage Room
END:VEVENT
BEGIN:VEVENT
DTSTART;TZID=America/New_York:20250614T120000
DTEND;TZID=America/New_York:20250614T120000
DTSTAMP:20260425T000150
CREATED:20250611T135653Z
LAST-MODIFIED:20250611T135653Z
UID:10012867-1749902400-1749902400@hhsociety.org
SUMMARY:Hikers & Walkers
DESCRIPTION:H & W Picnic at Lake Lodge \nContact Cheryl Hochenberg with questions (516) 220-0965
URL:https://hhsociety.org/event/hikers-walkers-6/
LOCATION:Lake Lodge Room 3
END:VEVENT
BEGIN:VEVENT
DTSTART;TZID=America/New_York:20250615T093000
DTEND;TZID=America/New_York:20250615T093000
DTSTAMP:20260425T000150
CREATED:20250611T140653Z
LAST-MODIFIED:20250611T140653Z
UID:10012868-1749979800-1749979800@hhsociety.org
SUMMARY:Hikers & Walkers
DESCRIPTION:Sylvan Glen Preserve – Mohican Lake \nRating C \nLeader: Misha Lef (914) 272-5601
URL:https://hhsociety.org/event/hikers-walkers-7/
LOCATION:Activities Parking Lot
END:VEVENT
BEGIN:VEVENT
DTSTART;TZID=America/New_York:20250617T133000
DTEND;TZID=America/New_York:20250617T133000
DTSTAMP:20260425T000150
CREATED:20250603T135942Z
LAST-MODIFIED:20250603T140239Z
UID:10012857-1750167000-1750167000@hhsociety.org
SUMMARY:Continuing Education - A Short History of Fashion Photography
DESCRIPTION:A lecture by David Little\, museum curator\, educator\, and senior advisor to the Board of Trustees at the International Center of Photography \n$10 per event\, paid at the door. If you have any questions\, call Ann at (914) 617-9434 \n  \n 
URL:https://hhsociety.org/event/continuing-education-a-short-history-of-fashion-photography/2025-06-17/2/
LOCATION:Heritage Room
END:VEVENT
BEGIN:VEVENT
DTSTART;TZID=America/New_York:20250618T133000
DTEND;TZID=America/New_York:20250618T133000
DTSTAMP:20260425T000150
CREATED:20250603T134621Z
LAST-MODIFIED:20250603T134621Z
UID:10012853-1750253400-1750253400@hhsociety.org
SUMMARY:Society Board Meeting
DESCRIPTION:Back-to-Back Monthly and Annual Board Meeting.
URL:https://hhsociety.org/event/society-board-meeting-2/
LOCATION:Heritage Room
END:VEVENT
BEGIN:VEVENT
DTSTART;TZID=America/New_York:20250618T170000
DTEND;TZID=America/New_York:20250618T170000
DTSTAMP:20260425T000150
CREATED:20250603T154113Z
LAST-MODIFIED:20250603T162540Z
UID:10012866-1750266000-1750266000@hhsociety.org
SUMMARY:Singles Club - Pizza & Games
DESCRIPTION:BYOB and bring the game of your choice – UNO\, cards\, Rummikub etc. – and join with friends for some good\, old fashioned fun. \n$5 for members / $8 non-members \nLeave check in Singles Club mail slot no later than June 12. Contact Pat Caruso at 914-649-3232
URL:https://hhsociety.org/event/singles-club-pizza-games/
LOCATION:Heritage Room
END:VEVENT
BEGIN:VEVENT
DTSTART;TZID=America/New_York:20250621T093000
DTEND;TZID=America/New_York:20250621T093000
DTSTAMP:20260425T000150
CREATED:20250611T141042Z
LAST-MODIFIED:20250611T141042Z
UID:10012869-1750498200-1750498200@hhsociety.org
SUMMARY:Hikers & Walkers
DESCRIPTION:Westmoreland Sanctuary – Mt. Kisco \nRating B \nLeader Barry Tuch (516)488-5321
URL:https://hhsociety.org/event/hikers-walkers-8/
LOCATION:Activities Parking Lot
END:VEVENT
END:VCALENDAR