BEGIN:VCALENDAR
VERSION:2.0
PRODID:-//Heritage Hills Society - ECPv6.15.20//NONSGML v1.0//EN
CALSCALE:GREGORIAN
METHOD:PUBLISH
X-WR-CALNAME:Heritage Hills Society
X-ORIGINAL-URL:https://hhsociety.org
X-WR-CALDESC:Events for Heritage Hills Society
REFRESH-INTERVAL;VALUE=DURATION:PT1H
X-Robots-Tag:noindex
X-PUBLISHED-TTL:PT1H
BEGIN:VTIMEZONE
TZID:America/New_York
BEGIN:DAYLIGHT
TZOFFSETFROM:-0500
TZOFFSETTO:-0400
TZNAME:EDT
DTSTART:20240310T070000
END:DAYLIGHT
BEGIN:STANDARD
TZOFFSETFROM:-0400
TZOFFSETTO:-0500
TZNAME:EST
DTSTART:20241103T060000
END:STANDARD
BEGIN:DAYLIGHT
TZOFFSETFROM:-0500
TZOFFSETTO:-0400
TZNAME:EDT
DTSTART:20250309T070000
END:DAYLIGHT
BEGIN:STANDARD
TZOFFSETFROM:-0400
TZOFFSETTO:-0500
TZNAME:EST
DTSTART:20251102T060000
END:STANDARD
BEGIN:DAYLIGHT
TZOFFSETFROM:-0500
TZOFFSETTO:-0400
TZNAME:EDT
DTSTART:20260308T070000
END:DAYLIGHT
BEGIN:STANDARD
TZOFFSETFROM:-0400
TZOFFSETTO:-0500
TZNAME:EST
DTSTART:20261101T060000
END:STANDARD
END:VTIMEZONE
BEGIN:VEVENT
DTSTART;TZID=America/New_York:20250924T130000
DTEND;TZID=America/New_York:20250924T130000
DTSTAMP:20260424T183900
CREATED:20241029T173525Z
LAST-MODIFIED:20241029T173525Z
UID:10006530-1758718800-1758718800@hhsociety.org
SUMMARY:Chess Club
DESCRIPTION:Wednesdays from 1 to 3:30 pm in Lake Lodge’s Room 3. We are a group of chess\nenthusiasts who enjoy coming together to play some friendly games of chess! Beginners are welcome!\nBring your chess set if you have one. Some playing pairs may choose to use a chess clock; bring this\,\nalso\, if you have one. For more information\, contact Pat Posluszny at patpugs@comcast.net or 914-276-\n6550.
URL:https://hhsociety.org/event/chess-club-2/2025-09-24/
LOCATION:Lake Lodge Room 3
END:VEVENT
BEGIN:VEVENT
DTSTART;TZID=America/New_York:20250924T133000
DTEND;TZID=America/New_York:20250924T133000
DTSTAMP:20260424T183900
CREATED:20250507T142012Z
LAST-MODIFIED:20250507T142012Z
UID:10011277-1758720600-1758720600@hhsociety.org
SUMMARY:Silk Fabric Painting Class
DESCRIPTION:Must sign up for a full four week session. Fee $135 \nContact Evey at (914) 276-0737 or email at eveymusart@comcast.net
URL:https://hhsociety.org/event/silk-fabric-painting-class-2/2025-09-24/
LOCATION:Room B
END:VEVENT
BEGIN:VEVENT
DTSTART;TZID=America/New_York:20250924T170000
DTEND;TZID=America/New_York:20250924T190000
DTSTAMP:20260424T183900
CREATED:20250701T191130Z
LAST-MODIFIED:20250725T182753Z
UID:10012885-1758733200-1758740400@hhsociety.org
SUMMARY:Pickleball - Round Robins
DESCRIPTION:All levels welcome. \nEnjoy this social scramble meeting new people and playing for fun! \nAll the sign ups will be on team reach. \nPeople need to email us so we can give them the team reach info once they’ve provided us with their resident info. \nOur email is PickleballHH@outlook.com
URL:https://hhsociety.org/event/pickleball-round-robins/2025-09-24/
LOCATION:Pickleball Courts
END:VEVENT
BEGIN:VEVENT
DTSTART;TZID=America/New_York:20250924T180000
DTEND;TZID=America/New_York:20250924T180000
DTSTAMP:20260424T183900
CREATED:20250507T135901Z
LAST-MODIFIED:20250507T135901Z
UID:10011139-1758736800-1758736800@hhsociety.org
SUMMARY:Crafters in the Hills
DESCRIPTION:For information and to register email: craftclubhh@gmail.com
URL:https://hhsociety.org/event/crafters-in-the-hills-2-2/2025-09-24/
LOCATION:Art Room B
END:VEVENT
BEGIN:VEVENT
DTSTART;TZID=America/New_York:20250924T180000
DTEND;TZID=America/New_York:20250924T200000
DTSTAMP:20260424T183900
CREATED:20250701T195059Z
LAST-MODIFIED:20250701T195059Z
UID:10013153-1758736800-1758744000@hhsociety.org
SUMMARY:Crafters in the Hills
DESCRIPTION:Each week we explore new crafts or work on current projects.  The Monthly crafts are open to club members first\, and when space is available\, we open the session up to non-members. Some crafting sessions are free (you supply your own materials)\, and other sessions have a fee based on materials.  For more information and to register\, email craftclubhh@gmail.com
URL:https://hhsociety.org/event/crafters-in-the-hills-2-4/2025-09-24/
LOCATION:Room B
END:VEVENT
BEGIN:VEVENT
DTSTART;TZID=America/New_York:20250925T083000
DTEND;TZID=America/New_York:20250925T083000
DTSTAMP:20260424T183900
CREATED:20241023T161616Z
LAST-MODIFIED:20241023T175018Z
UID:10002900-1758789000-1758789000@hhsociety.org
SUMMARY:Linda's Lake Lodge Classes - Body Conditioning
DESCRIPTION:8:30am Tuesdays and Thursdays \nAll Classes are $10 per class.  Register at the start of the month. Contact Linda Zeiss Instructor at labzeiss@gmail.com or (718) 541-0861
URL:https://hhsociety.org/event/lindas-lake-lodge-classes-body-conditioning-2-2/2025-09-25/
LOCATION:Lake Lodge Upper Level
END:VEVENT
BEGIN:VEVENT
DTSTART;TZID=America/New_York:20250925T093000
DTEND;TZID=America/New_York:20250925T093000
DTSTAMP:20260424T183900
CREATED:20241023T160957Z
LAST-MODIFIED:20241023T161031Z
UID:10002378-1758792600-1758792600@hhsociety.org
SUMMARY:Cardio / Strength / Stretch Class with Lori
DESCRIPTION:Tuesdays and Thursdays from 9:30-10:30am in the Gym. Join Lori for a fun\, safe\, effective workout.  Low impact cardio\, resistance training\, balance\, strength and breath work – all set to great music!  Appropriate for all levels.  Resistance bands and weights available.  No mats needed.  Fee $10 per class.  Try the first class for free!  Class is also available on ZOOM. Email Lori for more information or to register at eefyjiig@gmail.com
URL:https://hhsociety.org/event/cardio-strength-stretch-class-with-lori-4/2025-09-25/
LOCATION:Gym\, Fitness Center
END:VEVENT
BEGIN:VEVENT
DTSTART;TZID=America/New_York:20250925T093000
DTEND;TZID=America/New_York:20250925T093000
DTSTAMP:20260424T183900
CREATED:20241023T174709Z
LAST-MODIFIED:20241023T174814Z
UID:10003422-1758792600-1758792600@hhsociety.org
SUMMARY:Linda's Lake Lodge Classes - Yoga Pilates
DESCRIPTION:9:30am Thursdays \nAll Classes are $10 per class.  Register at the start of the month. Contact Linda Zeiss Instructor at labzeiss@gmail.com or (718) 541-0861
URL:https://hhsociety.org/event/lindas-lake-lodge-classes-yoga-pilates/2025-09-25/
LOCATION:Lake Lodge Upper Level
END:VEVENT
BEGIN:VEVENT
DTSTART;TZID=America/New_York:20250925T100000
DTEND;TZID=America/New_York:20250925T100000
DTSTAMP:20260424T183900
CREATED:20241029T182512Z
LAST-MODIFIED:20241029T182512Z
UID:10009058-1758794400-1758794400@hhsociety.org
SUMMARY:Ping Pong
DESCRIPTION:Thursdays at 10 am in the Activities Center’s Game Room. Open to all residents. Come\nhang out and play!
URL:https://hhsociety.org/event/ping-pong/2025-09-25/
LOCATION:Game Room
END:VEVENT
BEGIN:VEVENT
DTSTART;TZID=America/New_York:20250925T110000
DTEND;TZID=America/New_York:20250925T110000
DTSTAMP:20260424T183900
CREATED:20241029T174738Z
LAST-MODIFIED:20241029T174738Z
UID:10007834-1758798000-1758798000@hhsociety.org
SUMMARY:Mah Jongg Thursdays
DESCRIPTION:Thursdays from 11 am to 1 pm Call Cheryl Milde at 914-342-3068.
URL:https://hhsociety.org/event/mah-jongg-thursdays/2025-09-25/
LOCATION:Lake Lodge Room 2
END:VEVENT
BEGIN:VEVENT
DTSTART;TZID=America/New_York:20250925T123000
DTEND;TZID=America/New_York:20250925T123000
DTSTAMP:20260424T183900
CREATED:20241023T182703Z
LAST-MODIFIED:20241023T182703Z
UID:10005749-1758803400-1758803400@hhsociety.org
SUMMARY:Duplicate Bridge
DESCRIPTION:Mondays and Thursdays at 12:30pm in the Activities Center.  For information\, call Marie at (914) 277-4266
URL:https://hhsociety.org/event/duplicate-bridge-4/2025-09-25/
LOCATION:Heritage Room
END:VEVENT
BEGIN:VEVENT
DTSTART;TZID=America/New_York:20250925T130000
DTEND;TZID=America/New_York:20250925T130000
DTSTAMP:20260424T183900
CREATED:20241029T174856Z
LAST-MODIFIED:20241029T174856Z
UID:10008095-1758805200-1758805200@hhsociety.org
SUMMARY:Scrabble
DESCRIPTION:Thursdays starting promptly at 1 pm in Room 2 in the Activities Center. Casual\nScrabble game play. Play 1 or more games. All levels of play\, including newbies\, are welcome. For more\ninformation\, just walk in or contact Susan at 914-617-9228 or ciwhitestar@comcast.net.
URL:https://hhsociety.org/event/scrabble/2025-09-25/
LOCATION:Room 2/3
END:VEVENT
BEGIN:VEVENT
DTSTART;TZID=America/New_York:20250925T130000
DTEND;TZID=America/New_York:20250925T130000
DTSTAMP:20260424T183900
CREATED:20241113T153705Z
LAST-MODIFIED:20241113T153705Z
UID:10009665-1758805200-1758805200@hhsociety.org
SUMMARY:Thriving in your Prime
DESCRIPTION:Join us every other week on Thursday at 1pm in Lake Lodge Room 3 to discuss relevant topics and learn strategies that will help those over the age of 50 navigate the challenges they are confronted with.  Each time we meet we will discuss a new topic\, and you will learn strategies you can implement in your own life.  The investment in each gathering is one hour of your time and $5!
URL:https://hhsociety.org/event/thriving-in-your-prime-2/2025-09-25/
LOCATION:Lake Lodge Room 3
END:VEVENT
BEGIN:VEVENT
DTSTART;TZID=America/New_York:20250925T160000
DTEND;TZID=America/New_York:20250925T170000
DTSTAMP:20260424T183900
CREATED:20250507T134022Z
LAST-MODIFIED:20250507T134022Z
UID:10011039-1758816000-1758819600@hhsociety.org
SUMMARY:I Love Art Class with Miss. Judika
DESCRIPTION:After school Art in Heritage Hills for children ages grade K-6. \nTo register call Judika at (914) 438-6750 \n$20 per class; all 2 for $60
URL:https://hhsociety.org/event/i-love-art-class-with-miss-judika/2025-09-25/
LOCATION:Art Room A
END:VEVENT
BEGIN:VEVENT
DTSTART;TZID=America/New_York:20250926T090000
DTEND;TZID=America/New_York:20250926T090000
DTSTAMP:20260424T183900
CREATED:20250514T152237Z
LAST-MODIFIED:20250514T152237Z
UID:10011977-1758877200-1758877200@hhsociety.org
SUMMARY:Continuum/Fluid Form Movement\, Mindfulness\, and Meditation with Melanie Gambino
DESCRIPTION:Pre-registration required. $15 per class \nFor more information and to reserve your place\, call\, text\, or email Melanie at (914) 588-2450 or melaniegambino1@gmail.com
URL:https://hhsociety.org/event/continuum-fluid-form-movement-mindfulness-and-meditation-with-melanie-gambino/2025-09-26/
LOCATION:Lake Lodge Room 3
END:VEVENT
BEGIN:VEVENT
DTSTART;TZID=America/New_York:20250926T094500
DTEND;TZID=America/New_York:20250926T094500
DTSTAMP:20260424T183900
CREATED:20250502T150719Z
LAST-MODIFIED:20250502T150719Z
UID:10010971-1758879900-1758879900@hhsociety.org
SUMMARY:Move and Groove with Theresa
DESCRIPTION:Easy to learn and easy to follow beginner Line Dances to ALL music genres.  Contact Theresa for more information at zumbawithme@aol.com
URL:https://hhsociety.org/event/move-and-groove-with-theresa-2/2025-09-26/
LOCATION:Gym\, Fitness Center
END:VEVENT
BEGIN:VEVENT
DTSTART;TZID=America/New_York:20250926T094500
DTEND;TZID=America/New_York:20250926T094500
DTSTAMP:20260424T183900
CREATED:20250514T153212Z
LAST-MODIFIED:20250514T153212Z
UID:10012231-1758879900-1758879900@hhsociety.org
SUMMARY:Move and Groove with Theresa
DESCRIPTION:East to learn and easy to follow beginner Line Dances to ALL music genres. \nContact Theresa for more information at zumbawithme@aol.com
URL:https://hhsociety.org/event/move-and-groove-with-theresa-4/2025-09-26/
LOCATION:Gym\, Fitness Center
END:VEVENT
BEGIN:VEVENT
DTSTART;TZID=America/New_York:20250926T100000
DTEND;TZID=America/New_York:20250926T100000
DTSTAMP:20260424T183900
CREATED:20241023T154744Z
LAST-MODIFIED:20241023T181006Z
UID:10004987-1758880800-1758880800@hhsociety.org
SUMMARY:Gentle Yoga with Lisa
DESCRIPTION:Mondays at 11:30am and Fridays at 10am in the Lake Lodge’s Upper Level.  $12 for a 75-minute class.  Contact lisaathomas@optonline.net or 914-497-0243 with questions or to register.
URL:https://hhsociety.org/event/gentle-yoga-with-lisa-4/2025-09-26/
LOCATION:Lake Lodge Upper Level
END:VEVENT
BEGIN:VEVENT
DTSTART;TZID=America/New_York:20250926T105000
DTEND;TZID=America/New_York:20250926T105000
DTSTAMP:20260424T183900
CREATED:20250502T151043Z
LAST-MODIFIED:20250502T151043Z
UID:10010997-1758883800-1758883800@hhsociety.org
SUMMARY:Getting Back on Track (15-15-15) with Theresa
DESCRIPTION:Light cardio and balance\, functional strength and stretch\, and restorative breathing and relaxation.  Great class to begin or continue your fitness journey.  Contact Theresa for more information at zumbawithme@aol.com
URL:https://hhsociety.org/event/getting-back-on-track-15-15-15-with-theresa-2/2025-09-26/
LOCATION:Gym\, Fitness Center
END:VEVENT
BEGIN:VEVENT
DTSTART;TZID=America/New_York:20250926T105000
DTEND;TZID=America/New_York:20250926T105000
DTSTAMP:20260424T183900
CREATED:20250514T153814Z
LAST-MODIFIED:20250514T153814Z
UID:10012485-1758883800-1758883800@hhsociety.org
SUMMARY:Getting Back on Track (15-15-15) with Theresa
DESCRIPTION:Light cardio and balance\, functional strength and stretch\, and restorative breathing and relaxation.  Great class to begin or continue your fitness journey. Contact Theresa for more information at zumbawithme@aol.com
URL:https://hhsociety.org/event/getting-back-on-track-15-15-15-with-theresa-4/2025-09-26/
LOCATION:Gym\, Fitness Center
END:VEVENT
BEGIN:VEVENT
DTSTART;TZID=America/New_York:20250926T110000
DTEND;TZID=America/New_York:20250926T110000
DTSTAMP:20260424T183900
CREATED:20241023T181829Z
LAST-MODIFIED:20241023T181829Z
UID:10005211-1758884400-1758884400@hhsociety.org
SUMMARY:French Conversation
DESCRIPTION:Meets the 2nd and 4th Friday of the month at Lake Lodge in Room 1\nfrom 11 am to noon. Members should have a basic knowledge of French conversation but need not be\nfluent. Refresh your French language skills and laugh and learn with us. If you have any questions\, call\nCarole Ellis 914-260-9182 or email her at carellis14@yahoo.com.
URL:https://hhsociety.org/event/french-conversation/2025-09-26/
LOCATION:Lake Lodge Room 1
END:VEVENT
BEGIN:VEVENT
DTSTART;TZID=America/New_York:20250926T130000
DTEND;TZID=America/New_York:20250926T130000
DTSTAMP:20260424T183900
CREATED:20241029T174509Z
LAST-MODIFIED:20241029T174509Z
UID:10007313-1758891600-1758891600@hhsociety.org
SUMMARY:Mah Jongg Fridays
DESCRIPTION:Fridays at 1 pm in Lake Lodge \nCall Cheryl Milde at 914-342-3068.
URL:https://hhsociety.org/event/mah-jongg-fridays/2025-09-26/
LOCATION:Lake Lodge Room 3
END:VEVENT
BEGIN:VEVENT
DTSTART;TZID=America/New_York:20250926T161500
DTEND;TZID=America/New_York:20250926T161500
DTSTAMP:20260424T183900
CREATED:20250507T143816Z
LAST-MODIFIED:20250507T143816Z
UID:10011582-1758903300-1758903300@hhsociety.org
SUMMARY:Environmental Club
DESCRIPTION:This Club’s primary objective is to foster a culture of environmental responsibility within Heritage Hills.  All are welcome\, including teens.  Watch for announcements and postings about special events and field trips.  No fee. \nFor more information\, contact Carrie Sears at carolynnsears@me.com or (914) 522-3111
URL:https://hhsociety.org/event/environmental-club-2-2/2025-09-26/
LOCATION:Room 2/3
END:VEVENT
BEGIN:VEVENT
DTSTART;TZID=America/New_York:20250927T093000
DTEND;TZID=America/New_York:20250927T093000
DTSTAMP:20260424T183900
CREATED:20250829T141414Z
LAST-MODIFIED:20250829T141414Z
UID:10013315-1758965400-1758965400@hhsociety.org
SUMMARY:Hikers & Walkers
DESCRIPTION:Rhinoceros Creek Both Sections \nLeader Barry Tuch (516) 488–5321 \nRating B
URL:https://hhsociety.org/event/hikers-walkers-18/2025-09-27/2/
LOCATION:Activities Parking Lot
END:VEVENT
BEGIN:VEVENT
DTSTART;TZID=America/New_York:20250927T190000
DTEND;TZID=America/New_York:20250927T190000
DTSTAMP:20260424T183900
CREATED:20250804T163219Z
LAST-MODIFIED:20250804T163219Z
UID:10013297-1758999600-1758999600@hhsociety.org
SUMMARY:Ciao Italia - The Fabulous Acchords
DESCRIPTION:
URL:https://hhsociety.org/event/ciao-italia-the-fabulous-acchords/
LOCATION:Heritage Room
END:VEVENT
BEGIN:VEVENT
DTSTART;TZID=America/New_York:20250928T093000
DTEND;TZID=America/New_York:20250928T093000
DTSTAMP:20260424T183900
CREATED:20250829T141752Z
LAST-MODIFIED:20250829T142112Z
UID:10013316-1759051800-1759051800@hhsociety.org
SUMMARY:Hikers & Walkers
DESCRIPTION:Diverting Reservoir – Brewster \nLeader Jane Smalley (914) 263-8146 \nRating D
URL:https://hhsociety.org/event/hikers-walkers-20/
LOCATION:Activities Parking Lot
END:VEVENT
BEGIN:VEVENT
DTSTART;TZID=America/New_York:20250930T133000
DTEND;TZID=America/New_York:20250930T133000
DTSTAMP:20260424T183900
CREATED:20250806T133036Z
LAST-MODIFIED:20250806T133036Z
UID:10013306-1759239000-1759239000@hhsociety.org
SUMMARY:Continuing Education
DESCRIPTION:Citizens United at 15: How the Supreme Court’s 2010 Decision Defined the 2024 Election \nA lecture by Marina Pino\, counsel for the Brennan Center for Justice’s Election and Governments program
URL:https://hhsociety.org/event/continuing-education-8/
LOCATION:Heritage Room
END:VEVENT
BEGIN:VEVENT
DTSTART;TZID=America/New_York:20251001T080000
DTEND;TZID=America/New_York:20251001T170000
DTSTAMP:20260424T183900
CREATED:20251001T123459Z
LAST-MODIFIED:20251001T123459Z
UID:10013332-1759305600-1759338000@hhsociety.org
SUMMARY:Hikers and Walkers
DESCRIPTION:Old Putnam RR – Rating D \nLeader Jane Smalley (914) 263-8146
URL:https://hhsociety.org/event/hikers-and-walkers-2/
END:VEVENT
BEGIN:VEVENT
DTSTART;TZID=America/New_York:20251001T190000
DTEND;TZID=America/New_York:20251001T190000
DTSTAMP:20260424T183900
CREATED:20250514T144427Z
LAST-MODIFIED:20250514T144427Z
UID:10011902-1759345200-1759345200@hhsociety.org
SUMMARY:Energy Healing for Self\, Family\, Friends and Pets with Melanie Gambino
DESCRIPTION:Pre-registration required.  $20 per class \nFor more information and to reserve your place\, call\, text or email Melanie at (914) 588-2450 or melaniegambino1@gmail.com$20 per \n 
URL:https://hhsociety.org/event/energy-healing-for-self-family-friends-and-pets-with-melanie-gambino/2025-10-01/
LOCATION:Lake Lodge Room 3
END:VEVENT
BEGIN:VEVENT
DTSTART;TZID=America/New_York:20251002T110000
DTEND;TZID=America/New_York:20251002T110000
DTSTAMP:20260424T183900
CREATED:20241023T182146Z
LAST-MODIFIED:20241023T182146Z
UID:10005331-1759402800-1759402800@hhsociety.org
SUMMARY:Spanish Conversation
DESCRIPTION:Meets the 1st Thursday of the month in Lake Lodge’s\nRoom 1 at 11 am. Group is open to intermediate through fluent Spanish speakers. ¡Vengan!
URL:https://hhsociety.org/event/spanish-conversation/2025-10-02/
LOCATION:Lake Lodge Room 1
END:VEVENT
END:VCALENDAR