BEGIN:VCALENDAR
VERSION:2.0
PRODID:-//Heritage Hills Society - ECPv6.15.20//NONSGML v1.0//EN
CALSCALE:GREGORIAN
METHOD:PUBLISH
X-WR-CALNAME:Heritage Hills Society
X-ORIGINAL-URL:https://hhsociety.org
X-WR-CALDESC:Events for Heritage Hills Society
REFRESH-INTERVAL;VALUE=DURATION:PT1H
X-Robots-Tag:noindex
X-PUBLISHED-TTL:PT1H
BEGIN:VTIMEZONE
TZID:America/New_York
BEGIN:DAYLIGHT
TZOFFSETFROM:-0500
TZOFFSETTO:-0400
TZNAME:EDT
DTSTART:20240310T070000
END:DAYLIGHT
BEGIN:STANDARD
TZOFFSETFROM:-0400
TZOFFSETTO:-0500
TZNAME:EST
DTSTART:20241103T060000
END:STANDARD
BEGIN:DAYLIGHT
TZOFFSETFROM:-0500
TZOFFSETTO:-0400
TZNAME:EDT
DTSTART:20250309T070000
END:DAYLIGHT
BEGIN:STANDARD
TZOFFSETFROM:-0400
TZOFFSETTO:-0500
TZNAME:EST
DTSTART:20251102T060000
END:STANDARD
BEGIN:DAYLIGHT
TZOFFSETFROM:-0500
TZOFFSETTO:-0400
TZNAME:EDT
DTSTART:20260308T070000
END:DAYLIGHT
BEGIN:STANDARD
TZOFFSETFROM:-0400
TZOFFSETTO:-0500
TZNAME:EST
DTSTART:20261101T060000
END:STANDARD
END:VTIMEZONE
BEGIN:VEVENT
DTSTART;TZID=America/New_York:20251010T094500
DTEND;TZID=America/New_York:20251010T094500
DTSTAMP:20260424T170113
CREATED:20250502T150719Z
LAST-MODIFIED:20250502T150719Z
UID:10010973-1760089500-1760089500@hhsociety.org
SUMMARY:Move and Groove with Theresa
DESCRIPTION:Easy to learn and easy to follow beginner Line Dances to ALL music genres.  Contact Theresa for more information at zumbawithme@aol.com
URL:https://hhsociety.org/event/move-and-groove-with-theresa-2/2025-10-10/
LOCATION:Gym\, Fitness Center
END:VEVENT
BEGIN:VEVENT
DTSTART;TZID=America/New_York:20251010T094500
DTEND;TZID=America/New_York:20251010T094500
DTSTAMP:20260424T170113
CREATED:20250514T153212Z
LAST-MODIFIED:20250514T153212Z
UID:10012233-1760089500-1760089500@hhsociety.org
SUMMARY:Move and Groove with Theresa
DESCRIPTION:East to learn and easy to follow beginner Line Dances to ALL music genres. \nContact Theresa for more information at zumbawithme@aol.com
URL:https://hhsociety.org/event/move-and-groove-with-theresa-4/2025-10-10/
LOCATION:Gym\, Fitness Center
END:VEVENT
BEGIN:VEVENT
DTSTART;TZID=America/New_York:20251010T100000
DTEND;TZID=America/New_York:20251010T100000
DTSTAMP:20260424T170113
CREATED:20241023T154744Z
LAST-MODIFIED:20241023T181006Z
UID:10004989-1760090400-1760090400@hhsociety.org
SUMMARY:Gentle Yoga with Lisa
DESCRIPTION:Mondays at 11:30am and Fridays at 10am in the Lake Lodge’s Upper Level.  $12 for a 75-minute class.  Contact lisaathomas@optonline.net or 914-497-0243 with questions or to register.
URL:https://hhsociety.org/event/gentle-yoga-with-lisa-4/2025-10-10/
LOCATION:Lake Lodge Upper Level
END:VEVENT
BEGIN:VEVENT
DTSTART;TZID=America/New_York:20251010T105000
DTEND;TZID=America/New_York:20251010T105000
DTSTAMP:20260424T170113
CREATED:20250502T151043Z
LAST-MODIFIED:20250502T151043Z
UID:10010999-1760093400-1760093400@hhsociety.org
SUMMARY:Getting Back on Track (15-15-15) with Theresa
DESCRIPTION:Light cardio and balance\, functional strength and stretch\, and restorative breathing and relaxation.  Great class to begin or continue your fitness journey.  Contact Theresa for more information at zumbawithme@aol.com
URL:https://hhsociety.org/event/getting-back-on-track-15-15-15-with-theresa-2/2025-10-10/
LOCATION:Gym\, Fitness Center
END:VEVENT
BEGIN:VEVENT
DTSTART;TZID=America/New_York:20251010T105000
DTEND;TZID=America/New_York:20251010T105000
DTSTAMP:20260424T170113
CREATED:20250514T153814Z
LAST-MODIFIED:20250514T153814Z
UID:10012487-1760093400-1760093400@hhsociety.org
SUMMARY:Getting Back on Track (15-15-15) with Theresa
DESCRIPTION:Light cardio and balance\, functional strength and stretch\, and restorative breathing and relaxation.  Great class to begin or continue your fitness journey. Contact Theresa for more information at zumbawithme@aol.com
URL:https://hhsociety.org/event/getting-back-on-track-15-15-15-with-theresa-4/2025-10-10/
LOCATION:Gym\, Fitness Center
END:VEVENT
BEGIN:VEVENT
DTSTART;TZID=America/New_York:20251010T110000
DTEND;TZID=America/New_York:20251010T110000
DTSTAMP:20260424T170113
CREATED:20241023T181940Z
LAST-MODIFIED:20241023T181940Z
UID:10005271-1760094000-1760094000@hhsociety.org
SUMMARY:French Conversation
DESCRIPTION:Meets the 2nd and 4th Friday of the month at Lake Lodge in Room 1\nfrom 11 am to noon. Members should have a basic knowledge of French conversation but need not be\nfluent. Refresh your French language skills and laugh and learn with us. If you have any questions\, call\nCarole Ellis 914-260-9182 or email her at carellis14@yahoo.com.
URL:https://hhsociety.org/event/french-conversation-2-2/2025-10-10/
LOCATION:Lake Lodge Room 1
END:VEVENT
BEGIN:VEVENT
DTSTART;TZID=America/New_York:20251010T130000
DTEND;TZID=America/New_York:20251010T130000
DTSTAMP:20260424T170113
CREATED:20241029T174509Z
LAST-MODIFIED:20241029T174509Z
UID:10007315-1760101200-1760101200@hhsociety.org
SUMMARY:Mah Jongg Fridays
DESCRIPTION:Fridays at 1 pm in Lake Lodge \nCall Cheryl Milde at 914-342-3068.
URL:https://hhsociety.org/event/mah-jongg-fridays/2025-10-10/
LOCATION:Lake Lodge Room 3
END:VEVENT
BEGIN:VEVENT
DTSTART;TZID=America/New_York:20251010T130000
DTEND;TZID=America/New_York:20251010T130000
DTSTAMP:20260424T170113
CREATED:20241114T183953Z
LAST-MODIFIED:20241114T183953Z
UID:10010887-1760101200-1760101200@hhsociety.org
SUMMARY:Let's Talk Senior Care
DESCRIPTION:Join us the second Friday of every month at 1pm.  Stephanie Roberti\, MHA\, will be introducing different senior care topics to help educate us on this important subject.  For more information contact Stephanie Roberti at (914) 357-3049 or by email at sroberti@newbeginningsforseniors.com
URL:https://hhsociety.org/event/lets-talk-senior-care/2025-10-10/
LOCATION:Heritage Room
END:VEVENT
BEGIN:VEVENT
DTSTART;TZID=America/New_York:20251010T150000
DTEND;TZID=America/New_York:20251010T150000
DTSTAMP:20260424T170113
CREATED:20250507T143510Z
LAST-MODIFIED:20251202T162235Z
UID:10013371-1760108400-1760108400@hhsociety.org
SUMMARY:Environmental Club
DESCRIPTION:This Club’s primary objective is to foster a culture of environmental responsibility within Heritage Hills.  All are welcome\, including teens.  Watch for announcements and postings about special events and field trips.  No fee. \nFor more information contact Carrie Sears at carolynnsears@me.com  or (914) 522-3111
URL:https://hhsociety.org/event/environmental-club/2025-10-10/
LOCATION:Room 2/3
END:VEVENT
BEGIN:VEVENT
DTSTART;TZID=America/New_York:20251010T163000
DTEND;TZID=America/New_York:20251010T163000
DTSTAMP:20260424T170113
CREATED:20251001T155325Z
LAST-MODIFIED:20251001T155325Z
UID:10013339-1760113800-1760113800@hhsociety.org
SUMMARY:Environmental Club
DESCRIPTION:Meeting for Teens! \nFor More information contact Carrie Sears (914) 522-3111
URL:https://hhsociety.org/event/environmental-club-2-3/
LOCATION:Room 2/3
END:VEVENT
BEGIN:VEVENT
DTSTART;TZID=America/New_York:20251011T090000
DTEND;TZID=America/New_York:20251011T090000
DTSTAMP:20260424T170113
CREATED:20241023T180749Z
LAST-MODIFIED:20241023T180749Z
UID:10004469-1760173200-1760173200@hhsociety.org
SUMMARY:Vinyasa Yoga with Joe
DESCRIPTION:Saturdays at 9 am in Lake Lodge’s Upper Level. $12 per class. To\nregister\, email Joe Ferrari at josephferrari@me.com.
URL:https://hhsociety.org/event/vinyasa-yoga-with-joe-2/2025-10-11/
LOCATION:Lake Lodge Upper Level
END:VEVENT
BEGIN:VEVENT
DTSTART;TZID=America/New_York:20251011T093000
DTEND;TZID=America/New_York:20251011T093000
DTSTAMP:20260424T170113
CREATED:20251001T124141Z
LAST-MODIFIED:20251001T124141Z
UID:10013333-1760175000-1760175000@hhsociety.org
SUMMARY:Hikers and Walkers
DESCRIPTION:Marx Preserve Goldens Bridge – Rating B \nLeader Cheryl Hochenberg (516)-220-0965
URL:https://hhsociety.org/event/hikers-and-walkers-3/
LOCATION:Activities Parking Lot
END:VEVENT
BEGIN:VEVENT
DTSTART;TZID=America/New_York:20251011T123000
DTEND;TZID=America/New_York:20251011T123000
DTSTAMP:20260424T170113
CREATED:20241023T183621Z
LAST-MODIFIED:20241023T183729Z
UID:10006272-1760185800-1760185800@hhsociety.org
SUMMARY:Canasta Club
DESCRIPTION:Saturdays 12:30pm to 4pm. Contact Doris Simon 914-276-0111 or\nDoris1121@me.com or Nancy Heilman 914-224-7180 or Nancy.C.Heilman@gmail.com
URL:https://hhsociety.org/event/canasta-club-3/2025-10-11/
LOCATION:Room 2/3
END:VEVENT
BEGIN:VEVENT
DTSTART;TZID=America/New_York:20251012T083000
DTEND;TZID=America/New_York:20251012T103000
DTSTAMP:20260424T170113
CREATED:20250701T192408Z
LAST-MODIFIED:20250701T192408Z
UID:10012889-1760257800-1760265000@hhsociety.org
SUMMARY:Pickleball - Food Drive for St. Lukes
DESCRIPTION:Our email is PickleballHH@outlook.com
URL:https://hhsociety.org/event/pickleball-food-drive-for-st-lukes/
LOCATION:Pickleball Courts
END:VEVENT
BEGIN:VEVENT
DTSTART;TZID=America/New_York:20251012T090000
DTEND;TZID=America/New_York:20251012T090000
DTSTAMP:20260424T170113
CREATED:20241023T175213Z
LAST-MODIFIED:20241023T175213Z
UID:10003685-1760259600-1760259600@hhsociety.org
SUMMARY:Linda's Lake Lodge Workouts - Sports Conditioning
DESCRIPTION:9:00am Sundays \nAll Classes are $10 per class.  Register at the start of the month. Contact Linda Zeiss Instructor at labzeiss@gmail.com or (718) 541-0861
URL:https://hhsociety.org/event/lindas-lake-lodge-workouts-sports-conditioning/2025-10-12/
LOCATION:Lake Lodge Upper Level
END:VEVENT
BEGIN:VEVENT
DTSTART;TZID=America/New_York:20251012T093000
DTEND;TZID=America/New_York:20251012T093000
DTSTAMP:20260424T170113
CREATED:20251001T124257Z
LAST-MODIFIED:20251001T124257Z
UID:10013334-1760261400-1760261400@hhsociety.org
SUMMARY:Hikers and Walkers
DESCRIPTION:Old Goldens Bridge Trail – Rating C \nLeader Jane Smalley (914) 263-8146
URL:https://hhsociety.org/event/hikers-and-walkers-4/
LOCATION:Activities Parking Lot
END:VEVENT
BEGIN:VEVENT
DTSTART;TZID=America/New_York:20251013T093000
DTEND;TZID=America/New_York:20251013T093000
DTSTAMP:20260424T170113
CREATED:20241029T175413Z
LAST-MODIFIED:20241029T175413Z
UID:10008478-1760347800-1760347800@hhsociety.org
SUMMARY:Morning Discussion Group
DESCRIPTION:Discussion group on current event topics. Meets Mondays\nfrom 9:30 to 11 am in the Activities Center. For information\, email Ken Benjamin at kenbenja@aol.com\nor call 914-617-9817.
URL:https://hhsociety.org/event/morning-discussion-group-2/2025-10-13/
LOCATION:Room 2/3
END:VEVENT
BEGIN:VEVENT
DTSTART;TZID=America/New_York:20251013T110000
DTEND;TZID=America/New_York:20251013T110000
DTSTAMP:20260424T170113
CREATED:20241023T151632Z
LAST-MODIFIED:20241023T151632Z
UID:10000052-1760353200-1760353200@hhsociety.org
SUMMARY:Learn to Bead with Allison
DESCRIPTION:Join us on Mondays at 11:00 am in Room B for our beading class.  Each class is $25 including materials fee.  You go home with a piece of jewelry that you made for yourself or for a special someone.  Come and join the fun.  To enroll or for more information\, contact Allison Rubin at (914) 629-3655 or ahrubin521@yahoo.com
URL:https://hhsociety.org/event/learn-to-bead-with-allison-3/2025-10-13/
LOCATION:Art Room B
END:VEVENT
BEGIN:VEVENT
DTSTART;TZID=America/New_York:20251013T113000
DTEND;TZID=America/New_York:20251013T113000
DTSTAMP:20260424T170113
CREATED:20241023T154622Z
LAST-MODIFIED:20241023T154622Z
UID:10001335-1760355000-1760355000@hhsociety.org
SUMMARY:Gentle Yoga with Lisa
DESCRIPTION:Mondays at 11:30 am and Fridays at 10 am in the Lake Lodge’s Upper Level.  $12 for a 75-minute class.  Contact lisaathomas@optonline.net or 914-497-0243 for more information.
URL:https://hhsociety.org/event/gentle-yoga-with-lisa-2/2025-10-13/
LOCATION:Lake Lodge Upper Level
END:VEVENT
BEGIN:VEVENT
DTSTART;TZID=America/New_York:20251013T120000
DTEND;TZID=America/New_York:20251013T120000
DTSTAMP:20260424T170113
CREATED:20241029T174209Z
LAST-MODIFIED:20241029T174209Z
UID:10006793-1760356800-1760356800@hhsociety.org
SUMMARY:Mah Jongg Mondays
DESCRIPTION:Mondays at noon in Lake Lodge (contact Sue Furino 914-617-9110);
URL:https://hhsociety.org/event/mah-jongg-mondays/2025-10-13/
LOCATION:Lake Lodge Room 3
END:VEVENT
BEGIN:VEVENT
DTSTART;TZID=America/New_York:20251013T123000
DTEND;TZID=America/New_York:20251013T123000
DTSTAMP:20260424T170113
CREATED:20241023T155031Z
LAST-MODIFIED:20241023T155031Z
UID:10001597-1760358600-1760358600@hhsociety.org
SUMMARY:Tai Chi & Chi Gong with Master Ellen
DESCRIPTION:Mondays from 12:30-1:30pm in the Gym.  $70 per month.  First class free.  All levels welcome.  Wear loose fitting\, comfortable clothing.  Contact heritagehillstaichi2@@gmail.com for more information or to register.
URL:https://hhsociety.org/event/tai-chi-chi-gong-with-master-ellen-2/2025-10-13/
LOCATION:Gym\, Fitness Center
END:VEVENT
BEGIN:VEVENT
DTSTART;TZID=America/New_York:20251013T123000
DTEND;TZID=America/New_York:20251013T123000
DTSTAMP:20260424T170113
CREATED:20241023T182608Z
LAST-MODIFIED:20241023T182608Z
UID:10005490-1760358600-1760358600@hhsociety.org
SUMMARY:Duplicate Bridge
DESCRIPTION:Mondays and Thursdays at 12:30pm in the Activities Center.  For information\, call Marie at (914) 277-4266
URL:https://hhsociety.org/event/duplicate-bridge-2/2025-10-13/
LOCATION:Heritage Room
END:VEVENT
BEGIN:VEVENT
DTSTART;TZID=America/New_York:20251014T133000
DTEND;TZID=America/New_York:20251014T133000
DTSTAMP:20260424T170113
CREATED:20250930T185658Z
LAST-MODIFIED:20250930T185658Z
UID:10013323-1760448600-1760448600@hhsociety.org
SUMMARY:Continuing Education
DESCRIPTION:Southern Gothic Literature \nTwo separate lectures by Maggie Seligman\, professor of literature \nA Streetcar Named Desire – 10/14 \nThe Ballad of the Sad Cafe – 10/21 \n$10 paid at the door per lecture \nCall Ann with questions 914-617-9434
URL:https://hhsociety.org/event/continuing-education-10/
LOCATION:Heritage Room
END:VEVENT
BEGIN:VEVENT
DTSTART;TZID=America/New_York:20251015T170000
DTEND;TZID=America/New_York:20251015T170000
DTSTAMP:20260424T170113
CREATED:20250930T204731Z
LAST-MODIFIED:20250930T204731Z
UID:10013330-1760547600-1760547600@hhsociety.org
SUMMARY:Singles Club
DESCRIPTION:Buckaroo BBQ Bonanza \nCall Pat Caruso with Questions (914) 649-3232
URL:https://hhsociety.org/event/singles-club-3/
LOCATION:Heritage Room
END:VEVENT
BEGIN:VEVENT
DTSTART;TZID=America/New_York:20251018T093000
DTEND;TZID=America/New_York:20251018T093000
DTSTAMP:20260424T170113
CREATED:20251001T124554Z
LAST-MODIFIED:20251001T124554Z
UID:10013335-1760779800-1760779800@hhsociety.org
SUMMARY:Hikers and Walkers
DESCRIPTION:Butler Memorial Sanctuary – Mt. Kisco – Rating B \nLeader Kelly Doherty (914) 915-8956
URL:https://hhsociety.org/event/hikers-and-walkers-5/
LOCATION:Activities Parking Lot
END:VEVENT
BEGIN:VEVENT
DTSTART;TZID=America/New_York:20251018T183000
DTEND;TZID=America/New_York:20251018T183000
DTSTAMP:20260424T170113
CREATED:20251001T155632Z
LAST-MODIFIED:20251001T155632Z
UID:10013341-1760812200-1760812200@hhsociety.org
SUMMARY:Ciao Italia
DESCRIPTION:Columbus Day Buffet Dinner
URL:https://hhsociety.org/event/ciao-italia/
LOCATION:Heritage Room
END:VEVENT
BEGIN:VEVENT
DTSTART;TZID=America/New_York:20251019T093000
DTEND;TZID=America/New_York:20251019T093000
DTSTAMP:20260424T170113
CREATED:20251001T125017Z
LAST-MODIFIED:20251001T125017Z
UID:10013336-1760866200-1760866200@hhsociety.org
SUMMARY:Hikers and Walkers
DESCRIPTION:Pepsico Sculpture Garden – Armonk Rating D \nLeader Kristie Repepi – (914) 275-7029
URL:https://hhsociety.org/event/hikers-and-walkers-6/
LOCATION:Activities Parking Lot
END:VEVENT
BEGIN:VEVENT
DTSTART;TZID=America/New_York:20251019T130000
DTEND;TZID=America/New_York:20251019T130000
DTSTAMP:20260424T170113
CREATED:20251001T155811Z
LAST-MODIFIED:20251001T155811Z
UID:10013342-1760878800-1760878800@hhsociety.org
SUMMARY:Club Shalom
DESCRIPTION:Where Do You Come From And What Comes Next? Life After Life. \n 
URL:https://hhsociety.org/event/club-shalom-2/
LOCATION:Heritage Room
END:VEVENT
BEGIN:VEVENT
DTSTART;TZID=America/New_York:20251021T133000
DTEND;TZID=America/New_York:20251021T133000
DTSTAMP:20260424T170113
CREATED:20250930T185804Z
LAST-MODIFIED:20250930T185804Z
UID:10013324-1761053400-1761053400@hhsociety.org
SUMMARY:Continuing Education
DESCRIPTION:Southern Gothic Literature \nTwo separate lectures by Maggie Seligman\, professor of literature \nA Streetcar Named Desire – 10/14 \nThe Ballad of the Sad Cafe – 10/21 \n$10 paid at the door per lecture \nCall Ann with questions 914-617-9434
URL:https://hhsociety.org/event/continuing-education-11/
LOCATION:Heritage Room
END:VEVENT
BEGIN:VEVENT
DTSTART;TZID=America/New_York:20251022T100000
DTEND;TZID=America/New_York:20251022T100000
DTSTAMP:20260424T170113
CREATED:20250507T135718Z
LAST-MODIFIED:20250507T135718Z
UID:10011080-1761127200-1761127200@hhsociety.org
SUMMARY:Crafters in the Hills
DESCRIPTION:For More Information email craftclubhh@gmail.com
URL:https://hhsociety.org/event/crafters-in-the-hills/2025-10-22/
LOCATION:Art Room B
END:VEVENT
END:VCALENDAR