BEGIN:VCALENDAR
VERSION:2.0
PRODID:-//Heritage Hills Society - ECPv6.15.20//NONSGML v1.0//EN
CALSCALE:GREGORIAN
METHOD:PUBLISH
X-WR-CALNAME:Heritage Hills Society
X-ORIGINAL-URL:https://hhsociety.org
X-WR-CALDESC:Events for Heritage Hills Society
REFRESH-INTERVAL;VALUE=DURATION:PT1H
X-Robots-Tag:noindex
X-PUBLISHED-TTL:PT1H
BEGIN:VTIMEZONE
TZID:America/New_York
BEGIN:DAYLIGHT
TZOFFSETFROM:-0500
TZOFFSETTO:-0400
TZNAME:EDT
DTSTART:20240310T070000
END:DAYLIGHT
BEGIN:STANDARD
TZOFFSETFROM:-0400
TZOFFSETTO:-0500
TZNAME:EST
DTSTART:20241103T060000
END:STANDARD
BEGIN:DAYLIGHT
TZOFFSETFROM:-0500
TZOFFSETTO:-0400
TZNAME:EDT
DTSTART:20250309T070000
END:DAYLIGHT
BEGIN:STANDARD
TZOFFSETFROM:-0400
TZOFFSETTO:-0500
TZNAME:EST
DTSTART:20251102T060000
END:STANDARD
BEGIN:DAYLIGHT
TZOFFSETFROM:-0500
TZOFFSETTO:-0400
TZNAME:EDT
DTSTART:20260308T070000
END:DAYLIGHT
BEGIN:STANDARD
TZOFFSETFROM:-0400
TZOFFSETTO:-0500
TZNAME:EST
DTSTART:20261101T060000
END:STANDARD
END:VTIMEZONE
BEGIN:VEVENT
DTSTART;TZID=America/New_York:20251114T105000
DTEND;TZID=America/New_York:20251114T105000
DTSTAMP:20260424T153845
CREATED:20250502T151043Z
LAST-MODIFIED:20250502T151043Z
UID:10011004-1763117400-1763117400@hhsociety.org
SUMMARY:Getting Back on Track (15-15-15) with Theresa
DESCRIPTION:Light cardio and balance\, functional strength and stretch\, and restorative breathing and relaxation.  Great class to begin or continue your fitness journey.  Contact Theresa for more information at zumbawithme@aol.com
URL:https://hhsociety.org/event/getting-back-on-track-15-15-15-with-theresa-2/2025-11-14/
LOCATION:Gym\, Fitness Center
END:VEVENT
BEGIN:VEVENT
DTSTART;TZID=America/New_York:20251114T105000
DTEND;TZID=America/New_York:20251114T105000
DTSTAMP:20260424T153845
CREATED:20250514T153814Z
LAST-MODIFIED:20250514T153814Z
UID:10012492-1763117400-1763117400@hhsociety.org
SUMMARY:Getting Back on Track (15-15-15) with Theresa
DESCRIPTION:Light cardio and balance\, functional strength and stretch\, and restorative breathing and relaxation.  Great class to begin or continue your fitness journey. Contact Theresa for more information at zumbawithme@aol.com
URL:https://hhsociety.org/event/getting-back-on-track-15-15-15-with-theresa-4/2025-11-14/
LOCATION:Gym\, Fitness Center
END:VEVENT
BEGIN:VEVENT
DTSTART;TZID=America/New_York:20251114T110000
DTEND;TZID=America/New_York:20251114T110000
DTSTAMP:20260424T153845
CREATED:20241023T181940Z
LAST-MODIFIED:20241023T181940Z
UID:10005272-1763118000-1763118000@hhsociety.org
SUMMARY:French Conversation
DESCRIPTION:Meets the 2nd and 4th Friday of the month at Lake Lodge in Room 1\nfrom 11 am to noon. Members should have a basic knowledge of French conversation but need not be\nfluent. Refresh your French language skills and laugh and learn with us. If you have any questions\, call\nCarole Ellis 914-260-9182 or email her at carellis14@yahoo.com.
URL:https://hhsociety.org/event/french-conversation-2-2/2025-11-14/
LOCATION:Lake Lodge Room 1
END:VEVENT
BEGIN:VEVENT
DTSTART;TZID=America/New_York:20251114T130000
DTEND;TZID=America/New_York:20251114T130000
DTSTAMP:20260424T153845
CREATED:20241029T174509Z
LAST-MODIFIED:20241029T174509Z
UID:10007320-1763125200-1763125200@hhsociety.org
SUMMARY:Mah Jongg Fridays
DESCRIPTION:Fridays at 1 pm in Lake Lodge \nCall Cheryl Milde at 914-342-3068.
URL:https://hhsociety.org/event/mah-jongg-fridays/2025-11-14/
LOCATION:Lake Lodge Room 3
END:VEVENT
BEGIN:VEVENT
DTSTART;TZID=America/New_York:20251114T130000
DTEND;TZID=America/New_York:20251114T130000
DTSTAMP:20260424T153845
CREATED:20241114T183953Z
LAST-MODIFIED:20241114T183953Z
UID:10010888-1763125200-1763125200@hhsociety.org
SUMMARY:Let's Talk Senior Care
DESCRIPTION:Join us the second Friday of every month at 1pm.  Stephanie Roberti\, MHA\, will be introducing different senior care topics to help educate us on this important subject.  For more information contact Stephanie Roberti at (914) 357-3049 or by email at sroberti@newbeginningsforseniors.com
URL:https://hhsociety.org/event/lets-talk-senior-care/2025-11-14/
LOCATION:Heritage Room
END:VEVENT
BEGIN:VEVENT
DTSTART;TZID=America/New_York:20251114T150000
DTEND;TZID=America/New_York:20251114T150000
DTSTAMP:20260424T153845
CREATED:20250507T143510Z
LAST-MODIFIED:20251202T162235Z
UID:10013372-1763132400-1763132400@hhsociety.org
SUMMARY:Environmental Club
DESCRIPTION:This Club’s primary objective is to foster a culture of environmental responsibility within Heritage Hills.  All are welcome\, including teens.  Watch for announcements and postings about special events and field trips.  No fee. \nFor more information contact Carrie Sears at carolynnsears@me.com  or (914) 522-3111
URL:https://hhsociety.org/event/environmental-club/2025-11-14/
LOCATION:Room 2/3
END:VEVENT
BEGIN:VEVENT
DTSTART;TZID=America/New_York:20251114T183000
DTEND;TZID=America/New_York:20251114T183000
DTSTAMP:20260424T153845
CREATED:20251103T145208Z
LAST-MODIFIED:20251103T145208Z
UID:10013358-1763145000-1763145000@hhsociety.org
SUMMARY:Ciao Italia
DESCRIPTION:Thanksgiving Gathering
URL:https://hhsociety.org/event/ciao-italia-2/
LOCATION:Heritage Room
END:VEVENT
BEGIN:VEVENT
DTSTART;TZID=America/New_York:20251115T090000
DTEND;TZID=America/New_York:20251115T090000
DTSTAMP:20260424T153845
CREATED:20241023T180749Z
LAST-MODIFIED:20241023T180749Z
UID:10004474-1763197200-1763197200@hhsociety.org
SUMMARY:Vinyasa Yoga with Joe
DESCRIPTION:Saturdays at 9 am in Lake Lodge’s Upper Level. $12 per class. To\nregister\, email Joe Ferrari at josephferrari@me.com.
URL:https://hhsociety.org/event/vinyasa-yoga-with-joe-2/2025-11-15/
LOCATION:Lake Lodge Upper Level
END:VEVENT
BEGIN:VEVENT
DTSTART;TZID=America/New_York:20251115T093000
DTEND;TZID=America/New_York:20251115T093000
DTSTAMP:20260424T153845
CREATED:20251031T153448Z
LAST-MODIFIED:20251031T153448Z
UID:10013352-1763199000-1763199000@hhsociety.org
SUMMARY:Hikers & Walkers
DESCRIPTION:Wonder Lake State Park Holmes; Rating B \nLeader: Kelly Doherty (914) 715-8956
URL:https://hhsociety.org/event/hikers-walkers-27/2025-11-15/2/
LOCATION:Activities Parking Lot
END:VEVENT
BEGIN:VEVENT
DTSTART;TZID=America/New_York:20251115T123000
DTEND;TZID=America/New_York:20251115T123000
DTSTAMP:20260424T153845
CREATED:20241023T183621Z
LAST-MODIFIED:20241023T183729Z
UID:10006277-1763209800-1763209800@hhsociety.org
SUMMARY:Canasta Club
DESCRIPTION:Saturdays 12:30pm to 4pm. Contact Doris Simon 914-276-0111 or\nDoris1121@me.com or Nancy Heilman 914-224-7180 or Nancy.C.Heilman@gmail.com
URL:https://hhsociety.org/event/canasta-club-3/2025-11-15/
LOCATION:Room 2/3
END:VEVENT
BEGIN:VEVENT
DTSTART;TZID=America/New_York:20251116T090000
DTEND;TZID=America/New_York:20251116T090000
DTSTAMP:20260424T153845
CREATED:20241023T175213Z
LAST-MODIFIED:20241023T175213Z
UID:10003690-1763283600-1763283600@hhsociety.org
SUMMARY:Linda's Lake Lodge Workouts - Sports Conditioning
DESCRIPTION:9:00am Sundays \nAll Classes are $10 per class.  Register at the start of the month. Contact Linda Zeiss Instructor at labzeiss@gmail.com or (718) 541-0861
URL:https://hhsociety.org/event/lindas-lake-lodge-workouts-sports-conditioning/2025-11-16/
LOCATION:Lake Lodge Upper Level
END:VEVENT
BEGIN:VEVENT
DTSTART;TZID=America/New_York:20251116T093000
DTEND;TZID=America/New_York:20251116T093000
DTSTAMP:20260424T153845
CREATED:20251031T153626Z
LAST-MODIFIED:20251031T153626Z
UID:10013353-1763285400-1763285400@hhsociety.org
SUMMARY:Hikers & Walkers
DESCRIPTION:Mt. Holly Road – Rating D \nLeader: Kristie Ripepi (914) 275-7029
URL:https://hhsociety.org/event/hikers-walkers-29/
LOCATION:Activities Parking Lot
END:VEVENT
BEGIN:VEVENT
DTSTART;TZID=America/New_York:20251117T093000
DTEND;TZID=America/New_York:20251117T093000
DTSTAMP:20260424T153845
CREATED:20241029T175413Z
LAST-MODIFIED:20241029T175413Z
UID:10008483-1763371800-1763371800@hhsociety.org
SUMMARY:Morning Discussion Group
DESCRIPTION:Discussion group on current event topics. Meets Mondays\nfrom 9:30 to 11 am in the Activities Center. For information\, email Ken Benjamin at kenbenja@aol.com\nor call 914-617-9817.
URL:https://hhsociety.org/event/morning-discussion-group-2/2025-11-17/
LOCATION:Room 2/3
END:VEVENT
BEGIN:VEVENT
DTSTART;TZID=America/New_York:20251117T110000
DTEND;TZID=America/New_York:20251117T110000
DTSTAMP:20260424T153845
CREATED:20241023T151632Z
LAST-MODIFIED:20241023T151632Z
UID:10000057-1763377200-1763377200@hhsociety.org
SUMMARY:Learn to Bead with Allison
DESCRIPTION:Join us on Mondays at 11:00 am in Room B for our beading class.  Each class is $25 including materials fee.  You go home with a piece of jewelry that you made for yourself or for a special someone.  Come and join the fun.  To enroll or for more information\, contact Allison Rubin at (914) 629-3655 or ahrubin521@yahoo.com
URL:https://hhsociety.org/event/learn-to-bead-with-allison-3/2025-11-17/
LOCATION:Art Room B
END:VEVENT
BEGIN:VEVENT
DTSTART;TZID=America/New_York:20251117T113000
DTEND;TZID=America/New_York:20251117T113000
DTSTAMP:20260424T153845
CREATED:20241023T154622Z
LAST-MODIFIED:20241023T154622Z
UID:10001340-1763379000-1763379000@hhsociety.org
SUMMARY:Gentle Yoga with Lisa
DESCRIPTION:Mondays at 11:30 am and Fridays at 10 am in the Lake Lodge’s Upper Level.  $12 for a 75-minute class.  Contact lisaathomas@optonline.net or 914-497-0243 for more information.
URL:https://hhsociety.org/event/gentle-yoga-with-lisa-2/2025-11-17/
LOCATION:Lake Lodge Upper Level
END:VEVENT
BEGIN:VEVENT
DTSTART;TZID=America/New_York:20251117T120000
DTEND;TZID=America/New_York:20251117T120000
DTSTAMP:20260424T153845
CREATED:20241029T174209Z
LAST-MODIFIED:20241029T174209Z
UID:10006798-1763380800-1763380800@hhsociety.org
SUMMARY:Mah Jongg Mondays
DESCRIPTION:Mondays at noon in Lake Lodge (contact Sue Furino 914-617-9110);
URL:https://hhsociety.org/event/mah-jongg-mondays/2025-11-17/
LOCATION:Lake Lodge Room 3
END:VEVENT
BEGIN:VEVENT
DTSTART;TZID=America/New_York:20251117T123000
DTEND;TZID=America/New_York:20251117T123000
DTSTAMP:20260424T153845
CREATED:20241023T155031Z
LAST-MODIFIED:20241023T155031Z
UID:10001602-1763382600-1763382600@hhsociety.org
SUMMARY:Tai Chi & Chi Gong with Master Ellen
DESCRIPTION:Mondays from 12:30-1:30pm in the Gym.  $70 per month.  First class free.  All levels welcome.  Wear loose fitting\, comfortable clothing.  Contact heritagehillstaichi2@@gmail.com for more information or to register.
URL:https://hhsociety.org/event/tai-chi-chi-gong-with-master-ellen-2/2025-11-17/
LOCATION:Gym\, Fitness Center
END:VEVENT
BEGIN:VEVENT
DTSTART;TZID=America/New_York:20251117T123000
DTEND;TZID=America/New_York:20251117T123000
DTSTAMP:20260424T153845
CREATED:20241023T182608Z
LAST-MODIFIED:20241023T182608Z
UID:10005495-1763382600-1763382600@hhsociety.org
SUMMARY:Duplicate Bridge
DESCRIPTION:Mondays and Thursdays at 12:30pm in the Activities Center.  For information\, call Marie at (914) 277-4266
URL:https://hhsociety.org/event/duplicate-bridge-2/2025-11-17/
LOCATION:Heritage Room
END:VEVENT
BEGIN:VEVENT
DTSTART;TZID=America/New_York:20251119T133000
DTEND;TZID=America/New_York:20251119T133000
DTSTAMP:20260424T153845
CREATED:20250702T155219Z
LAST-MODIFIED:20250702T155219Z
UID:10013228-1763559000-1763559000@hhsociety.org
SUMMARY:Society Board Meeting
DESCRIPTION:All unit owners are welcome to attend the meeting in person.  It will be broadcast on Comcast’s channels 21 and 1070 while in progress and will be rebroadcast daily on those channels at 2:00pm and 7:00pm until the next meeting occurs.  It can also be viewed on the Society website at hhsociety.org; go to Heritage Hills Society\, then choose Board Meetings & Documents. \nOwners are welcome to raise matters of concern in person at the meeting.  Residents who cannot attend may send an email to society@hhsociety.org\, call (914) 276-2908\, or mail them to Society Board\, 8 Heritage Hills\, Somers\, NY 10589.  They will be discussed at the end of the meeting. \nProvide your name and unit number on written correspondence.
URL:https://hhsociety.org/event/society-board-meeting-3/2025-11-19/
LOCATION:Heritage Room
END:VEVENT
BEGIN:VEVENT
DTSTART;TZID=America/New_York:20251120T130000
DTEND;TZID=America/New_York:20251120T130000
DTSTAMP:20260424T153845
CREATED:20241113T153705Z
LAST-MODIFIED:20241113T153705Z
UID:10009669-1763643600-1763643600@hhsociety.org
SUMMARY:Thriving in your Prime
DESCRIPTION:Join us every other week on Thursday at 1pm in Lake Lodge Room 3 to discuss relevant topics and learn strategies that will help those over the age of 50 navigate the challenges they are confronted with.  Each time we meet we will discuss a new topic\, and you will learn strategies you can implement in your own life.  The investment in each gathering is one hour of your time and $5!
URL:https://hhsociety.org/event/thriving-in-your-prime-2/2025-11-20/
LOCATION:Lake Lodge Room 3
END:VEVENT
BEGIN:VEVENT
DTSTART;TZID=America/New_York:20251120T140000
DTEND;TZID=America/New_York:20251120T140000
DTSTAMP:20260424T153845
CREATED:20251103T154831Z
LAST-MODIFIED:20251103T154831Z
UID:10013359-1763647200-1763647200@hhsociety.org
SUMMARY:Free Concert!
DESCRIPTION:Co-Sponsored by Continuing Education and the Concert Society. \nPoiesis Quartet – Caramoor’s 2025-26 String Quartet-in-Residence
URL:https://hhsociety.org/event/free-concert/
LOCATION:Lake Lodge Room 3
END:VEVENT
BEGIN:VEVENT
DTSTART;TZID=America/New_York:20251122T093000
DTEND;TZID=America/New_York:20251122T093000
DTSTAMP:20260424T153845
CREATED:20251031T153802Z
LAST-MODIFIED:20251031T153802Z
UID:10013354-1763803800-1763803800@hhsociety.org
SUMMARY:Hikers & Walkers
DESCRIPTION:AngleFly Preserve – Rating B \nLeader: Kelly Doherty (914) 715-8956
URL:https://hhsociety.org/event/hikers-walkers-30/
LOCATION:Activities Parking Lot
END:VEVENT
BEGIN:VEVENT
DTSTART;TZID=America/New_York:20251122T193000
DTEND;TZID=America/New_York:20251122T193000
DTSTAMP:20260424T153845
CREATED:20251103T155149Z
LAST-MODIFIED:20251103T155149Z
UID:10013360-1763839800-1763839800@hhsociety.org
SUMMARY:Community Theatre - November Cabaret
DESCRIPTION:Highlighting the Fabulous Sixties \nQuestion\, call Helen (917) 554-4417 or Muriel (914) 277-8825
URL:https://hhsociety.org/event/community-theatre-november-cabaret/
LOCATION:Heritage Room
END:VEVENT
BEGIN:VEVENT
DTSTART;TZID=America/New_York:20251123T093000
DTEND;TZID=America/New_York:20251123T093000
DTSTAMP:20260424T153845
CREATED:20251031T154207Z
LAST-MODIFIED:20251031T154207Z
UID:10013355-1763890200-1763890200@hhsociety.org
SUMMARY:Hikers & Walkers
DESCRIPTION:Hunter Brook Linear Park – Yorktown – Rating C+ \nLeader: Cheryl Hochenberg (516) 220-0965
URL:https://hhsociety.org/event/hikers-walkers-31/
LOCATION:Activities Parking Lot
END:VEVENT
BEGIN:VEVENT
DTSTART;TZID=America/New_York:20251123T140000
DTEND;TZID=America/New_York:20251123T140000
DTSTAMP:20260424T153845
CREATED:20251103T155319Z
LAST-MODIFIED:20251103T155319Z
UID:10013361-1763906400-1763906400@hhsociety.org
SUMMARY:Community Theatre - November Cabaret
DESCRIPTION:Highlighting the Fabulous Sixties \nQuestion\, call Helen (917) 554-4417 or Muriel (914) 277-8825
URL:https://hhsociety.org/event/community-theatre-november-cabaret-2/
LOCATION:Heritage Room
END:VEVENT
BEGIN:VEVENT
DTSTART;TZID=America/New_York:20251126T100000
DTEND;TZID=America/New_York:20251126T100000
DTSTAMP:20260424T153845
CREATED:20250507T135718Z
LAST-MODIFIED:20250507T135718Z
UID:10011081-1764151200-1764151200@hhsociety.org
SUMMARY:Crafters in the Hills
DESCRIPTION:For More Information email craftclubhh@gmail.com
URL:https://hhsociety.org/event/crafters-in-the-hills/2025-11-26/
LOCATION:Art Room B
END:VEVENT
BEGIN:VEVENT
DTSTART;TZID=America/New_York:20251126T180000
DTEND;TZID=America/New_York:20251126T180000
DTSTAMP:20260424T153845
CREATED:20250507T135901Z
LAST-MODIFIED:20250507T135901Z
UID:10011141-1764180000-1764180000@hhsociety.org
SUMMARY:Crafters in the Hills
DESCRIPTION:For information and to register email: craftclubhh@gmail.com
URL:https://hhsociety.org/event/crafters-in-the-hills-2-2/2025-11-26/
LOCATION:Art Room B
END:VEVENT
BEGIN:VEVENT
DTSTART;TZID=America/New_York:20251126T180000
DTEND;TZID=America/New_York:20251126T200000
DTSTAMP:20260424T153845
CREATED:20250701T195059Z
LAST-MODIFIED:20250701T195059Z
UID:10013155-1764180000-1764187200@hhsociety.org
SUMMARY:Crafters in the Hills
DESCRIPTION:Each week we explore new crafts or work on current projects.  The Monthly crafts are open to club members first\, and when space is available\, we open the session up to non-members. Some crafting sessions are free (you supply your own materials)\, and other sessions have a fee based on materials.  For more information and to register\, email craftclubhh@gmail.com
URL:https://hhsociety.org/event/crafters-in-the-hills-2-4/2025-11-26/
LOCATION:Room B
END:VEVENT
BEGIN:VEVENT
DTSTART;TZID=America/New_York:20251128T110000
DTEND;TZID=America/New_York:20251128T110000
DTSTAMP:20260424T153845
CREATED:20241023T181829Z
LAST-MODIFIED:20241023T181829Z
UID:10005213-1764327600-1764327600@hhsociety.org
SUMMARY:French Conversation
DESCRIPTION:Meets the 2nd and 4th Friday of the month at Lake Lodge in Room 1\nfrom 11 am to noon. Members should have a basic knowledge of French conversation but need not be\nfluent. Refresh your French language skills and laugh and learn with us. If you have any questions\, call\nCarole Ellis 914-260-9182 or email her at carellis14@yahoo.com.
URL:https://hhsociety.org/event/french-conversation/2025-11-28/
LOCATION:Lake Lodge Room 1
END:VEVENT
BEGIN:VEVENT
DTSTART;TZID=America/New_York:20251128T130000
DTEND;TZID=America/New_York:20251128T130000
DTSTAMP:20260424T153845
CREATED:20251103T160317Z
LAST-MODIFIED:20251103T160317Z
UID:10013362-1764334800-1764334800@hhsociety.org
SUMMARY:Independent and Foreign Film Club
DESCRIPTION:“One Life” – United Kingdom\, 110 minutes\, 2023 \n**Note time and date change**
URL:https://hhsociety.org/event/independent-and-foreign-film-club-5/
LOCATION:Heritage Room
END:VEVENT
END:VCALENDAR