BEGIN:VCALENDAR
VERSION:2.0
PRODID:-//Heritage Hills Society - ECPv6.15.20//NONSGML v1.0//EN
CALSCALE:GREGORIAN
METHOD:PUBLISH
X-WR-CALNAME:Heritage Hills Society
X-ORIGINAL-URL:https://hhsociety.org
X-WR-CALDESC:Events for Heritage Hills Society
REFRESH-INTERVAL;VALUE=DURATION:PT1H
X-Robots-Tag:noindex
X-PUBLISHED-TTL:PT1H
BEGIN:VTIMEZONE
TZID:America/New_York
BEGIN:DAYLIGHT
TZOFFSETFROM:-0500
TZOFFSETTO:-0400
TZNAME:EDT
DTSTART:20240310T070000
END:DAYLIGHT
BEGIN:STANDARD
TZOFFSETFROM:-0400
TZOFFSETTO:-0500
TZNAME:EST
DTSTART:20241103T060000
END:STANDARD
BEGIN:DAYLIGHT
TZOFFSETFROM:-0500
TZOFFSETTO:-0400
TZNAME:EDT
DTSTART:20250309T070000
END:DAYLIGHT
BEGIN:STANDARD
TZOFFSETFROM:-0400
TZOFFSETTO:-0500
TZNAME:EST
DTSTART:20251102T060000
END:STANDARD
BEGIN:DAYLIGHT
TZOFFSETFROM:-0500
TZOFFSETTO:-0400
TZNAME:EDT
DTSTART:20260308T070000
END:DAYLIGHT
BEGIN:STANDARD
TZOFFSETFROM:-0400
TZOFFSETTO:-0500
TZNAME:EST
DTSTART:20261101T060000
END:STANDARD
END:VTIMEZONE
BEGIN:VEVENT
DTSTART;TZID=America/New_York:20251211T160000
DTEND;TZID=America/New_York:20251211T170000
DTSTAMP:20260424T001149
CREATED:20250507T134022Z
LAST-MODIFIED:20250507T134022Z
UID:10011050-1765468800-1765472400@hhsociety.org
SUMMARY:I Love Art Class with Miss. Judika
DESCRIPTION:After school Art in Heritage Hills for children ages grade K-6. \nTo register call Judika at (914) 438-6750 \n$20 per class; all 2 for $60
URL:https://hhsociety.org/event/i-love-art-class-with-miss-judika/2025-12-11/
LOCATION:Art Room A
END:VEVENT
BEGIN:VEVENT
DTSTART;TZID=America/New_York:20251212T090000
DTEND;TZID=America/New_York:20251212T090000
DTSTAMP:20260424T001149
CREATED:20241029T175106Z
LAST-MODIFIED:20241029T175106Z
UID:10008322-1765530000-1765530000@hhsociety.org
SUMMARY:Blood Pressure Screening
DESCRIPTION:Nurse Ellie Eidam offers screenings on the second Friday of\nthe month from 9 to 11 am in the Activities Center’s Game Room. Your temperature may be taken. Do\nnot come if you have tested positive for Covid-19\, were recently exposed (within 14 days) to the virus or\ntraveled to areas that have experienced high levels of the virus. Contact Ellie at elliebob1@gmail.com or\n914-617-2109 for more information.
URL:https://hhsociety.org/event/blood-pressure-screening-2/2025-12-12/
LOCATION:Game Room
END:VEVENT
BEGIN:VEVENT
DTSTART;TZID=America/New_York:20251212T090000
DTEND;TZID=America/New_York:20251212T090000
DTSTAMP:20260424T001149
CREATED:20250514T152237Z
LAST-MODIFIED:20250514T152237Z
UID:10011988-1765530000-1765530000@hhsociety.org
SUMMARY:Continuum/Fluid Form Movement\, Mindfulness\, and Meditation with Melanie Gambino
DESCRIPTION:Pre-registration required. $15 per class \nFor more information and to reserve your place\, call\, text\, or email Melanie at (914) 588-2450 or melaniegambino1@gmail.com
URL:https://hhsociety.org/event/continuum-fluid-form-movement-mindfulness-and-meditation-with-melanie-gambino/2025-12-12/
LOCATION:Lake Lodge Room 3
END:VEVENT
BEGIN:VEVENT
DTSTART;TZID=America/New_York:20251212T094500
DTEND;TZID=America/New_York:20251212T094500
DTSTAMP:20260424T001149
CREATED:20250502T150719Z
LAST-MODIFIED:20250502T150719Z
UID:10010982-1765532700-1765532700@hhsociety.org
SUMMARY:Move and Groove with Theresa
DESCRIPTION:Easy to learn and easy to follow beginner Line Dances to ALL music genres.  Contact Theresa for more information at zumbawithme@aol.com
URL:https://hhsociety.org/event/move-and-groove-with-theresa-2/2025-12-12/
LOCATION:Gym\, Fitness Center
END:VEVENT
BEGIN:VEVENT
DTSTART;TZID=America/New_York:20251212T094500
DTEND;TZID=America/New_York:20251212T094500
DTSTAMP:20260424T001149
CREATED:20250514T153212Z
LAST-MODIFIED:20250514T153212Z
UID:10012242-1765532700-1765532700@hhsociety.org
SUMMARY:Move and Groove with Theresa
DESCRIPTION:East to learn and easy to follow beginner Line Dances to ALL music genres. \nContact Theresa for more information at zumbawithme@aol.com
URL:https://hhsociety.org/event/move-and-groove-with-theresa-4/2025-12-12/
LOCATION:Gym\, Fitness Center
END:VEVENT
BEGIN:VEVENT
DTSTART;TZID=America/New_York:20251212T100000
DTEND;TZID=America/New_York:20251212T100000
DTSTAMP:20260424T001149
CREATED:20241023T154744Z
LAST-MODIFIED:20241023T181006Z
UID:10004998-1765533600-1765533600@hhsociety.org
SUMMARY:Gentle Yoga with Lisa
DESCRIPTION:Mondays at 11:30am and Fridays at 10am in the Lake Lodge’s Upper Level.  $12 for a 75-minute class.  Contact lisaathomas@optonline.net or 914-497-0243 with questions or to register.
URL:https://hhsociety.org/event/gentle-yoga-with-lisa-4/2025-12-12/
LOCATION:Lake Lodge Upper Level
END:VEVENT
BEGIN:VEVENT
DTSTART;TZID=America/New_York:20251212T105000
DTEND;TZID=America/New_York:20251212T105000
DTSTAMP:20260424T001149
CREATED:20250502T151043Z
LAST-MODIFIED:20250502T151043Z
UID:10011008-1765536600-1765536600@hhsociety.org
SUMMARY:Getting Back on Track (15-15-15) with Theresa
DESCRIPTION:Light cardio and balance\, functional strength and stretch\, and restorative breathing and relaxation.  Great class to begin or continue your fitness journey.  Contact Theresa for more information at zumbawithme@aol.com
URL:https://hhsociety.org/event/getting-back-on-track-15-15-15-with-theresa-2/2025-12-12/
LOCATION:Gym\, Fitness Center
END:VEVENT
BEGIN:VEVENT
DTSTART;TZID=America/New_York:20251212T105000
DTEND;TZID=America/New_York:20251212T105000
DTSTAMP:20260424T001149
CREATED:20250514T153814Z
LAST-MODIFIED:20250514T153814Z
UID:10012496-1765536600-1765536600@hhsociety.org
SUMMARY:Getting Back on Track (15-15-15) with Theresa
DESCRIPTION:Light cardio and balance\, functional strength and stretch\, and restorative breathing and relaxation.  Great class to begin or continue your fitness journey. Contact Theresa for more information at zumbawithme@aol.com
URL:https://hhsociety.org/event/getting-back-on-track-15-15-15-with-theresa-4/2025-12-12/
LOCATION:Gym\, Fitness Center
END:VEVENT
BEGIN:VEVENT
DTSTART;TZID=America/New_York:20251212T110000
DTEND;TZID=America/New_York:20251212T110000
DTSTAMP:20260424T001149
CREATED:20241023T181940Z
LAST-MODIFIED:20241023T181940Z
UID:10005273-1765537200-1765537200@hhsociety.org
SUMMARY:French Conversation
DESCRIPTION:Meets the 2nd and 4th Friday of the month at Lake Lodge in Room 1\nfrom 11 am to noon. Members should have a basic knowledge of French conversation but need not be\nfluent. Refresh your French language skills and laugh and learn with us. If you have any questions\, call\nCarole Ellis 914-260-9182 or email her at carellis14@yahoo.com.
URL:https://hhsociety.org/event/french-conversation-2-2/2025-12-12/
LOCATION:Lake Lodge Room 1
END:VEVENT
BEGIN:VEVENT
DTSTART;TZID=America/New_York:20251212T130000
DTEND;TZID=America/New_York:20251212T130000
DTSTAMP:20260424T001149
CREATED:20241029T174509Z
LAST-MODIFIED:20241029T174509Z
UID:10007324-1765544400-1765544400@hhsociety.org
SUMMARY:Mah Jongg Fridays
DESCRIPTION:Fridays at 1 pm in Lake Lodge \nCall Cheryl Milde at 914-342-3068.
URL:https://hhsociety.org/event/mah-jongg-fridays/2025-12-12/
LOCATION:Lake Lodge Room 3
END:VEVENT
BEGIN:VEVENT
DTSTART;TZID=America/New_York:20251212T130000
DTEND;TZID=America/New_York:20251212T130000
DTSTAMP:20260424T001149
CREATED:20241114T183953Z
LAST-MODIFIED:20241114T183953Z
UID:10010889-1765544400-1765544400@hhsociety.org
SUMMARY:Let's Talk Senior Care
DESCRIPTION:Join us the second Friday of every month at 1pm.  Stephanie Roberti\, MHA\, will be introducing different senior care topics to help educate us on this important subject.  For more information contact Stephanie Roberti at (914) 357-3049 or by email at sroberti@newbeginningsforseniors.com
URL:https://hhsociety.org/event/lets-talk-senior-care/2025-12-12/
LOCATION:Heritage Room
END:VEVENT
BEGIN:VEVENT
DTSTART;TZID=America/New_York:20251212T150000
DTEND;TZID=America/New_York:20251212T150000
DTSTAMP:20260424T001149
CREATED:20250507T143510Z
LAST-MODIFIED:20251202T162235Z
UID:10013373-1765551600-1765551600@hhsociety.org
SUMMARY:Environmental Club
DESCRIPTION:This Club’s primary objective is to foster a culture of environmental responsibility within Heritage Hills.  All are welcome\, including teens.  Watch for announcements and postings about special events and field trips.  No fee. \nFor more information contact Carrie Sears at carolynnsears@me.com  or (914) 522-3111
URL:https://hhsociety.org/event/environmental-club/2025-12-12/
LOCATION:Room 2/3
END:VEVENT
BEGIN:VEVENT
DTSTART;TZID=America/New_York:20251213T090000
DTEND;TZID=America/New_York:20251213T090000
DTSTAMP:20260424T001149
CREATED:20241023T180749Z
LAST-MODIFIED:20241023T180749Z
UID:10004478-1765616400-1765616400@hhsociety.org
SUMMARY:Vinyasa Yoga with Joe
DESCRIPTION:Saturdays at 9 am in Lake Lodge’s Upper Level. $12 per class. To\nregister\, email Joe Ferrari at josephferrari@me.com.
URL:https://hhsociety.org/event/vinyasa-yoga-with-joe-2/2025-12-13/
LOCATION:Lake Lodge Upper Level
END:VEVENT
BEGIN:VEVENT
DTSTART;TZID=America/New_York:20251213T093000
DTEND;TZID=America/New_York:20251213T093000
DTSTAMP:20260424T001149
CREATED:20251204T191928Z
LAST-MODIFIED:20251204T191928Z
UID:10013439-1765618200-1765618200@hhsociety.org
SUMMARY:Hikers and Walkers
DESCRIPTION:Angle Fly Preserve – Somers \nRating B; Leader: Kelly Doherty (914) 714-8956
URL:https://hhsociety.org/event/hikers-and-walkers-9/
LOCATION:Activities Parking Lot
END:VEVENT
BEGIN:VEVENT
DTSTART;TZID=America/New_York:20251213T123000
DTEND;TZID=America/New_York:20251213T123000
DTSTAMP:20260424T001149
CREATED:20241023T183621Z
LAST-MODIFIED:20241023T183729Z
UID:10006281-1765629000-1765629000@hhsociety.org
SUMMARY:Canasta Club
DESCRIPTION:Saturdays 12:30pm to 4pm. Contact Doris Simon 914-276-0111 or\nDoris1121@me.com or Nancy Heilman 914-224-7180 or Nancy.C.Heilman@gmail.com
URL:https://hhsociety.org/event/canasta-club-3/2025-12-13/
LOCATION:Room 2/3
END:VEVENT
BEGIN:VEVENT
DTSTART;TZID=America/New_York:20251214T090000
DTEND;TZID=America/New_York:20251214T090000
DTSTAMP:20260424T001149
CREATED:20241023T175213Z
LAST-MODIFIED:20241023T175213Z
UID:10003694-1765702800-1765702800@hhsociety.org
SUMMARY:Linda's Lake Lodge Workouts - Sports Conditioning
DESCRIPTION:9:00am Sundays \nAll Classes are $10 per class.  Register at the start of the month. Contact Linda Zeiss Instructor at labzeiss@gmail.com or (718) 541-0861
URL:https://hhsociety.org/event/lindas-lake-lodge-workouts-sports-conditioning/2025-12-14/
LOCATION:Lake Lodge Upper Level
END:VEVENT
BEGIN:VEVENT
DTSTART;TZID=America/New_York:20251214T093000
DTEND;TZID=America/New_York:20251214T093000
DTSTAMP:20260424T001149
CREATED:20251204T192406Z
LAST-MODIFIED:20251204T192406Z
UID:10013440-1765704600-1765704600@hhsociety.org
SUMMARY:Hikers and Walkers
DESCRIPTION:Rockwood Hall State Park – Sleepy Hollow \nRating C; Leader: Kristie Ripepi (914) 275-7029
URL:https://hhsociety.org/event/hikers-and-walkers-10/
LOCATION:Activities Parking Lot
END:VEVENT
BEGIN:VEVENT
DTSTART;TZID=America/New_York:20251214T130000
DTEND;TZID=America/New_York:20251214T130000
DTSTAMP:20260424T001149
CREATED:20251202T164222Z
LAST-MODIFIED:20251202T164222Z
UID:10013434-1765717200-1765717200@hhsociety.org
SUMMARY:Independent and Foreign Film Club
DESCRIPTION:“The Mad Adventures of “Rabbi” Jacob”: France\, 100 Minutes\, 1973
URL:https://hhsociety.org/event/independent-and-foreign-film-club-6/
LOCATION:Heritage Room
END:VEVENT
BEGIN:VEVENT
DTSTART;TZID=America/New_York:20251216T133000
DTEND;TZID=America/New_York:20251216T133000
DTSTAMP:20260424T001149
CREATED:20251202T161815Z
LAST-MODIFIED:20251202T161815Z
UID:10013365-1765891800-1765891800@hhsociety.org
SUMMARY:Continuing Education
DESCRIPTION:“Journalism\, Frank Lloyd Wright\, And The Power Of The Local Story”: A lecture by Toby Rosewater\, writer\, editor and journalist who spent the summer of 2025 reporting for The Examiner News\, an independent Westchester newspaper. \n$10 per event\, paid at door \nCall Ann with questions (914) 617-9434
URL:https://hhsociety.org/event/continuing-education-16/
LOCATION:Heritage Room
END:VEVENT
BEGIN:VEVENT
DTSTART;TZID=America/New_York:20251217T133000
DTEND;TZID=America/New_York:20251217T133000
DTSTAMP:20260424T001149
CREATED:20250702T155219Z
LAST-MODIFIED:20250702T155219Z
UID:10013229-1765978200-1765978200@hhsociety.org
SUMMARY:Society Board Meeting
DESCRIPTION:All unit owners are welcome to attend the meeting in person.  It will be broadcast on Comcast’s channels 21 and 1070 while in progress and will be rebroadcast daily on those channels at 2:00pm and 7:00pm until the next meeting occurs.  It can also be viewed on the Society website at hhsociety.org; go to Heritage Hills Society\, then choose Board Meetings & Documents. \nOwners are welcome to raise matters of concern in person at the meeting.  Residents who cannot attend may send an email to society@hhsociety.org\, call (914) 276-2908\, or mail them to Society Board\, 8 Heritage Hills\, Somers\, NY 10589.  They will be discussed at the end of the meeting. \nProvide your name and unit number on written correspondence.
URL:https://hhsociety.org/event/society-board-meeting-3/2025-12-17/
LOCATION:Heritage Room
END:VEVENT
BEGIN:VEVENT
DTSTART;TZID=America/New_York:20251218T130000
DTEND;TZID=America/New_York:20251218T130000
DTSTAMP:20260424T001149
CREATED:20241113T153705Z
LAST-MODIFIED:20241113T153705Z
UID:10009671-1766062800-1766062800@hhsociety.org
SUMMARY:Thriving in your Prime
DESCRIPTION:Join us every other week on Thursday at 1pm in Lake Lodge Room 3 to discuss relevant topics and learn strategies that will help those over the age of 50 navigate the challenges they are confronted with.  Each time we meet we will discuss a new topic\, and you will learn strategies you can implement in your own life.  The investment in each gathering is one hour of your time and $5!
URL:https://hhsociety.org/event/thriving-in-your-prime-2/2025-12-18/
LOCATION:Lake Lodge Room 3
END:VEVENT
BEGIN:VEVENT
DTSTART;TZID=America/New_York:20251220T093000
DTEND;TZID=America/New_York:20251220T093000
DTSTAMP:20260424T001149
CREATED:20251204T193413Z
LAST-MODIFIED:20251204T193413Z
UID:10013441-1766223000-1766223000@hhsociety.org
SUMMARY:Hikers and Walkers
DESCRIPTION:Leon Levy Preserve – Vista \nRating B; Leader: Kelly Doherty (914) 714-8956
URL:https://hhsociety.org/event/hikers-and-walkers-11/
LOCATION:Activities Parking Lot
END:VEVENT
BEGIN:VEVENT
DTSTART;TZID=America/New_York:20251220T140000
DTEND;TZID=America/New_York:20251220T140000
DTSTAMP:20260424T001149
CREATED:20251202T174144Z
LAST-MODIFIED:20251202T174144Z
UID:10013436-1766239200-1766239200@hhsociety.org
SUMMARY:Rumpelstiltskin in Space
DESCRIPTION:A brand new science fiction adventure musical! \n 
URL:https://hhsociety.org/event/rumpelstiltskin-in-space/
LOCATION:Heritage Room
END:VEVENT
BEGIN:VEVENT
DTSTART;TZID=America/New_York:20251221T093000
DTEND;TZID=America/New_York:20251221T093000
DTSTAMP:20260424T001149
CREATED:20251204T193846Z
LAST-MODIFIED:20251204T193846Z
UID:10013442-1766309400-1766309400@hhsociety.org
SUMMARY:Hikers and Walkers
DESCRIPTION:Reis Park – Somers \nRating D; Leader: Kristie Ripepi (914) 275-7029
URL:https://hhsociety.org/event/hikers-and-walkers-12/
LOCATION:Activities Parking Lot
END:VEVENT
BEGIN:VEVENT
DTSTART;TZID=America/New_York:20251224T100000
DTEND;TZID=America/New_York:20251224T100000
DTSTAMP:20260424T001149
CREATED:20250507T135718Z
LAST-MODIFIED:20250507T135718Z
UID:10011082-1766570400-1766570400@hhsociety.org
SUMMARY:Crafters in the Hills
DESCRIPTION:For More Information email craftclubhh@gmail.com
URL:https://hhsociety.org/event/crafters-in-the-hills/2025-12-24/
LOCATION:Art Room B
END:VEVENT
BEGIN:VEVENT
DTSTART;TZID=America/New_York:20251224T180000
DTEND;TZID=America/New_York:20251224T180000
DTSTAMP:20260424T001149
CREATED:20250507T135901Z
LAST-MODIFIED:20250507T135901Z
UID:10011142-1766599200-1766599200@hhsociety.org
SUMMARY:Crafters in the Hills
DESCRIPTION:For information and to register email: craftclubhh@gmail.com
URL:https://hhsociety.org/event/crafters-in-the-hills-2-2/2025-12-24/
LOCATION:Art Room B
END:VEVENT
BEGIN:VEVENT
DTSTART;TZID=America/New_York:20251224T180000
DTEND;TZID=America/New_York:20251224T200000
DTSTAMP:20260424T001149
CREATED:20250701T195059Z
LAST-MODIFIED:20250701T195059Z
UID:10013156-1766599200-1766606400@hhsociety.org
SUMMARY:Crafters in the Hills
DESCRIPTION:Each week we explore new crafts or work on current projects.  The Monthly crafts are open to club members first\, and when space is available\, we open the session up to non-members. Some crafting sessions are free (you supply your own materials)\, and other sessions have a fee based on materials.  For more information and to register\, email craftclubhh@gmail.com
URL:https://hhsociety.org/event/crafters-in-the-hills-2-4/2025-12-24/
LOCATION:Room B
END:VEVENT
BEGIN:VEVENT
DTSTART;TZID=America/New_York:20251226T110000
DTEND;TZID=America/New_York:20251226T110000
DTSTAMP:20260424T001149
CREATED:20241023T181829Z
LAST-MODIFIED:20241023T181829Z
UID:10005214-1766746800-1766746800@hhsociety.org
SUMMARY:French Conversation
DESCRIPTION:Meets the 2nd and 4th Friday of the month at Lake Lodge in Room 1\nfrom 11 am to noon. Members should have a basic knowledge of French conversation but need not be\nfluent. Refresh your French language skills and laugh and learn with us. If you have any questions\, call\nCarole Ellis 914-260-9182 or email her at carellis14@yahoo.com.
URL:https://hhsociety.org/event/french-conversation/2025-12-26/
LOCATION:Lake Lodge Room 1
END:VEVENT
BEGIN:VEVENT
DTSTART;TZID=America/New_York:20251226T161500
DTEND;TZID=America/New_York:20251226T161500
DTSTAMP:20260424T001149
CREATED:20250507T143816Z
LAST-MODIFIED:20250507T143816Z
UID:10011585-1766765700-1766765700@hhsociety.org
SUMMARY:Environmental Club
DESCRIPTION:This Club’s primary objective is to foster a culture of environmental responsibility within Heritage Hills.  All are welcome\, including teens.  Watch for announcements and postings about special events and field trips.  No fee. \nFor more information\, contact Carrie Sears at carolynnsears@me.com or (914) 522-3111
URL:https://hhsociety.org/event/environmental-club-2-2/2025-12-26/
LOCATION:Room 2/3
END:VEVENT
BEGIN:VEVENT
DTSTART;TZID=America/New_York:20251227T093000
DTEND;TZID=America/New_York:20251227T093000
DTSTAMP:20260424T001149
CREATED:20251204T194120Z
LAST-MODIFIED:20251204T194120Z
UID:10013443-1766827800-1766827800@hhsociety.org
SUMMARY:Hikers and Walkers
DESCRIPTION:Leader’s Choice \nRating B; Leader: Barry Tuch (516) 458-5321
URL:https://hhsociety.org/event/hikers-and-walkers-13/
LOCATION:Activities Parking Lot
END:VEVENT
END:VCALENDAR