BEGIN:VCALENDAR
VERSION:2.0
PRODID:-//Heritage Hills Society - ECPv6.15.20//NONSGML v1.0//EN
CALSCALE:GREGORIAN
METHOD:PUBLISH
X-WR-CALNAME:Heritage Hills Society
X-ORIGINAL-URL:https://hhsociety.org
X-WR-CALDESC:Events for Heritage Hills Society
REFRESH-INTERVAL;VALUE=DURATION:PT1H
X-Robots-Tag:noindex
X-PUBLISHED-TTL:PT1H
BEGIN:VTIMEZONE
TZID:America/New_York
BEGIN:DAYLIGHT
TZOFFSETFROM:-0500
TZOFFSETTO:-0400
TZNAME:EDT
DTSTART:20250309T070000
END:DAYLIGHT
BEGIN:STANDARD
TZOFFSETFROM:-0400
TZOFFSETTO:-0500
TZNAME:EST
DTSTART:20251102T060000
END:STANDARD
BEGIN:DAYLIGHT
TZOFFSETFROM:-0500
TZOFFSETTO:-0400
TZNAME:EDT
DTSTART:20260308T070000
END:DAYLIGHT
BEGIN:STANDARD
TZOFFSETFROM:-0400
TZOFFSETTO:-0500
TZNAME:EST
DTSTART:20261101T060000
END:STANDARD
BEGIN:DAYLIGHT
TZOFFSETFROM:-0500
TZOFFSETTO:-0400
TZNAME:EDT
DTSTART:20270314T070000
END:DAYLIGHT
BEGIN:STANDARD
TZOFFSETFROM:-0400
TZOFFSETTO:-0500
TZNAME:EST
DTSTART:20271107T060000
END:STANDARD
END:VTIMEZONE
BEGIN:VEVENT
DTSTART;TZID=America/New_York:20260313T105000
DTEND;TZID=America/New_York:20260313T105000
DTSTAMP:20260423T200313
CREATED:20250514T153814Z
LAST-MODIFIED:20250514T153814Z
UID:10012509-1773399000-1773399000@hhsociety.org
SUMMARY:Getting Back on Track (15-15-15) with Theresa
DESCRIPTION:Light cardio and balance\, functional strength and stretch\, and restorative breathing and relaxation.  Great class to begin or continue your fitness journey. Contact Theresa for more information at zumbawithme@aol.com
URL:https://hhsociety.org/event/getting-back-on-track-15-15-15-with-theresa-4/2026-03-13/
LOCATION:Gym\, Fitness Center
END:VEVENT
BEGIN:VEVENT
DTSTART;TZID=America/New_York:20260313T110000
DTEND;TZID=America/New_York:20260313T110000
DTSTAMP:20260423T200313
CREATED:20241023T181940Z
LAST-MODIFIED:20241023T181940Z
UID:10005276-1773399600-1773399600@hhsociety.org
SUMMARY:French Conversation
DESCRIPTION:Meets the 2nd and 4th Friday of the month at Lake Lodge in Room 1\nfrom 11 am to noon. Members should have a basic knowledge of French conversation but need not be\nfluent. Refresh your French language skills and laugh and learn with us. If you have any questions\, call\nCarole Ellis 914-260-9182 or email her at carellis14@yahoo.com.
URL:https://hhsociety.org/event/french-conversation-2-2/2026-03-13/
LOCATION:Lake Lodge Room 1
END:VEVENT
BEGIN:VEVENT
DTSTART;TZID=America/New_York:20260313T130000
DTEND;TZID=America/New_York:20260313T130000
DTSTAMP:20260423T200313
CREATED:20241029T174509Z
LAST-MODIFIED:20241029T174509Z
UID:10007337-1773406800-1773406800@hhsociety.org
SUMMARY:Mah Jongg Fridays
DESCRIPTION:Fridays at 1 pm in Lake Lodge \nCall Cheryl Milde at 914-342-3068.
URL:https://hhsociety.org/event/mah-jongg-fridays/2026-03-13/
LOCATION:Lake Lodge Room 3
END:VEVENT
BEGIN:VEVENT
DTSTART;TZID=America/New_York:20260313T130000
DTEND;TZID=America/New_York:20260313T130000
DTSTAMP:20260423T200313
CREATED:20241114T183953Z
LAST-MODIFIED:20241114T183953Z
UID:10010892-1773406800-1773406800@hhsociety.org
SUMMARY:Let's Talk Senior Care
DESCRIPTION:Join us the second Friday of every month at 1pm.  Stephanie Roberti\, MHA\, will be introducing different senior care topics to help educate us on this important subject.  For more information contact Stephanie Roberti at (914) 357-3049 or by email at sroberti@newbeginningsforseniors.com
URL:https://hhsociety.org/event/lets-talk-senior-care/2026-03-13/
LOCATION:Heritage Room
END:VEVENT
BEGIN:VEVENT
DTSTART;TZID=America/New_York:20260313T140000
DTEND;TZID=America/New_York:20260313T140000
DTSTAMP:20260423T200313
CREATED:20260302T153153Z
LAST-MODIFIED:20260302T153153Z
UID:10013476-1773410400-1773410400@hhsociety.org
SUMMARY:Photo Club
DESCRIPTION:Portrait Photography \nSusan Rosenberg Jones will present images from two of her publications – Widowed and The Second Time Around \nOpen to all – $5 for non members \nFor more information contact: Linda Carpentieri lindacarp16@gmail.com or (914) 227-3854 or Bill Ablondi ablondi@marketmaps.net (203) 984-2955
URL:https://hhsociety.org/event/photo-club-7/
LOCATION:Heritage Room
END:VEVENT
BEGIN:VEVENT
DTSTART;TZID=America/New_York:20260313T150000
DTEND;TZID=America/New_York:20260313T150000
DTSTAMP:20260423T200313
CREATED:20250507T143510Z
LAST-MODIFIED:20251202T162235Z
UID:10013376-1773414000-1773414000@hhsociety.org
SUMMARY:Environmental Club
DESCRIPTION:This Club’s primary objective is to foster a culture of environmental responsibility within Heritage Hills.  All are welcome\, including teens.  Watch for announcements and postings about special events and field trips.  No fee. \nFor more information contact Carrie Sears at carolynnsears@me.com  or (914) 522-3111
URL:https://hhsociety.org/event/environmental-club/2026-03-13/
LOCATION:Room 2/3
END:VEVENT
BEGIN:VEVENT
DTSTART;TZID=America/New_York:20260314T090000
DTEND;TZID=America/New_York:20260314T090000
DTSTAMP:20260423T200313
CREATED:20241023T180749Z
LAST-MODIFIED:20241023T180749Z
UID:10004491-1773478800-1773478800@hhsociety.org
SUMMARY:Vinyasa Yoga with Joe
DESCRIPTION:Saturdays at 9 am in Lake Lodge’s Upper Level. $12 per class. To\nregister\, email Joe Ferrari at josephferrari@me.com.
URL:https://hhsociety.org/event/vinyasa-yoga-with-joe-2/2026-03-14/
LOCATION:Lake Lodge Upper Level
END:VEVENT
BEGIN:VEVENT
DTSTART;TZID=America/New_York:20260314T093000
DTEND;TZID=America/New_York:20260314T093000
DTSTAMP:20260423T200313
CREATED:20260227T160846Z
LAST-MODIFIED:20260227T160846Z
UID:10013469-1773480600-1773480600@hhsociety.org
SUMMARY:Hikers and Walkers
DESCRIPTION:Westmoreland Sanctuary – Mt. Kisco – Rating B \nLeader Kelly Doherty (914) 715-8956
URL:https://hhsociety.org/event/hikers-and-walkers-15/
LOCATION:Activities Parking Lot
END:VEVENT
BEGIN:VEVENT
DTSTART;TZID=America/New_York:20260314T123000
DTEND;TZID=America/New_York:20260314T123000
DTSTAMP:20260423T200313
CREATED:20241023T183621Z
LAST-MODIFIED:20241023T183729Z
UID:10006294-1773491400-1773491400@hhsociety.org
SUMMARY:Canasta Club
DESCRIPTION:Saturdays 12:30pm to 4pm. Contact Doris Simon 914-276-0111 or\nDoris1121@me.com or Nancy Heilman 914-224-7180 or Nancy.C.Heilman@gmail.com
URL:https://hhsociety.org/event/canasta-club-3/2026-03-14/
LOCATION:Room 2/3
END:VEVENT
BEGIN:VEVENT
DTSTART;TZID=America/New_York:20260315T090000
DTEND;TZID=America/New_York:20260315T090000
DTSTAMP:20260423T200313
CREATED:20241023T175213Z
LAST-MODIFIED:20241023T175213Z
UID:10003707-1773565200-1773565200@hhsociety.org
SUMMARY:Linda's Lake Lodge Workouts - Sports Conditioning
DESCRIPTION:9:00am Sundays \nAll Classes are $10 per class.  Register at the start of the month. Contact Linda Zeiss Instructor at labzeiss@gmail.com or (718) 541-0861
URL:https://hhsociety.org/event/lindas-lake-lodge-workouts-sports-conditioning/2026-03-15/
LOCATION:Lake Lodge Upper Level
END:VEVENT
BEGIN:VEVENT
DTSTART;TZID=America/New_York:20260315T093000
DTEND;TZID=America/New_York:20260315T093000
DTSTAMP:20260423T200313
CREATED:20260227T161026Z
LAST-MODIFIED:20260227T161026Z
UID:10013470-1773567000-1773567000@hhsociety.org
SUMMARY:Hikers & Walkers
DESCRIPTION:Sylvan Glen Park Preserve – Stony Creek Entrance – Rating C \nLeader: Bette Heben (914) 424-1046
URL:https://hhsociety.org/event/hikers-walkers-52/
LOCATION:Activities Parking Lot
END:VEVENT
BEGIN:VEVENT
DTSTART;TZID=America/New_York:20260315T183000
DTEND;TZID=America/New_York:20260315T183000
DTSTAMP:20260423T200313
CREATED:20260302T154657Z
LAST-MODIFIED:20260302T154657Z
UID:10013477-1773599400-1773599400@hhsociety.org
SUMMARY:Independent & Foreign Film Club
DESCRIPTION:How to Make Millions Before Grandma Dies (Thailand\, 125 minutes\, 2024)
URL:https://hhsociety.org/event/independent-foreign-film-club-3/
LOCATION:Heritage Room
END:VEVENT
BEGIN:VEVENT
DTSTART;TZID=America/New_York:20260316T093000
DTEND;TZID=America/New_York:20260316T093000
DTSTAMP:20260423T200313
CREATED:20241029T175413Z
LAST-MODIFIED:20241029T175413Z
UID:10008500-1773653400-1773653400@hhsociety.org
SUMMARY:Morning Discussion Group
DESCRIPTION:Discussion group on current event topics. Meets Mondays\nfrom 9:30 to 11 am in the Activities Center. For information\, email Ken Benjamin at kenbenja@aol.com\nor call 914-617-9817.
URL:https://hhsociety.org/event/morning-discussion-group-2/2026-03-16/
LOCATION:Room 2/3
END:VEVENT
BEGIN:VEVENT
DTSTART;TZID=America/New_York:20260316T110000
DTEND;TZID=America/New_York:20260316T110000
DTSTAMP:20260423T200313
CREATED:20241023T151632Z
LAST-MODIFIED:20241023T151632Z
UID:10000074-1773658800-1773658800@hhsociety.org
SUMMARY:Learn to Bead with Allison
DESCRIPTION:Join us on Mondays at 11:00 am in Room B for our beading class.  Each class is $25 including materials fee.  You go home with a piece of jewelry that you made for yourself or for a special someone.  Come and join the fun.  To enroll or for more information\, contact Allison Rubin at (914) 629-3655 or ahrubin521@yahoo.com
URL:https://hhsociety.org/event/learn-to-bead-with-allison-3/2026-03-16/
LOCATION:Art Room B
END:VEVENT
BEGIN:VEVENT
DTSTART;TZID=America/New_York:20260316T113000
DTEND;TZID=America/New_York:20260316T113000
DTSTAMP:20260423T200313
CREATED:20241023T154622Z
LAST-MODIFIED:20241023T154622Z
UID:10001357-1773660600-1773660600@hhsociety.org
SUMMARY:Gentle Yoga with Lisa
DESCRIPTION:Mondays at 11:30 am and Fridays at 10 am in the Lake Lodge’s Upper Level.  $12 for a 75-minute class.  Contact lisaathomas@optonline.net or 914-497-0243 for more information.
URL:https://hhsociety.org/event/gentle-yoga-with-lisa-2/2026-03-16/
LOCATION:Lake Lodge Upper Level
END:VEVENT
BEGIN:VEVENT
DTSTART;TZID=America/New_York:20260316T120000
DTEND;TZID=America/New_York:20260316T120000
DTSTAMP:20260423T200313
CREATED:20241029T174209Z
LAST-MODIFIED:20241029T174209Z
UID:10006815-1773662400-1773662400@hhsociety.org
SUMMARY:Mah Jongg Mondays
DESCRIPTION:Mondays at noon in Lake Lodge (contact Sue Furino 914-617-9110);
URL:https://hhsociety.org/event/mah-jongg-mondays/2026-03-16/
LOCATION:Lake Lodge Room 3
END:VEVENT
BEGIN:VEVENT
DTSTART;TZID=America/New_York:20260316T123000
DTEND;TZID=America/New_York:20260316T123000
DTSTAMP:20260423T200313
CREATED:20241023T155031Z
LAST-MODIFIED:20241023T155031Z
UID:10001619-1773664200-1773664200@hhsociety.org
SUMMARY:Tai Chi & Chi Gong with Master Ellen
DESCRIPTION:Mondays from 12:30-1:30pm in the Gym.  $70 per month.  First class free.  All levels welcome.  Wear loose fitting\, comfortable clothing.  Contact heritagehillstaichi2@@gmail.com for more information or to register.
URL:https://hhsociety.org/event/tai-chi-chi-gong-with-master-ellen-2/2026-03-16/
LOCATION:Gym\, Fitness Center
END:VEVENT
BEGIN:VEVENT
DTSTART;TZID=America/New_York:20260316T123000
DTEND;TZID=America/New_York:20260316T123000
DTSTAMP:20260423T200313
CREATED:20241023T182608Z
LAST-MODIFIED:20241023T182608Z
UID:10005512-1773664200-1773664200@hhsociety.org
SUMMARY:Duplicate Bridge
DESCRIPTION:Mondays and Thursdays at 12:30pm in the Activities Center.  For information\, call Marie at (914) 277-4266
URL:https://hhsociety.org/event/duplicate-bridge-2/2026-03-16/
LOCATION:Heritage Room
END:VEVENT
BEGIN:VEVENT
DTSTART;TZID=America/New_York:20260316T183000
DTEND;TZID=America/New_York:20260316T183000
DTSTAMP:20260423T200313
CREATED:20260302T154836Z
LAST-MODIFIED:20260302T154836Z
UID:10013478-1773685800-1773685800@hhsociety.org
SUMMARY:Community Theatre Auditions
DESCRIPTION:Auditions for London Suite \nFor questions contact: Jo Pearlman (914) 484-3248 or Helen Berman (917) 554-4417
URL:https://hhsociety.org/event/community-theatre-auditions/
LOCATION:Heritage Room
END:VEVENT
BEGIN:VEVENT
DTSTART;TZID=America/New_York:20260318T133000
DTEND;TZID=America/New_York:20260318T133000
DTSTAMP:20260423T200313
CREATED:20260302T160010Z
LAST-MODIFIED:20260302T160010Z
UID:10013480-1773840600-1773840600@hhsociety.org
SUMMARY:Health and Safety Committee
DESCRIPTION:The Microbiome-Brain Axis
URL:https://hhsociety.org/event/health-and-safety-committee/
LOCATION:Heritage Room
END:VEVENT
BEGIN:VEVENT
DTSTART;TZID=America/New_York:20260319T183000
DTEND;TZID=America/New_York:20260319T183000
DTSTAMP:20260423T200313
CREATED:20260302T154932Z
LAST-MODIFIED:20260302T154932Z
UID:10013479-1773945000-1773945000@hhsociety.org
SUMMARY:Community Theatre Auditions
DESCRIPTION:Auditions for London Suite \nFor questions contact: Jo Pearlman (914) 484-3248 or Helen Berman (917) 554-4417
URL:https://hhsociety.org/event/community-theatre-auditions-2/
LOCATION:Heritage Room
END:VEVENT
BEGIN:VEVENT
DTSTART;TZID=America/New_York:20260321T093000
DTEND;TZID=America/New_York:20260321T093000
DTSTAMP:20260423T200313
CREATED:20260227T161243Z
LAST-MODIFIED:20260227T161243Z
UID:10013472-1774085400-1774085400@hhsociety.org
SUMMARY:Hikers & Walkers
DESCRIPTION:Whippoorwill Park – Chappaqua – Rating B \nLeader: Cheryl Hochenberg (516) 220-0965
URL:https://hhsociety.org/event/hikers-walkers-53/2026-03-21/2/
LOCATION:Activities Parking Lot
END:VEVENT
BEGIN:VEVENT
DTSTART;TZID=America/New_York:20260322T093000
DTEND;TZID=America/New_York:20260322T093000
DTSTAMP:20260423T200313
CREATED:20260227T161449Z
LAST-MODIFIED:20260227T161449Z
UID:10013473-1774171800-1774171800@hhsociety.org
SUMMARY:Hikers & Walkers
DESCRIPTION:Reiss Park – Rating D \nLeader: Kristie Ripepi (914) 275-7029
URL:https://hhsociety.org/event/hikers-walkers-55/
LOCATION:Activities Parking Lot
END:VEVENT
BEGIN:VEVENT
DTSTART;TZID=America/New_York:20260322T130000
DTEND;TZID=America/New_York:20260322T130000
DTSTAMP:20260423T200313
CREATED:20260302T165918Z
LAST-MODIFIED:20260302T165918Z
UID:10013481-1774184400-1774184400@hhsociety.org
SUMMARY:Club Shalom
DESCRIPTION:“Ahoy Amigos” \n$15 per person
URL:https://hhsociety.org/event/club-shalom-6/
LOCATION:Heritage Room
END:VEVENT
BEGIN:VEVENT
DTSTART;TZID=America/New_York:20260323T110000
DTEND;TZID=America/New_York:20260323T113000
DTSTAMP:20260423T200313
CREATED:20260323T154228Z
LAST-MODIFIED:20260323T154228Z
UID:10013486-1774263600-1774265400@hhsociety.org
SUMMARY:Yoga with Stacey
DESCRIPTION:A gentle\, slow-flow yoga class to strengthen\, lengthen\, calm\, and expand body\, mind\, and spirit within. \n$15 drop in \nemail: restorationyoga@hotmail.com
URL:https://hhsociety.org/event/yoga-with-stacey-2/2026-03-23/
LOCATION:Lake Lodge Upper Level
END:VEVENT
BEGIN:VEVENT
DTSTART;TZID=America/New_York:20260324T133000
DTEND;TZID=America/New_York:20260324T133000
DTSTAMP:20260423T200313
CREATED:20260304T155746Z
LAST-MODIFIED:20260304T155746Z
UID:10013484-1774359000-1774359000@hhsociety.org
SUMMARY:Continuing Education
DESCRIPTION:The Rise and Fall of Secondary Education in America \nLecture by Al Hunt \n$10 payable at door \nCall Ann with questions (914) 617-9434
URL:https://hhsociety.org/event/continuing-education-17/
LOCATION:Heritage Room
END:VEVENT
BEGIN:VEVENT
DTSTART;TZID=America/New_York:20260325T100000
DTEND;TZID=America/New_York:20260325T100000
DTSTAMP:20260423T200313
CREATED:20250507T135718Z
LAST-MODIFIED:20250507T135718Z
UID:10011085-1774432800-1774432800@hhsociety.org
SUMMARY:Crafters in the Hills
DESCRIPTION:For More Information email craftclubhh@gmail.com
URL:https://hhsociety.org/event/crafters-in-the-hills/2026-03-25/
LOCATION:Art Room B
END:VEVENT
BEGIN:VEVENT
DTSTART;TZID=America/New_York:20260325T180000
DTEND;TZID=America/New_York:20260325T180000
DTSTAMP:20260423T200313
CREATED:20250507T135901Z
LAST-MODIFIED:20250507T135901Z
UID:10011145-1774461600-1774461600@hhsociety.org
SUMMARY:Crafters in the Hills
DESCRIPTION:For information and to register email: craftclubhh@gmail.com
URL:https://hhsociety.org/event/crafters-in-the-hills-2-2/2026-03-25/
LOCATION:Art Room B
END:VEVENT
BEGIN:VEVENT
DTSTART;TZID=America/New_York:20260325T180000
DTEND;TZID=America/New_York:20260325T200000
DTSTAMP:20260423T200313
CREATED:20250701T195059Z
LAST-MODIFIED:20250701T195059Z
UID:10013159-1774461600-1774468800@hhsociety.org
SUMMARY:Crafters in the Hills
DESCRIPTION:Each week we explore new crafts or work on current projects.  The Monthly crafts are open to club members first\, and when space is available\, we open the session up to non-members. Some crafting sessions are free (you supply your own materials)\, and other sessions have a fee based on materials.  For more information and to register\, email craftclubhh@gmail.com
URL:https://hhsociety.org/event/crafters-in-the-hills-2-4/2026-03-25/
LOCATION:Room B
END:VEVENT
BEGIN:VEVENT
DTSTART;TZID=America/New_York:20260327T110000
DTEND;TZID=America/New_York:20260327T110000
DTSTAMP:20260423T200313
CREATED:20241023T181829Z
LAST-MODIFIED:20241023T181829Z
UID:10005217-1774609200-1774609200@hhsociety.org
SUMMARY:French Conversation
DESCRIPTION:Meets the 2nd and 4th Friday of the month at Lake Lodge in Room 1\nfrom 11 am to noon. Members should have a basic knowledge of French conversation but need not be\nfluent. Refresh your French language skills and laugh and learn with us. If you have any questions\, call\nCarole Ellis 914-260-9182 or email her at carellis14@yahoo.com.
URL:https://hhsociety.org/event/french-conversation/2026-03-27/
LOCATION:Lake Lodge Room 1
END:VEVENT
END:VCALENDAR