BEGIN:VCALENDAR
VERSION:2.0
PRODID:-//Heritage Hills Society - ECPv6.15.20//NONSGML v1.0//EN
CALSCALE:GREGORIAN
METHOD:PUBLISH
X-WR-CALNAME:Heritage Hills Society
X-ORIGINAL-URL:https://hhsociety.org
X-WR-CALDESC:Events for Heritage Hills Society
REFRESH-INTERVAL;VALUE=DURATION:PT1H
X-Robots-Tag:noindex
X-PUBLISHED-TTL:PT1H
BEGIN:VTIMEZONE
TZID:America/New_York
BEGIN:DAYLIGHT
TZOFFSETFROM:-0500
TZOFFSETTO:-0400
TZNAME:EDT
DTSTART:20250309T070000
END:DAYLIGHT
BEGIN:STANDARD
TZOFFSETFROM:-0400
TZOFFSETTO:-0500
TZNAME:EST
DTSTART:20251102T060000
END:STANDARD
BEGIN:DAYLIGHT
TZOFFSETFROM:-0500
TZOFFSETTO:-0400
TZNAME:EDT
DTSTART:20260308T070000
END:DAYLIGHT
BEGIN:STANDARD
TZOFFSETFROM:-0400
TZOFFSETTO:-0500
TZNAME:EST
DTSTART:20261101T060000
END:STANDARD
BEGIN:DAYLIGHT
TZOFFSETFROM:-0500
TZOFFSETTO:-0400
TZNAME:EDT
DTSTART:20270314T070000
END:DAYLIGHT
BEGIN:STANDARD
TZOFFSETFROM:-0400
TZOFFSETTO:-0500
TZNAME:EST
DTSTART:20271107T060000
END:STANDARD
END:VTIMEZONE
BEGIN:VEVENT
DTSTART;TZID=America/New_York:20260416T093000
DTEND;TZID=America/New_York:20260416T093000
DTSTAMP:20260423T200011
CREATED:20241023T160957Z
LAST-MODIFIED:20241023T161031Z
UID:10002407-1776331800-1776331800@hhsociety.org
SUMMARY:Cardio / Strength / Stretch Class with Lori
DESCRIPTION:Tuesdays and Thursdays from 9:30-10:30am in the Gym. Join Lori for a fun\, safe\, effective workout.  Low impact cardio\, resistance training\, balance\, strength and breath work – all set to great music!  Appropriate for all levels.  Resistance bands and weights available.  No mats needed.  Fee $10 per class.  Try the first class for free!  Class is also available on ZOOM. Email Lori for more information or to register at eefyjiig@gmail.com
URL:https://hhsociety.org/event/cardio-strength-stretch-class-with-lori-4/2026-04-16/
LOCATION:Gym\, Fitness Center
END:VEVENT
BEGIN:VEVENT
DTSTART;TZID=America/New_York:20260416T093000
DTEND;TZID=America/New_York:20260416T093000
DTSTAMP:20260423T200011
CREATED:20241023T174709Z
LAST-MODIFIED:20241023T174814Z
UID:10003451-1776331800-1776331800@hhsociety.org
SUMMARY:Linda's Lake Lodge Classes - Yoga Pilates
DESCRIPTION:9:30am Thursdays \nAll Classes are $10 per class.  Register at the start of the month. Contact Linda Zeiss Instructor at labzeiss@gmail.com or (718) 541-0861
URL:https://hhsociety.org/event/lindas-lake-lodge-classes-yoga-pilates/2026-04-16/
LOCATION:Lake Lodge Upper Level
END:VEVENT
BEGIN:VEVENT
DTSTART;TZID=America/New_York:20260416T100000
DTEND;TZID=America/New_York:20260416T100000
DTSTAMP:20260423T200011
CREATED:20241029T182512Z
LAST-MODIFIED:20241029T182512Z
UID:10009087-1776333600-1776333600@hhsociety.org
SUMMARY:Ping Pong
DESCRIPTION:Thursdays at 10 am in the Activities Center’s Game Room. Open to all residents. Come\nhang out and play!
URL:https://hhsociety.org/event/ping-pong/2026-04-16/
LOCATION:Game Room
END:VEVENT
BEGIN:VEVENT
DTSTART;TZID=America/New_York:20260416T110000
DTEND;TZID=America/New_York:20260416T110000
DTSTAMP:20260423T200011
CREATED:20241029T174738Z
LAST-MODIFIED:20241029T174738Z
UID:10007863-1776337200-1776337200@hhsociety.org
SUMMARY:Mah Jongg Thursdays
DESCRIPTION:Thursdays from 11 am to 1 pm Call Cheryl Milde at 914-342-3068.
URL:https://hhsociety.org/event/mah-jongg-thursdays/2026-04-16/
LOCATION:Lake Lodge Room 2
END:VEVENT
BEGIN:VEVENT
DTSTART;TZID=America/New_York:20260416T123000
DTEND;TZID=America/New_York:20260416T123000
DTSTAMP:20260423T200011
CREATED:20241023T182703Z
LAST-MODIFIED:20241023T182703Z
UID:10005778-1776342600-1776342600@hhsociety.org
SUMMARY:Duplicate Bridge
DESCRIPTION:Mondays and Thursdays at 12:30pm in the Activities Center.  For information\, call Marie at (914) 277-4266
URL:https://hhsociety.org/event/duplicate-bridge-4/2026-04-16/
LOCATION:Heritage Room
END:VEVENT
BEGIN:VEVENT
DTSTART;TZID=America/New_York:20260416T130000
DTEND;TZID=America/New_York:20260416T130000
DTSTAMP:20260423T200011
CREATED:20241029T174856Z
LAST-MODIFIED:20241029T174856Z
UID:10008124-1776344400-1776344400@hhsociety.org
SUMMARY:Scrabble
DESCRIPTION:Thursdays starting promptly at 1 pm in Room 2 in the Activities Center. Casual\nScrabble game play. Play 1 or more games. All levels of play\, including newbies\, are welcome. For more\ninformation\, just walk in or contact Susan at 914-617-9228 or ciwhitestar@comcast.net.
URL:https://hhsociety.org/event/scrabble/2026-04-16/
LOCATION:Room 2/3
END:VEVENT
BEGIN:VEVENT
DTSTART;TZID=America/New_York:20260416T160000
DTEND;TZID=America/New_York:20260416T170000
DTSTAMP:20260423T200011
CREATED:20250507T134022Z
LAST-MODIFIED:20250507T134022Z
UID:10011068-1776355200-1776358800@hhsociety.org
SUMMARY:I Love Art Class with Miss. Judika
DESCRIPTION:After school Art in Heritage Hills for children ages grade K-6. \nTo register call Judika at (914) 438-6750 \n$20 per class; all 2 for $60
URL:https://hhsociety.org/event/i-love-art-class-with-miss-judika/2026-04-16/
LOCATION:Art Room A
END:VEVENT
BEGIN:VEVENT
DTSTART;TZID=America/New_York:20260417T090000
DTEND;TZID=America/New_York:20260417T090000
DTSTAMP:20260423T200011
CREATED:20250514T152237Z
LAST-MODIFIED:20250514T152237Z
UID:10012006-1776416400-1776416400@hhsociety.org
SUMMARY:Continuum/Fluid Form Movement\, Mindfulness\, and Meditation with Melanie Gambino
DESCRIPTION:Pre-registration required. $15 per class \nFor more information and to reserve your place\, call\, text\, or email Melanie at (914) 588-2450 or melaniegambino1@gmail.com
URL:https://hhsociety.org/event/continuum-fluid-form-movement-mindfulness-and-meditation-with-melanie-gambino/2026-04-17/
LOCATION:Lake Lodge Room 3
END:VEVENT
BEGIN:VEVENT
DTSTART;TZID=America/New_York:20260417T094500
DTEND;TZID=America/New_York:20260417T094500
DTSTAMP:20260423T200011
CREATED:20250514T153212Z
LAST-MODIFIED:20250514T153212Z
UID:10012260-1776419100-1776419100@hhsociety.org
SUMMARY:Move and Groove with Theresa
DESCRIPTION:East to learn and easy to follow beginner Line Dances to ALL music genres. \nContact Theresa for more information at zumbawithme@aol.com
URL:https://hhsociety.org/event/move-and-groove-with-theresa-4/2026-04-17/
LOCATION:Gym\, Fitness Center
END:VEVENT
BEGIN:VEVENT
DTSTART;TZID=America/New_York:20260417T100000
DTEND;TZID=America/New_York:20260417T100000
DTSTAMP:20260423T200011
CREATED:20241023T154744Z
LAST-MODIFIED:20241023T181006Z
UID:10005016-1776420000-1776420000@hhsociety.org
SUMMARY:Gentle Yoga with Lisa
DESCRIPTION:Mondays at 11:30am and Fridays at 10am in the Lake Lodge’s Upper Level.  $12 for a 75-minute class.  Contact lisaathomas@optonline.net or 914-497-0243 with questions or to register.
URL:https://hhsociety.org/event/gentle-yoga-with-lisa-4/2026-04-17/
LOCATION:Lake Lodge Upper Level
END:VEVENT
BEGIN:VEVENT
DTSTART;TZID=America/New_York:20260417T105000
DTEND;TZID=America/New_York:20260417T105000
DTSTAMP:20260423T200011
CREATED:20250514T153814Z
LAST-MODIFIED:20250514T153814Z
UID:10012514-1776423000-1776423000@hhsociety.org
SUMMARY:Getting Back on Track (15-15-15) with Theresa
DESCRIPTION:Light cardio and balance\, functional strength and stretch\, and restorative breathing and relaxation.  Great class to begin or continue your fitness journey. Contact Theresa for more information at zumbawithme@aol.com
URL:https://hhsociety.org/event/getting-back-on-track-15-15-15-with-theresa-4/2026-04-17/
LOCATION:Gym\, Fitness Center
END:VEVENT
BEGIN:VEVENT
DTSTART;TZID=America/New_York:20260417T130000
DTEND;TZID=America/New_York:20260417T130000
DTSTAMP:20260423T200011
CREATED:20241029T174509Z
LAST-MODIFIED:20241029T174509Z
UID:10007342-1776430800-1776430800@hhsociety.org
SUMMARY:Mah Jongg Fridays
DESCRIPTION:Fridays at 1 pm in Lake Lodge \nCall Cheryl Milde at 914-342-3068.
URL:https://hhsociety.org/event/mah-jongg-fridays/2026-04-17/
LOCATION:Lake Lodge Room 3
END:VEVENT
BEGIN:VEVENT
DTSTART;TZID=America/New_York:20260417T190000
DTEND;TZID=America/New_York:20260417T190000
DTSTAMP:20260423T200011
CREATED:20260401T161907Z
LAST-MODIFIED:20260401T161907Z
UID:10013766-1776452400-1776452400@hhsociety.org
SUMMARY:Environmental Club
DESCRIPTION:A Night of Karaoke & Dancing \nFree event – open to all residents \nFor information call or text Ami (914) 486-9677
URL:https://hhsociety.org/event/environmental-club-2-6/
LOCATION:Heritage Room
END:VEVENT
BEGIN:VEVENT
DTSTART;TZID=America/New_York:20260418T093000
DTEND;TZID=America/New_York:20260418T093000
DTSTAMP:20260423T200011
CREATED:20260330T190131Z
LAST-MODIFIED:20260330T190131Z
UID:10013751-1776504600-1776504600@hhsociety.org
SUMMARY:Hikers & Walkers
DESCRIPTION:Armstrong – Richards Preserve – Cross River – Rating B \nLeader: Cheryl Hochenberg
URL:https://hhsociety.org/event/hikers-walkers-60/
LOCATION:Activities Parking Lot
END:VEVENT
BEGIN:VEVENT
DTSTART;TZID=America/New_York:20260418T110000
DTEND;TZID=America/New_York:20260418T110000
DTSTAMP:20260423T200011
CREATED:20260401T161343Z
LAST-MODIFIED:20260401T161343Z
UID:10013763-1776510000-1776510000@hhsociety.org
SUMMARY:Health & Safety
DESCRIPTION:Car-Fit \ncontact flo613@comcast.net for information
URL:https://hhsociety.org/event/health-safety/
LOCATION:Activities Parking Lot
END:VEVENT
BEGIN:VEVENT
DTSTART;TZID=America/New_York:20260419T093000
DTEND;TZID=America/New_York:20260419T093000
DTSTAMP:20260423T200011
CREATED:20260330T190242Z
LAST-MODIFIED:20260330T190242Z
UID:10013752-1776591000-1776591000@hhsociety.org
SUMMARY:Hikers & Walkers
DESCRIPTION:Rhinoceros Creek Northeast Parcel – Rating C \nLeader: Kristie Ripepi (914) 275-7029
URL:https://hhsociety.org/event/hikers-walkers-61/
LOCATION:Activities Parking Lot
END:VEVENT
BEGIN:VEVENT
DTSTART;TZID=America/New_York:20260419T100000
DTEND;TZID=America/New_York:20260419T100000
DTSTAMP:20260423T200011
CREATED:20260401T162154Z
LAST-MODIFIED:20260401T162154Z
UID:10013767-1776592800-1776592800@hhsociety.org
SUMMARY:Environmental Club
DESCRIPTION:Earth Day Celebration
URL:https://hhsociety.org/event/environmental-club-2-7/
LOCATION:Lake Lodge Room 3
END:VEVENT
BEGIN:VEVENT
DTSTART;TZID=America/New_York:20260421T133000
DTEND;TZID=America/New_York:20260421T133000
DTSTAMP:20260423T200011
CREATED:20260401T163358Z
LAST-MODIFIED:20260401T163358Z
UID:10013768-1776778200-1776778200@hhsociety.org
SUMMARY:Society Board Meeting
DESCRIPTION:
URL:https://hhsociety.org/event/society-board-meeting-4-2/
LOCATION:Heritage Room
END:VEVENT
BEGIN:VEVENT
DTSTART;TZID=America/New_York:20260421T170000
DTEND;TZID=America/New_York:20260421T170000
DTSTAMP:20260423T200011
CREATED:20260401T161602Z
LAST-MODIFIED:20260401T161602Z
UID:10013764-1776790800-1776790800@hhsociety.org
SUMMARY:Health & Safety
DESCRIPTION:Annual Family and Friends CPR Training \n$40 fee \ncontact flo613@comcast.net for information
URL:https://hhsociety.org/event/health-safety-2/
LOCATION:Heritage Room
END:VEVENT
BEGIN:VEVENT
DTSTART;TZID=America/New_York:20260422T100000
DTEND;TZID=America/New_York:20260422T100000
DTSTAMP:20260423T200011
CREATED:20250507T135718Z
LAST-MODIFIED:20250507T135718Z
UID:10011086-1776852000-1776852000@hhsociety.org
SUMMARY:Crafters in the Hills
DESCRIPTION:For More Information email craftclubhh@gmail.com
URL:https://hhsociety.org/event/crafters-in-the-hills/2026-04-22/
LOCATION:Art Room B
END:VEVENT
BEGIN:VEVENT
DTSTART;TZID=America/New_York:20260422T170000
DTEND;TZID=America/New_York:20260422T170000
DTSTAMP:20260423T200011
CREATED:20260401T152727Z
LAST-MODIFIED:20260401T152727Z
UID:10013762-1776877200-1776877200@hhsociety.org
SUMMARY:Singles Club
DESCRIPTION:Bingo \n$5 Members / $10 non-members \nFor information call Pat Caruso (914)649-3232
URL:https://hhsociety.org/event/singles-club-4/
LOCATION:Heritage Room
END:VEVENT
BEGIN:VEVENT
DTSTART;TZID=America/New_York:20260422T180000
DTEND;TZID=America/New_York:20260422T180000
DTSTAMP:20260423T200011
CREATED:20250507T135901Z
LAST-MODIFIED:20250507T135901Z
UID:10011146-1776880800-1776880800@hhsociety.org
SUMMARY:Crafters in the Hills
DESCRIPTION:For information and to register email: craftclubhh@gmail.com
URL:https://hhsociety.org/event/crafters-in-the-hills-2-2/2026-04-22/
LOCATION:Art Room B
END:VEVENT
BEGIN:VEVENT
DTSTART;TZID=America/New_York:20260422T180000
DTEND;TZID=America/New_York:20260422T200000
DTSTAMP:20260423T200011
CREATED:20250701T195059Z
LAST-MODIFIED:20250701T195059Z
UID:10013160-1776880800-1776888000@hhsociety.org
SUMMARY:Crafters in the Hills
DESCRIPTION:Each week we explore new crafts or work on current projects.  The Monthly crafts are open to club members first\, and when space is available\, we open the session up to non-members. Some crafting sessions are free (you supply your own materials)\, and other sessions have a fee based on materials.  For more information and to register\, email craftclubhh@gmail.com
URL:https://hhsociety.org/event/crafters-in-the-hills-2-4/2026-04-22/
LOCATION:Room B
END:VEVENT
BEGIN:VEVENT
DTSTART;TZID=America/New_York:20260423T130000
DTEND;TZID=America/New_York:20260423T130000
DTSTAMP:20260423T200011
CREATED:20241113T153705Z
LAST-MODIFIED:20241113T153705Z
UID:10009680-1776949200-1776949200@hhsociety.org
SUMMARY:Thriving in your Prime
DESCRIPTION:Join us every other week on Thursday at 1pm in Lake Lodge Room 3 to discuss relevant topics and learn strategies that will help those over the age of 50 navigate the challenges they are confronted with.  Each time we meet we will discuss a new topic\, and you will learn strategies you can implement in your own life.  The investment in each gathering is one hour of your time and $5!
URL:https://hhsociety.org/event/thriving-in-your-prime-2/2026-04-23/
LOCATION:Lake Lodge Room 3
END:VEVENT
BEGIN:VEVENT
DTSTART;TZID=America/New_York:20260424T110000
DTEND;TZID=America/New_York:20260424T110000
DTSTAMP:20260423T200011
CREATED:20241023T181829Z
LAST-MODIFIED:20241023T181829Z
UID:10005218-1777028400-1777028400@hhsociety.org
SUMMARY:French Conversation
DESCRIPTION:Meets the 2nd and 4th Friday of the month at Lake Lodge in Room 1\nfrom 11 am to noon. Members should have a basic knowledge of French conversation but need not be\nfluent. Refresh your French language skills and laugh and learn with us. If you have any questions\, call\nCarole Ellis 914-260-9182 or email her at carellis14@yahoo.com.
URL:https://hhsociety.org/event/french-conversation/2026-04-24/
LOCATION:Lake Lodge Room 1
END:VEVENT
BEGIN:VEVENT
DTSTART;TZID=America/New_York:20260424T161500
DTEND;TZID=America/New_York:20260424T161500
DTSTAMP:20260423T200011
CREATED:20250507T143816Z
LAST-MODIFIED:20250507T143816Z
UID:10011589-1777047300-1777047300@hhsociety.org
SUMMARY:Environmental Club
DESCRIPTION:This Club’s primary objective is to foster a culture of environmental responsibility within Heritage Hills.  All are welcome\, including teens.  Watch for announcements and postings about special events and field trips.  No fee. \nFor more information\, contact Carrie Sears at carolynnsears@me.com or (914) 522-3111
URL:https://hhsociety.org/event/environmental-club-2-2/2026-04-24/
LOCATION:Room 2/3
END:VEVENT
BEGIN:VEVENT
DTSTART;TZID=America/New_York:20260425T093000
DTEND;TZID=America/New_York:20260425T093000
DTSTAMP:20260423T200011
CREATED:20260330T190418Z
LAST-MODIFIED:20260330T190418Z
UID:10013753-1777109400-1777109400@hhsociety.org
SUMMARY:Hikers & Walkers
DESCRIPTION:AngleFly Preserve – Rating B \nLeader: Kelly Doherty (914) 715-8956
URL:https://hhsociety.org/event/hikers-walkers-62/
LOCATION:Activities Parking Lot
END:VEVENT
BEGIN:VEVENT
DTSTART;TZID=America/New_York:20260426T093000
DTEND;TZID=America/New_York:20260426T093000
DTSTAMP:20260423T200011
CREATED:20260330T190521Z
LAST-MODIFIED:20260330T190521Z
UID:10013754-1777195800-1777195800@hhsociety.org
SUMMARY:Hikers & Walkers
DESCRIPTION:Lasdon Park Trails – Rating C \nLeader: Bette Heben (914) 424-1046
URL:https://hhsociety.org/event/hikers-walkers-63/
LOCATION:Activities Parking Lot
END:VEVENT
BEGIN:VEVENT
DTSTART;TZID=America/New_York:20260426T183000
DTEND;TZID=America/New_York:20260426T183000
DTSTAMP:20260423T200011
CREATED:20260401T163949Z
LAST-MODIFIED:20260401T163949Z
UID:10013769-1777228200-1777228200@hhsociety.org
SUMMARY:Independent and Foreign Film Club
DESCRIPTION:Maria – (Europe & United States. 124 minutes; 2024)
URL:https://hhsociety.org/event/independent-and-foreign-film-club-7/
LOCATION:Heritage Room
END:VEVENT
BEGIN:VEVENT
DTSTART;TZID=America/New_York:20260428T133000
DTEND;TZID=America/New_York:20260428T133000
DTSTAMP:20260423T200011
CREATED:20260401T151911Z
LAST-MODIFIED:20260401T151911Z
UID:10013758-1777383000-1777383000@hhsociety.org
SUMMARY:Continuing Education
DESCRIPTION:How the Hudson Valley Made New York City: a lecture by Michael Molinelli \n$10 Admission paid at door \nFor questions call Ann (914) 617-9434
URL:https://hhsociety.org/event/continuing-education-21/
LOCATION:Heritage Room
END:VEVENT
END:VCALENDAR