BEGIN:VCALENDAR
VERSION:2.0
PRODID:-//Heritage Hills Society - ECPv6.15.20//NONSGML v1.0//EN
CALSCALE:GREGORIAN
METHOD:PUBLISH
X-ORIGINAL-URL:https://hhsociety.org
X-WR-CALDESC:Events for Heritage Hills Society
REFRESH-INTERVAL;VALUE=DURATION:PT1H
X-Robots-Tag:noindex
X-PUBLISHED-TTL:PT1H
BEGIN:VTIMEZONE
TZID:America/New_York
BEGIN:DAYLIGHT
TZOFFSETFROM:-0500
TZOFFSETTO:-0400
TZNAME:EDT
DTSTART:20240310T070000
END:DAYLIGHT
BEGIN:STANDARD
TZOFFSETFROM:-0400
TZOFFSETTO:-0500
TZNAME:EST
DTSTART:20241103T060000
END:STANDARD
BEGIN:DAYLIGHT
TZOFFSETFROM:-0500
TZOFFSETTO:-0400
TZNAME:EDT
DTSTART:20250309T070000
END:DAYLIGHT
BEGIN:STANDARD
TZOFFSETFROM:-0400
TZOFFSETTO:-0500
TZNAME:EST
DTSTART:20251102T060000
END:STANDARD
BEGIN:DAYLIGHT
TZOFFSETFROM:-0500
TZOFFSETTO:-0400
TZNAME:EDT
DTSTART:20260308T070000
END:DAYLIGHT
BEGIN:STANDARD
TZOFFSETFROM:-0400
TZOFFSETTO:-0500
TZNAME:EST
DTSTART:20261101T060000
END:STANDARD
END:VTIMEZONE
BEGIN:VEVENT
DTSTART;TZID=America/New_York:20250619T130000
DTEND;TZID=America/New_York:20250619T130000
DTSTAMP:20260425T001533
CREATED:20241029T174856Z
LAST-MODIFIED:20241029T174856Z
UID:10008081-1750338000-1750338000@hhsociety.org
SUMMARY:Scrabble
DESCRIPTION:Thursdays starting promptly at 1 pm in Room 2 in the Activities Center. Casual\nScrabble game play. Play 1 or more games. All levels of play\, including newbies\, are welcome. For more\ninformation\, just walk in or contact Susan at 914-617-9228 or ciwhitestar@comcast.net.
URL:https://hhsociety.org/event/scrabble/2025-06-19/
LOCATION:Room 2/3
END:VEVENT
BEGIN:VEVENT
DTSTART;TZID=America/New_York:20250619T130000
DTEND;TZID=America/New_York:20250619T130000
DTSTAMP:20260425T001533
CREATED:20241113T153705Z
LAST-MODIFIED:20241113T153705Z
UID:10009658-1750338000-1750338000@hhsociety.org
SUMMARY:Thriving in your Prime
DESCRIPTION:Join us every other week on Thursday at 1pm in Lake Lodge Room 3 to discuss relevant topics and learn strategies that will help those over the age of 50 navigate the challenges they are confronted with.  Each time we meet we will discuss a new topic\, and you will learn strategies you can implement in your own life.  The investment in each gathering is one hour of your time and $5!
URL:https://hhsociety.org/event/thriving-in-your-prime-2/2025-06-19/
LOCATION:Lake Lodge Room 3
END:VEVENT
BEGIN:VEVENT
DTSTART;TZID=America/New_York:20250619T160000
DTEND;TZID=America/New_York:20250619T170000
DTSTAMP:20260425T001533
CREATED:20250507T134022Z
LAST-MODIFIED:20250507T134022Z
UID:10011025-1750348800-1750352400@hhsociety.org
SUMMARY:I Love Art Class with Miss. Judika
DESCRIPTION:After school Art in Heritage Hills for children ages grade K-6. \nTo register call Judika at (914) 438-6750 \n$20 per class; all 2 for $60
URL:https://hhsociety.org/event/i-love-art-class-with-miss-judika/2025-06-19/
LOCATION:Art Room A
END:VEVENT
BEGIN:VEVENT
DTSTART;TZID=America/New_York:20250620T090000
DTEND;TZID=America/New_York:20250620T090000
DTSTAMP:20260425T001533
CREATED:20250514T152237Z
LAST-MODIFIED:20250514T152237Z
UID:10011963-1750410000-1750410000@hhsociety.org
SUMMARY:Continuum/Fluid Form Movement\, Mindfulness\, and Meditation with Melanie Gambino
DESCRIPTION:Pre-registration required. $15 per class \nFor more information and to reserve your place\, call\, text\, or email Melanie at (914) 588-2450 or melaniegambino1@gmail.com
URL:https://hhsociety.org/event/continuum-fluid-form-movement-mindfulness-and-meditation-with-melanie-gambino/2025-06-20/
LOCATION:Lake Lodge Room 3
END:VEVENT
BEGIN:VEVENT
DTSTART;TZID=America/New_York:20250620T100000
DTEND;TZID=America/New_York:20250620T100000
DTSTAMP:20260425T001533
CREATED:20241023T154744Z
LAST-MODIFIED:20241023T181006Z
UID:10004973-1750413600-1750413600@hhsociety.org
SUMMARY:Gentle Yoga with Lisa
DESCRIPTION:Mondays at 11:30am and Fridays at 10am in the Lake Lodge’s Upper Level.  $12 for a 75-minute class.  Contact lisaathomas@optonline.net or 914-497-0243 with questions or to register.
URL:https://hhsociety.org/event/gentle-yoga-with-lisa-4/2025-06-20/
LOCATION:Lake Lodge Upper Level
END:VEVENT
BEGIN:VEVENT
DTSTART;TZID=America/New_York:20250620T130000
DTEND;TZID=America/New_York:20250620T130000
DTSTAMP:20260425T001533
CREATED:20241029T174509Z
LAST-MODIFIED:20241029T174509Z
UID:10007299-1750424400-1750424400@hhsociety.org
SUMMARY:Mah Jongg Fridays
DESCRIPTION:Fridays at 1 pm in Lake Lodge \nCall Cheryl Milde at 914-342-3068.
URL:https://hhsociety.org/event/mah-jongg-fridays/2025-06-20/
LOCATION:Lake Lodge Room 3
END:VEVENT
BEGIN:VEVENT
DTSTART;TZID=America/New_York:20250621T090000
DTEND;TZID=America/New_York:20250621T090000
DTSTAMP:20260425T001533
CREATED:20241023T180749Z
LAST-MODIFIED:20241023T180749Z
UID:10004453-1750496400-1750496400@hhsociety.org
SUMMARY:Vinyasa Yoga with Joe
DESCRIPTION:Saturdays at 9 am in Lake Lodge’s Upper Level. $12 per class. To\nregister\, email Joe Ferrari at josephferrari@me.com.
URL:https://hhsociety.org/event/vinyasa-yoga-with-joe-2/2025-06-21/
LOCATION:Lake Lodge Upper Level
END:VEVENT
BEGIN:VEVENT
DTSTART;TZID=America/New_York:20250621T093000
DTEND;TZID=America/New_York:20250621T093000
DTSTAMP:20260425T001533
CREATED:20250514T161911Z
LAST-MODIFIED:20250514T161911Z
UID:10012817-1750498200-1750498200@hhsociety.org
SUMMARY:Bocce Group
DESCRIPTION:Weather permitting. \nFor more information contact Reno DiCristofaro at (914) 500-5160 or Diane Purr at (914) 617-9338
URL:https://hhsociety.org/event/bocce-group-4/2025-06-21/
END:VEVENT
BEGIN:VEVENT
DTSTART;TZID=America/New_York:20250621T093000
DTEND;TZID=America/New_York:20250621T093000
DTSTAMP:20260425T001533
CREATED:20250514T162209Z
LAST-MODIFIED:20250514T162209Z
UID:10012838-1750498200-1750498200@hhsociety.org
SUMMARY:Bocce Group
DESCRIPTION:Weather permitting. \nFor more information contact Reno DiCristofaro at (914) 500-5160 or Diane Purr at (914) 617-9338
URL:https://hhsociety.org/event/bocce-group-6/2025-06-21/
END:VEVENT
BEGIN:VEVENT
DTSTART;TZID=America/New_York:20250621T093000
DTEND;TZID=America/New_York:20250621T093000
DTSTAMP:20260425T001533
CREATED:20250611T141042Z
LAST-MODIFIED:20250611T141042Z
UID:10012869-1750498200-1750498200@hhsociety.org
SUMMARY:Hikers & Walkers
DESCRIPTION:Westmoreland Sanctuary – Mt. Kisco \nRating B \nLeader Barry Tuch (516)488-5321
URL:https://hhsociety.org/event/hikers-walkers-8/
LOCATION:Activities Parking Lot
END:VEVENT
BEGIN:VEVENT
DTSTART;TZID=America/New_York:20250621T123000
DTEND;TZID=America/New_York:20250621T123000
DTSTAMP:20260425T001533
CREATED:20241023T183621Z
LAST-MODIFIED:20241023T183729Z
UID:10006256-1750509000-1750509000@hhsociety.org
SUMMARY:Canasta Club
DESCRIPTION:Saturdays 12:30pm to 4pm. Contact Doris Simon 914-276-0111 or\nDoris1121@me.com or Nancy Heilman 914-224-7180 or Nancy.C.Heilman@gmail.com
URL:https://hhsociety.org/event/canasta-club-3/2025-06-21/
LOCATION:Room 2/3
END:VEVENT
BEGIN:VEVENT
DTSTART;TZID=America/New_York:20250622T090000
DTEND;TZID=America/New_York:20250622T090000
DTSTAMP:20260425T001533
CREATED:20241023T175213Z
LAST-MODIFIED:20241023T175213Z
UID:10003669-1750582800-1750582800@hhsociety.org
SUMMARY:Linda's Lake Lodge Workouts - Sports Conditioning
DESCRIPTION:9:00am Sundays \nAll Classes are $10 per class.  Register at the start of the month. Contact Linda Zeiss Instructor at labzeiss@gmail.com or (718) 541-0861
URL:https://hhsociety.org/event/lindas-lake-lodge-workouts-sports-conditioning/2025-06-22/
LOCATION:Lake Lodge Upper Level
END:VEVENT
BEGIN:VEVENT
DTSTART;TZID=America/New_York:20250622T093000
DTEND;TZID=America/New_York:20250622T093000
DTSTAMP:20260425T001533
CREATED:20250611T142024Z
LAST-MODIFIED:20250611T142024Z
UID:10012870-1750584600-1750584600@hhsociety.org
SUMMARY:Hikers & Walkers
DESCRIPTION:Mystery Hike \nRating C \nLeader Misha Lef (914) 272-5601
URL:https://hhsociety.org/event/hikers-walkers-9/
LOCATION:Activities Parking Lot
END:VEVENT
BEGIN:VEVENT
DTSTART;TZID=America/New_York:20250625T100000
DTEND;TZID=America/New_York:20250625T100000
DTSTAMP:20260425T001533
CREATED:20250507T135718Z
LAST-MODIFIED:20250507T135718Z
UID:10011076-1750845600-1750845600@hhsociety.org
SUMMARY:Crafters in the Hills
DESCRIPTION:For More Information email craftclubhh@gmail.com
URL:https://hhsociety.org/event/crafters-in-the-hills/2025-06-25/
LOCATION:Art Room B
END:VEVENT
BEGIN:VEVENT
DTSTART;TZID=America/New_York:20250625T180000
DTEND;TZID=America/New_York:20250625T180000
DTSTAMP:20260425T001533
CREATED:20250507T135901Z
LAST-MODIFIED:20250507T135901Z
UID:10011136-1750874400-1750874400@hhsociety.org
SUMMARY:Crafters in the Hills
DESCRIPTION:For information and to register email: craftclubhh@gmail.com
URL:https://hhsociety.org/event/crafters-in-the-hills-2-2/2025-06-25/
LOCATION:Art Room B
END:VEVENT
BEGIN:VEVENT
DTSTART;TZID=America/New_York:20250626T170000
DTEND;TZID=America/New_York:20250626T190000
DTSTAMP:20260425T001533
CREATED:20250603T143157Z
LAST-MODIFIED:20250603T143157Z
UID:10012862-1750957200-1750964400@hhsociety.org
SUMMARY:Food Truck Thursdays
DESCRIPTION:Gyro Uno – Greek
URL:https://hhsociety.org/event/food-truck-thursdays-2/
LOCATION:Meadowlark Park
END:VEVENT
BEGIN:VEVENT
DTSTART;TZID=America/New_York:20250627T110000
DTEND;TZID=America/New_York:20250627T110000
DTSTAMP:20260425T001533
CREATED:20241023T181829Z
LAST-MODIFIED:20241023T181829Z
UID:10005208-1751022000-1751022000@hhsociety.org
SUMMARY:French Conversation
DESCRIPTION:Meets the 2nd and 4th Friday of the month at Lake Lodge in Room 1\nfrom 11 am to noon. Members should have a basic knowledge of French conversation but need not be\nfluent. Refresh your French language skills and laugh and learn with us. If you have any questions\, call\nCarole Ellis 914-260-9182 or email her at carellis14@yahoo.com.
URL:https://hhsociety.org/event/french-conversation/2025-06-27/
LOCATION:Lake Lodge Room 1
END:VEVENT
BEGIN:VEVENT
DTSTART;TZID=America/New_York:20250627T161500
DTEND;TZID=America/New_York:20250627T161500
DTSTAMP:20260425T001533
CREATED:20250507T143816Z
LAST-MODIFIED:20250507T143816Z
UID:10011579-1751040900-1751040900@hhsociety.org
SUMMARY:Environmental Club
DESCRIPTION:This Club’s primary objective is to foster a culture of environmental responsibility within Heritage Hills.  All are welcome\, including teens.  Watch for announcements and postings about special events and field trips.  No fee. \nFor more information\, contact Carrie Sears at carolynnsears@me.com or (914) 522-3111
URL:https://hhsociety.org/event/environmental-club-2-2/2025-06-27/
LOCATION:Room 2/3
END:VEVENT
BEGIN:VEVENT
DTSTART;TZID=America/New_York:20250628T093000
DTEND;TZID=America/New_York:20250628T093000
DTSTAMP:20260425T001533
CREATED:20250611T142202Z
LAST-MODIFIED:20250611T142202Z
UID:10012871-1751103000-1751103000@hhsociety.org
SUMMARY:Hikers & Walkers
DESCRIPTION:Mianus River Gorge Preserve – Bedford \nRating B \nLeader Cheryl Hochenberg (516) 220-0965
URL:https://hhsociety.org/event/hikers-walkers-10/
LOCATION:Activities Parking Lot
END:VEVENT
BEGIN:VEVENT
DTSTART;TZID=America/New_York:20250629T093000
DTEND;TZID=America/New_York:20250629T093000
DTSTAMP:20260425T001533
CREATED:20250611T142344Z
LAST-MODIFIED:20250611T142344Z
UID:10012872-1751189400-1751189400@hhsociety.org
SUMMARY:Hikers & Walkers
DESCRIPTION:Muscoot River Trails – Somers \nRating C \nLeader Jane Smalley (914) 263-8146
URL:https://hhsociety.org/event/hikers-walkers-11/
LOCATION:Activities Parking Lot
END:VEVENT
BEGIN:VEVENT
DTSTART;TZID=America/New_York:20250701T140000
DTEND;TZID=America/New_York:20250701T140000
DTSTAMP:20260425T001533
CREATED:20241023T182339Z
LAST-MODIFIED:20241023T182339Z
UID:10005388-1751378400-1751378400@hhsociety.org
SUMMARY:Contemporary Fiction Book Club
DESCRIPTION:Openings are available for residents interested in\njoining The Contemporary Fiction Book Club. The club meets on the first Tuesday of each month\nfrom 2:00-3:30. Contact Myra Hopper at 520 390-5523 or myrahopper@gmail.com.
URL:https://hhsociety.org/event/contemporary-fiction-book-club-2/2025-07-01/
LOCATION:Game Room
END:VEVENT
BEGIN:VEVENT
DTSTART;TZID=America/New_York:20250702T080000
DTEND;TZID=America/New_York:20250702T170000
DTSTAMP:20260425T001533
CREATED:20250702T150612Z
LAST-MODIFIED:20250702T150612Z
UID:10013224-1751443200-1751475600@hhsociety.org
SUMMARY:Club Shalom - Irving Berlin Songbook
DESCRIPTION:with Peter Muir \nAdmission $15 per person. Cabaret seating.  Watch your email for a flyer…return no later than August 20.
URL:https://hhsociety.org/event/club-shalom-irving-berlin-songbook/
END:VEVENT
BEGIN:VEVENT
DTSTART;TZID=America/New_York:20250702T100000
DTEND;TZID=America/New_York:20250702T120000
DTSTAMP:20260425T001533
CREATED:20250701T194652Z
LAST-MODIFIED:20250701T194652Z
UID:10012890-1751450400-1751457600@hhsociety.org
SUMMARY:Crafters in the Hills
DESCRIPTION:Each week we explore new crafts or work on current projects.  The Monthly crafts are open to club members first\, and when space is available\, we open the session up to non-members. Some crafting sessions are free (you supply your own materials)\, and other sessions have a fee based on materials.  For more information and to register\, email craftclubhh@gmail.com
URL:https://hhsociety.org/event/crafters-in-the-hills-2-3/2025-07-02/
LOCATION:Room B
END:VEVENT
BEGIN:VEVENT
DTSTART;TZID=America/New_York:20250702T173000
DTEND;TZID=America/New_York:20250702T193000
DTSTAMP:20260425T001533
CREATED:20250701T191130Z
LAST-MODIFIED:20250725T182753Z
UID:10012873-1751477400-1751484600@hhsociety.org
SUMMARY:Pickleball - Round Robins
DESCRIPTION:All levels welcome. \nEnjoy this social scramble meeting new people and playing for fun! \nAll the sign ups will be on team reach. \nPeople need to email us so we can give them the team reach info once they’ve provided us with their resident info. \nOur email is PickleballHH@outlook.com
URL:https://hhsociety.org/event/pickleball-round-robins/2025-07-02/
LOCATION:Pickleball Courts
END:VEVENT
BEGIN:VEVENT
DTSTART;TZID=America/New_York:20250702T190000
DTEND;TZID=America/New_York:20250702T190000
DTSTAMP:20260425T001533
CREATED:20250514T144427Z
LAST-MODIFIED:20250514T144427Z
UID:10011899-1751482800-1751482800@hhsociety.org
SUMMARY:Energy Healing for Self\, Family\, Friends and Pets with Melanie Gambino
DESCRIPTION:Pre-registration required.  $20 per class \nFor more information and to reserve your place\, call\, text or email Melanie at (914) 588-2450 or melaniegambino1@gmail.com$20 per \n 
URL:https://hhsociety.org/event/energy-healing-for-self-family-friends-and-pets-with-melanie-gambino/2025-07-02/
LOCATION:Lake Lodge Room 3
END:VEVENT
BEGIN:VEVENT
DTSTART;TZID=America/New_York:20250703T110000
DTEND;TZID=America/New_York:20250703T110000
DTSTAMP:20260425T001533
CREATED:20241023T182146Z
LAST-MODIFIED:20241023T182146Z
UID:10005328-1751540400-1751540400@hhsociety.org
SUMMARY:Spanish Conversation
DESCRIPTION:Meets the 1st Thursday of the month in Lake Lodge’s\nRoom 1 at 11 am. Group is open to intermediate through fluent Spanish speakers. ¡Vengan!
URL:https://hhsociety.org/event/spanish-conversation/2025-07-03/
LOCATION:Lake Lodge Room 1
END:VEVENT
BEGIN:VEVENT
DTSTART;TZID=America/New_York:20250703T123000
DTEND;TZID=America/New_York:20250703T123000
DTSTAMP:20260425T001533
CREATED:20241029T175246Z
LAST-MODIFIED:20241029T175246Z
UID:10008377-1751545800-1751545800@hhsociety.org
SUMMARY:Alzheimer's/Dementia Caregivers Support Group
DESCRIPTION:Caring for someone with Alzheimer&#39;s/Dementia is\na difficult and painful challenge. A support group can help. Meetings take place the first Thursday of the\nmonth at 12:30 pm in Lake Lodge’s Room 1. Fee: $20 per session. Facilitated by Linda Ludwig\, Ph.D. To\nregister\, call 914-617-9328 or email ludwiglr@aol.com.
URL:https://hhsociety.org/event/alzheimers-dementia-caregivers-support-group-2/2025-07-03/
LOCATION:Lake Lodge Room 1
END:VEVENT
BEGIN:VEVENT
DTSTART;TZID=America/New_York:20250703T170000
DTEND;TZID=America/New_York:20250703T170000
DTSTAMP:20260425T001533
CREATED:20241029T181105Z
LAST-MODIFIED:20241029T181105Z
UID:10008698-1751562000-1751562000@hhsociety.org
SUMMARY:Rainbow Connection Club
DESCRIPTION:A group for LGBTQ members and their families\, friends\, and\nneighbors. All are welcome. We meet the first Thursday of each month at Lake Lodge from 5 to 7 pm.\nFor more information contact Joanne at 914-450-5609.
URL:https://hhsociety.org/event/rainbow-connection-club-2/2025-07-03/
LOCATION:Lake Lodge Room 3
END:VEVENT
BEGIN:VEVENT
DTSTART;TZID=America/New_York:20250704T094500
DTEND;TZID=America/New_York:20250704T094500
DTSTAMP:20260425T001533
CREATED:20250502T150719Z
LAST-MODIFIED:20250502T150719Z
UID:10010959-1751622300-1751622300@hhsociety.org
SUMMARY:Move and Groove with Theresa
DESCRIPTION:Easy to learn and easy to follow beginner Line Dances to ALL music genres.  Contact Theresa for more information at zumbawithme@aol.com
URL:https://hhsociety.org/event/move-and-groove-with-theresa-2/2025-07-04/
LOCATION:Gym\, Fitness Center
END:VEVENT
BEGIN:VEVENT
DTSTART;TZID=America/New_York:20250704T094500
DTEND;TZID=America/New_York:20250704T094500
DTSTAMP:20260425T001533
CREATED:20250514T153212Z
LAST-MODIFIED:20250514T153212Z
UID:10012219-1751622300-1751622300@hhsociety.org
SUMMARY:Move and Groove with Theresa
DESCRIPTION:East to learn and easy to follow beginner Line Dances to ALL music genres. \nContact Theresa for more information at zumbawithme@aol.com
URL:https://hhsociety.org/event/move-and-groove-with-theresa-4/2025-07-04/
LOCATION:Gym\, Fitness Center
END:VEVENT
END:VCALENDAR