BEGIN:VCALENDAR
VERSION:2.0
PRODID:-//Heritage Hills Society - ECPv6.15.20//NONSGML v1.0//EN
CALSCALE:GREGORIAN
METHOD:PUBLISH
X-ORIGINAL-URL:https://hhsociety.org
X-WR-CALDESC:Events for Heritage Hills Society
REFRESH-INTERVAL;VALUE=DURATION:PT1H
X-Robots-Tag:noindex
X-PUBLISHED-TTL:PT1H
BEGIN:VTIMEZONE
TZID:America/New_York
BEGIN:DAYLIGHT
TZOFFSETFROM:-0500
TZOFFSETTO:-0400
TZNAME:EDT
DTSTART:20240310T070000
END:DAYLIGHT
BEGIN:STANDARD
TZOFFSETFROM:-0400
TZOFFSETTO:-0500
TZNAME:EST
DTSTART:20241103T060000
END:STANDARD
BEGIN:DAYLIGHT
TZOFFSETFROM:-0500
TZOFFSETTO:-0400
TZNAME:EDT
DTSTART:20250309T070000
END:DAYLIGHT
BEGIN:STANDARD
TZOFFSETFROM:-0400
TZOFFSETTO:-0500
TZNAME:EST
DTSTART:20251102T060000
END:STANDARD
BEGIN:DAYLIGHT
TZOFFSETFROM:-0500
TZOFFSETTO:-0400
TZNAME:EDT
DTSTART:20260308T070000
END:DAYLIGHT
BEGIN:STANDARD
TZOFFSETFROM:-0400
TZOFFSETTO:-0500
TZNAME:EST
DTSTART:20261101T060000
END:STANDARD
END:VTIMEZONE
BEGIN:VEVENT
DTSTART;TZID=America/New_York:20250719T093000
DTEND;TZID=America/New_York:20250719T093000
DTSTAMP:20260424T222209
CREATED:20250514T162209Z
LAST-MODIFIED:20250514T162209Z
UID:10012842-1752917400-1752917400@hhsociety.org
SUMMARY:Bocce Group
DESCRIPTION:Weather permitting. \nFor more information contact Reno DiCristofaro at (914) 500-5160 or Diane Purr at (914) 617-9338
URL:https://hhsociety.org/event/bocce-group-6/2025-07-19/
END:VEVENT
BEGIN:VEVENT
DTSTART;TZID=America/New_York:20250719T123000
DTEND;TZID=America/New_York:20250719T123000
DTSTAMP:20260424T222209
CREATED:20241023T183621Z
LAST-MODIFIED:20241023T183729Z
UID:10006260-1752928200-1752928200@hhsociety.org
SUMMARY:Canasta Club
DESCRIPTION:Saturdays 12:30pm to 4pm. Contact Doris Simon 914-276-0111 or\nDoris1121@me.com or Nancy Heilman 914-224-7180 or Nancy.C.Heilman@gmail.com
URL:https://hhsociety.org/event/canasta-club-3/2025-07-19/
LOCATION:Room 2/3
END:VEVENT
BEGIN:VEVENT
DTSTART;TZID=America/New_York:20250719T190000
DTEND;TZID=America/New_York:20250719T190000
DTSTAMP:20260424T222209
CREATED:20250702T143132Z
LAST-MODIFIED:20250702T143132Z
UID:10013223-1752951600-1752951600@hhsociety.org
SUMMARY:Club Shalom - An Evening of Steven Sondheim
DESCRIPTION:An Evening of Steven Sondheim with Alli West and Howard Kilik \nAdmission $15 per person. Cabaret Seating \nReturn flyer no later than July 16
URL:https://hhsociety.org/event/club-shalom-an-evening-of-steven-sondheim/
LOCATION:Heritage Room
END:VEVENT
BEGIN:VEVENT
DTSTART;TZID=America/New_York:20250720T090000
DTEND;TZID=America/New_York:20250720T090000
DTSTAMP:20260424T222209
CREATED:20241023T175213Z
LAST-MODIFIED:20241023T175213Z
UID:10003673-1753002000-1753002000@hhsociety.org
SUMMARY:Linda's Lake Lodge Workouts - Sports Conditioning
DESCRIPTION:9:00am Sundays \nAll Classes are $10 per class.  Register at the start of the month. Contact Linda Zeiss Instructor at labzeiss@gmail.com or (718) 541-0861
URL:https://hhsociety.org/event/lindas-lake-lodge-workouts-sports-conditioning/2025-07-20/
LOCATION:Lake Lodge Upper Level
END:VEVENT
BEGIN:VEVENT
DTSTART;TZID=America/New_York:20250721T093000
DTEND;TZID=America/New_York:20250721T093000
DTSTAMP:20260424T222209
CREATED:20241029T175413Z
LAST-MODIFIED:20241029T175413Z
UID:10008466-1753090200-1753090200@hhsociety.org
SUMMARY:Morning Discussion Group
DESCRIPTION:Discussion group on current event topics. Meets Mondays\nfrom 9:30 to 11 am in the Activities Center. For information\, email Ken Benjamin at kenbenja@aol.com\nor call 914-617-9817.
URL:https://hhsociety.org/event/morning-discussion-group-2/2025-07-21/
LOCATION:Room 2/3
END:VEVENT
BEGIN:VEVENT
DTSTART;TZID=America/New_York:20250721T110000
DTEND;TZID=America/New_York:20250721T110000
DTSTAMP:20260424T222209
CREATED:20241023T151632Z
LAST-MODIFIED:20241023T151632Z
UID:10000040-1753095600-1753095600@hhsociety.org
SUMMARY:Learn to Bead with Allison
DESCRIPTION:Join us on Mondays at 11:00 am in Room B for our beading class.  Each class is $25 including materials fee.  You go home with a piece of jewelry that you made for yourself or for a special someone.  Come and join the fun.  To enroll or for more information\, contact Allison Rubin at (914) 629-3655 or ahrubin521@yahoo.com
URL:https://hhsociety.org/event/learn-to-bead-with-allison-3/2025-07-21/
LOCATION:Art Room B
END:VEVENT
BEGIN:VEVENT
DTSTART;TZID=America/New_York:20250721T113000
DTEND;TZID=America/New_York:20250721T113000
DTSTAMP:20260424T222209
CREATED:20241023T154622Z
LAST-MODIFIED:20241023T154622Z
UID:10001323-1753097400-1753097400@hhsociety.org
SUMMARY:Gentle Yoga with Lisa
DESCRIPTION:Mondays at 11:30 am and Fridays at 10 am in the Lake Lodge’s Upper Level.  $12 for a 75-minute class.  Contact lisaathomas@optonline.net or 914-497-0243 for more information.
URL:https://hhsociety.org/event/gentle-yoga-with-lisa-2/2025-07-21/
LOCATION:Lake Lodge Upper Level
END:VEVENT
BEGIN:VEVENT
DTSTART;TZID=America/New_York:20250721T120000
DTEND;TZID=America/New_York:20250721T120000
DTSTAMP:20260424T222209
CREATED:20241029T174209Z
LAST-MODIFIED:20241029T174209Z
UID:10006781-1753099200-1753099200@hhsociety.org
SUMMARY:Mah Jongg Mondays
DESCRIPTION:Mondays at noon in Lake Lodge (contact Sue Furino 914-617-9110);
URL:https://hhsociety.org/event/mah-jongg-mondays/2025-07-21/
LOCATION:Lake Lodge Room 3
END:VEVENT
BEGIN:VEVENT
DTSTART;TZID=America/New_York:20250721T123000
DTEND;TZID=America/New_York:20250721T123000
DTSTAMP:20260424T222209
CREATED:20241023T155031Z
LAST-MODIFIED:20241023T155031Z
UID:10001585-1753101000-1753101000@hhsociety.org
SUMMARY:Tai Chi & Chi Gong with Master Ellen
DESCRIPTION:Mondays from 12:30-1:30pm in the Gym.  $70 per month.  First class free.  All levels welcome.  Wear loose fitting\, comfortable clothing.  Contact heritagehillstaichi2@@gmail.com for more information or to register.
URL:https://hhsociety.org/event/tai-chi-chi-gong-with-master-ellen-2/2025-07-21/
LOCATION:Gym\, Fitness Center
END:VEVENT
BEGIN:VEVENT
DTSTART;TZID=America/New_York:20250721T123000
DTEND;TZID=America/New_York:20250721T123000
DTSTAMP:20260424T222209
CREATED:20241023T182608Z
LAST-MODIFIED:20241023T182608Z
UID:10005478-1753101000-1753101000@hhsociety.org
SUMMARY:Duplicate Bridge
DESCRIPTION:Mondays and Thursdays at 12:30pm in the Activities Center.  For information\, call Marie at (914) 277-4266
URL:https://hhsociety.org/event/duplicate-bridge-2/2025-07-21/
LOCATION:Heritage Room
END:VEVENT
BEGIN:VEVENT
DTSTART;TZID=America/New_York:20250722T083000
DTEND;TZID=America/New_York:20250722T083000
DTSTAMP:20260424T222209
CREATED:20241023T161410Z
LAST-MODIFIED:20241023T174857Z
UID:10002629-1753173000-1753173000@hhsociety.org
SUMMARY:Linda's Lake Lodge Classes - Body Conditioning
DESCRIPTION:8:30am Tuesdays and Thursdays \nAll Classes are $10 per class.  Register at the start of the month. Contact Linda Zeiss Instructor at labzeiss@gmail.com or (718) 541-0861
URL:https://hhsociety.org/event/lindas-lake-lodge-classes-body-conditioning/2025-07-22/
LOCATION:Lake Lodge Upper Level
END:VEVENT
BEGIN:VEVENT
DTSTART;TZID=America/New_York:20250722T093000
DTEND;TZID=America/New_York:20250722T093000
DTSTAMP:20260424T222209
CREATED:20241023T160743Z
LAST-MODIFIED:20241023T160743Z
UID:10002107-1753176600-1753176600@hhsociety.org
SUMMARY:Cardio / Strength / Stretch Class with Lori
DESCRIPTION:Tuesdays and Thursdays from 9:30-10:30am in the Gym. Join Lori for a fun\, safe\, effective workout.  Low impact cardio\, resistance training\, balance\, strength and breath work – all set to great music!  Appropriate for all levels.  Resistance bands and weights available.  No mats needed.  Fee $10 per class.  Try the first class for free!  Class is also available on ZOOM. Email Lori for more information or to register at eefyjiig@gmail.com
URL:https://hhsociety.org/event/cardio-strength-stretch-class-with-lori-2/2025-07-22/
LOCATION:Gym\, Fitness Center
END:VEVENT
BEGIN:VEVENT
DTSTART;TZID=America/New_York:20250722T093000
DTEND;TZID=America/New_York:20250722T093000
DTSTAMP:20260424T222209
CREATED:20241023T162528Z
LAST-MODIFIED:20241023T175103Z
UID:10003151-1753176600-1753176600@hhsociety.org
SUMMARY:Linda's Lake Lodge Classes - Rock & Roll Workout
DESCRIPTION:9:30am Tuesdays \nAll Classes are $10 per class.  Register at the start of the month. Contact Linda Zeiss Instructor at labzeiss@gmail.com or (718) 541-0861 \n  \n  \n  \n 
URL:https://hhsociety.org/event/lindas-lake-lodge-classes-rock-roll-workout/2025-07-22/
LOCATION:Lake Lodge Upper Level
END:VEVENT
BEGIN:VEVENT
DTSTART;TZID=America/New_York:20250722T100000
DTEND;TZID=America/New_York:20250722T100000
DTSTAMP:20260424T222209
CREATED:20241023T155520Z
LAST-MODIFIED:20241023T155520Z
UID:10001846-1753178400-1753178400@hhsociety.org
SUMMARY:Chair Yoga with Satish
DESCRIPTION:Practice Tuesdays from 10-11:15am in Lake Lodge Room 3 with Satish Gambhir\, Registered Yoga (500-RYT) and acupressure teacher with over 20 years of experience.  Chair Yoga aimed at toning the entire body and increasing flexibility.  Breathing and meditation for relaxation and mind-body connection.  Live music.  $10 per class.  Call or email to register at (914) 646-0887 or satishgambhir@gmail.com
URL:https://hhsociety.org/event/chair-yoga-with-satish-2/2025-07-22/
LOCATION:Lake Lodge Room 3
END:VEVENT
BEGIN:VEVENT
DTSTART;TZID=America/New_York:20250722T100000
DTEND;TZID=America/New_York:20250722T100000
DTSTAMP:20260424T222209
CREATED:20241029T182020Z
LAST-MODIFIED:20241029T182020Z
UID:10008788-1753178400-1753178400@hhsociety.org
SUMMARY:Shakespeare Group
DESCRIPTION:Tuesdays from 10 to 11:30 am in the Activities Center’s Game Room\,\nand on Zoom. See a film of a classic Shakespeare play\, then read it and join in lively discussions. All are\nwelcome! For more information\, call Susan Ray at 914-391-6686 or Margaret Howlett at 973-746-7816.
URL:https://hhsociety.org/event/shakespeare-group-2/2025-07-22/
LOCATION:Game Room
END:VEVENT
BEGIN:VEVENT
DTSTART;TZID=America/New_York:20250722T110000
DTEND;TZID=America/New_York:20250722T110000
DTSTAMP:20260424T222209
CREATED:20241029T174628Z
LAST-MODIFIED:20241029T174628Z
UID:10007564-1753182000-1753182000@hhsociety.org
SUMMARY:Mah Jongg Tuesdays
DESCRIPTION:Tuesdays from 11 am to 1 pm Call Cheryl Milde at 914-342-3068.
URL:https://hhsociety.org/event/mah-jongg-tuesdays/2025-07-22/
LOCATION:Lake Lodge Room 2
END:VEVENT
BEGIN:VEVENT
DTSTART;TZID=America/New_York:20250722T173000
DTEND;TZID=America/New_York:20250722T190000
DTSTAMP:20260424T222209
CREATED:20250701T191530Z
LAST-MODIFIED:20250701T191530Z
UID:10012886-1753205400-1753210800@hhsociety.org
SUMMARY:Pickleball - ACES Advanced Play
DESCRIPTION:Competitive leveled play to see who is the winner on the Ace court! \nAll the sign ups will be on team reach. \nPeople need to email us so we can give them the team reach info once they’ve provided us with their resident info. \nOur email is PickleballHH@outlook.com
URL:https://hhsociety.org/event/pickleball-aces-advanced-play/
LOCATION:Pickleball Courts
END:VEVENT
BEGIN:VEVENT
DTSTART;TZID=America/New_York:20250723T100000
DTEND;TZID=America/New_York:20250723T100000
DTSTAMP:20260424T222209
CREATED:20250507T135718Z
LAST-MODIFIED:20250507T135718Z
UID:10011077-1753264800-1753264800@hhsociety.org
SUMMARY:Crafters in the Hills
DESCRIPTION:For More Information email craftclubhh@gmail.com
URL:https://hhsociety.org/event/crafters-in-the-hills/2025-07-23/
LOCATION:Art Room B
END:VEVENT
BEGIN:VEVENT
DTSTART;TZID=America/New_York:20250723T173000
DTEND;TZID=America/New_York:20250723T193000
DTSTAMP:20260424T222209
CREATED:20250701T191130Z
LAST-MODIFIED:20250725T182753Z
UID:10012876-1753291800-1753299000@hhsociety.org
SUMMARY:Pickleball - Round Robins
DESCRIPTION:All levels welcome. \nEnjoy this social scramble meeting new people and playing for fun! \nAll the sign ups will be on team reach. \nPeople need to email us so we can give them the team reach info once they’ve provided us with their resident info. \nOur email is PickleballHH@outlook.com
URL:https://hhsociety.org/event/pickleball-round-robins/2025-07-23/
LOCATION:Pickleball Courts
END:VEVENT
BEGIN:VEVENT
DTSTART;TZID=America/New_York:20250723T180000
DTEND;TZID=America/New_York:20250723T180000
DTSTAMP:20260424T222209
CREATED:20250507T135901Z
LAST-MODIFIED:20250507T135901Z
UID:10011137-1753293600-1753293600@hhsociety.org
SUMMARY:Crafters in the Hills
DESCRIPTION:For information and to register email: craftclubhh@gmail.com
URL:https://hhsociety.org/event/crafters-in-the-hills-2-2/2025-07-23/
LOCATION:Art Room B
END:VEVENT
BEGIN:VEVENT
DTSTART;TZID=America/New_York:20250723T180000
DTEND;TZID=America/New_York:20250723T200000
DTSTAMP:20260424T222209
CREATED:20250701T195059Z
LAST-MODIFIED:20250701T195059Z
UID:10013151-1753293600-1753300800@hhsociety.org
SUMMARY:Crafters in the Hills
DESCRIPTION:Each week we explore new crafts or work on current projects.  The Monthly crafts are open to club members first\, and when space is available\, we open the session up to non-members. Some crafting sessions are free (you supply your own materials)\, and other sessions have a fee based on materials.  For more information and to register\, email craftclubhh@gmail.com
URL:https://hhsociety.org/event/crafters-in-the-hills-2-4/2025-07-23/
LOCATION:Room B
END:VEVENT
BEGIN:VEVENT
DTSTART;TZID=America/New_York:20250725T110000
DTEND;TZID=America/New_York:20250725T110000
DTSTAMP:20260424T222209
CREATED:20241023T181829Z
LAST-MODIFIED:20241023T181829Z
UID:10005209-1753441200-1753441200@hhsociety.org
SUMMARY:French Conversation
DESCRIPTION:Meets the 2nd and 4th Friday of the month at Lake Lodge in Room 1\nfrom 11 am to noon. Members should have a basic knowledge of French conversation but need not be\nfluent. Refresh your French language skills and laugh and learn with us. If you have any questions\, call\nCarole Ellis 914-260-9182 or email her at carellis14@yahoo.com.
URL:https://hhsociety.org/event/french-conversation/2025-07-25/
LOCATION:Lake Lodge Room 1
END:VEVENT
BEGIN:VEVENT
DTSTART;TZID=America/New_York:20250725T133000
DTEND;TZID=America/New_York:20250725T133000
DTSTAMP:20260424T222209
CREATED:20250702T155623Z
LAST-MODIFIED:20250702T155623Z
UID:10013230-1753450200-1753450200@hhsociety.org
SUMMARY:Health & Safety Committee - Oh\, My Aching Hands
DESCRIPTION:If you often say “Oh\, my aching hands”\, come hear Dr. Michael Fitzgerald\, an orthopedic hand surgeon from Northwell\, discuss various hand ailments\, the causes\, and treatments.
URL:https://hhsociety.org/event/health-safety-committee-oh-my-aching-hands/
LOCATION:Heritage Room
END:VEVENT
BEGIN:VEVENT
DTSTART;TZID=America/New_York:20250725T140000
DTEND;TZID=America/New_York:20250725T153000
DTSTAMP:20260424T222209
CREATED:20250702T142737Z
LAST-MODIFIED:20250702T142737Z
UID:10013222-1753452000-1753457400@hhsociety.org
SUMMARY:Photo Club
DESCRIPTION:Critique and Review of Workshop Attendees’ Photos \nAll residents are welcome\, but space is limited\, and you must sign up 5 days before the workshop. Sign-up sheets are outside the Activities Office. $5 for members\, $10 for non-members \nFor more information\, contact Linda Carpentieri at lindacarp16@gmail.com or (914) 227-3854 or Bill Ablondi at ablondi@marketmaps.net or (203) 984-2955.
URL:https://hhsociety.org/event/photo-club-5/
LOCATION:Game Room
END:VEVENT
BEGIN:VEVENT
DTSTART;TZID=America/New_York:20250725T161500
DTEND;TZID=America/New_York:20250725T161500
DTSTAMP:20260424T222209
CREATED:20250507T143816Z
LAST-MODIFIED:20250507T143816Z
UID:10011580-1753460100-1753460100@hhsociety.org
SUMMARY:Environmental Club
DESCRIPTION:This Club’s primary objective is to foster a culture of environmental responsibility within Heritage Hills.  All are welcome\, including teens.  Watch for announcements and postings about special events and field trips.  No fee. \nFor more information\, contact Carrie Sears at carolynnsears@me.com or (914) 522-3111
URL:https://hhsociety.org/event/environmental-club-2-2/2025-07-25/
LOCATION:Room 2/3
END:VEVENT
BEGIN:VEVENT
DTSTART;TZID=America/New_York:20250730T173000
DTEND;TZID=America/New_York:20250730T190000
DTSTAMP:20260424T222209
CREATED:20250725T183256Z
LAST-MODIFIED:20250725T183256Z
UID:10013292-1753896600-1753902000@hhsociety.org
SUMMARY:Pickleball Whirl
DESCRIPTION:Pickleball Whirl – for 3.0 players and lower! \nThe first 16 players go on the courts.  The balance put their paddles in the holder. The whirl:  game winners stay on the court\, and split up\, and the next two players from the paddler holder join them! Once you’ve played twice – win or lose – you come off the courts and put your paddle in the paddle holder. This will switch out players via rotation and encourages teamwork with different partners!
URL:https://hhsociety.org/event/pickleball-whirl/
LOCATION:Pickleball Courts
END:VEVENT
BEGIN:VEVENT
DTSTART;TZID=America/New_York:20250731T173000
DTEND;TZID=America/New_York:20250731T190000
DTSTAMP:20260424T222209
CREATED:20250701T191730Z
LAST-MODIFIED:20250701T191730Z
UID:10012887-1753983000-1753988400@hhsociety.org
SUMMARY:Pickleball - ACES - Intermediate
DESCRIPTION:–competitive leveled play to see who is the winner on the Ace court! \nAll the sign ups will be on team reach. \nPeople need to email us so we can give them the team reach info once they’ve provided us with their resident info. \nOur email is PickleballHH@outlook.com
URL:https://hhsociety.org/event/pickleball-aces-intermediate/
LOCATION:Pickleball Courts
END:VEVENT
BEGIN:VEVENT
DTSTART;TZID=America/New_York:20250801T150000
DTEND;TZID=America/New_York:20250801T150000
DTSTAMP:20260424T222209
CREATED:20250514T160458Z
LAST-MODIFIED:20250514T160458Z
UID:10012734-1754060400-1754060400@hhsociety.org
SUMMARY:Yacht Club ("HHYC")
DESCRIPTION:The HHYC is a fee-free social club of past and present water fans (swimmers\, boaters\, fishers\, cruisers\, surfers\, whatever). At our monthly pot luck “dock parties” on the first Friday of the month in the Lobby at Lake Lodge\, we share our experiences and plan future ones (theme parties\, day trips/activities\, or even cruises). For more information contact Susan at ciwhitestar@comcast.net or (914) 617-9228
URL:https://hhsociety.org/event/yacht-club-hhyc/2025-08-01/
LOCATION:Lake Lodge Lobby
END:VEVENT
BEGIN:VEVENT
DTSTART;TZID=America/New_York:20250801T180000
DTEND;TZID=America/New_York:20250801T200000
DTSTAMP:20260424T222209
CREATED:20250702T135118Z
LAST-MODIFIED:20250702T135118Z
UID:10013212-1754071200-1754078400@hhsociety.org
SUMMARY:Paint & Sip with Judika
DESCRIPTION:Fee is $40 per class. \nAll supplies included. \nContact Judika Lieberman to register at (914) 483-6750 or Judika266@gmail.com
URL:https://hhsociety.org/event/paint-sip-with-judika-5/2025-08-01/
LOCATION:Art Room A
END:VEVENT
BEGIN:VEVENT
DTSTART;TZID=America/New_York:20250801T190000
DTEND;TZID=America/New_York:20250801T190000
DTSTAMP:20260424T222209
CREATED:20241023T153853Z
LAST-MODIFIED:20241023T153853Z
UID:10000973-1754074800-1754074800@hhsociety.org
SUMMARY:Friday Night Social Dance
DESCRIPTION:The first Friday of every month from 7-10pm in the Activities Center’s Heritage Room.  $10 per person includes coffee and cake.  BYOB.  For more information\, call Angela Viscogliosi at (914) 393-8736
URL:https://hhsociety.org/event/friday-night-social-dance-2/2025-08-01/
LOCATION:Heritage Room
END:VEVENT
END:VCALENDAR