BEGIN:VCALENDAR
VERSION:2.0
PRODID:-//Heritage Hills Society - ECPv6.15.20//NONSGML v1.0//EN
CALSCALE:GREGORIAN
METHOD:PUBLISH
X-ORIGINAL-URL:https://hhsociety.org
X-WR-CALDESC:Events for Heritage Hills Society
REFRESH-INTERVAL;VALUE=DURATION:PT1H
X-Robots-Tag:noindex
X-PUBLISHED-TTL:PT1H
BEGIN:VTIMEZONE
TZID:America/New_York
BEGIN:DAYLIGHT
TZOFFSETFROM:-0500
TZOFFSETTO:-0400
TZNAME:EDT
DTSTART:20240310T070000
END:DAYLIGHT
BEGIN:STANDARD
TZOFFSETFROM:-0400
TZOFFSETTO:-0500
TZNAME:EST
DTSTART:20241103T060000
END:STANDARD
BEGIN:DAYLIGHT
TZOFFSETFROM:-0500
TZOFFSETTO:-0400
TZNAME:EDT
DTSTART:20250309T070000
END:DAYLIGHT
BEGIN:STANDARD
TZOFFSETFROM:-0400
TZOFFSETTO:-0500
TZNAME:EST
DTSTART:20251102T060000
END:STANDARD
BEGIN:DAYLIGHT
TZOFFSETFROM:-0500
TZOFFSETTO:-0400
TZNAME:EDT
DTSTART:20260308T070000
END:DAYLIGHT
BEGIN:STANDARD
TZOFFSETFROM:-0400
TZOFFSETTO:-0500
TZNAME:EST
DTSTART:20261101T060000
END:STANDARD
END:VTIMEZONE
BEGIN:VEVENT
DTSTART;TZID=America/New_York:20250725T094500
DTEND;TZID=America/New_York:20250725T094500
DTSTAMP:20260424T222250
CREATED:20250502T150719Z
LAST-MODIFIED:20250502T150719Z
UID:10010962-1753436700-1753436700@hhsociety.org
SUMMARY:Move and Groove with Theresa
DESCRIPTION:Easy to learn and easy to follow beginner Line Dances to ALL music genres.  Contact Theresa for more information at zumbawithme@aol.com
URL:https://hhsociety.org/event/move-and-groove-with-theresa-2/2025-07-25/
LOCATION:Gym\, Fitness Center
END:VEVENT
BEGIN:VEVENT
DTSTART;TZID=America/New_York:20250725T094500
DTEND;TZID=America/New_York:20250725T094500
DTSTAMP:20260424T222250
CREATED:20250514T153212Z
LAST-MODIFIED:20250514T153212Z
UID:10012222-1753436700-1753436700@hhsociety.org
SUMMARY:Move and Groove with Theresa
DESCRIPTION:East to learn and easy to follow beginner Line Dances to ALL music genres. \nContact Theresa for more information at zumbawithme@aol.com
URL:https://hhsociety.org/event/move-and-groove-with-theresa-4/2025-07-25/
LOCATION:Gym\, Fitness Center
END:VEVENT
BEGIN:VEVENT
DTSTART;TZID=America/New_York:20250725T100000
DTEND;TZID=America/New_York:20250725T100000
DTSTAMP:20260424T222250
CREATED:20241023T154744Z
LAST-MODIFIED:20241023T181006Z
UID:10004978-1753437600-1753437600@hhsociety.org
SUMMARY:Gentle Yoga with Lisa
DESCRIPTION:Mondays at 11:30am and Fridays at 10am in the Lake Lodge’s Upper Level.  $12 for a 75-minute class.  Contact lisaathomas@optonline.net or 914-497-0243 with questions or to register.
URL:https://hhsociety.org/event/gentle-yoga-with-lisa-4/2025-07-25/
LOCATION:Lake Lodge Upper Level
END:VEVENT
BEGIN:VEVENT
DTSTART;TZID=America/New_York:20250725T105000
DTEND;TZID=America/New_York:20250725T105000
DTSTAMP:20260424T222250
CREATED:20250502T151043Z
LAST-MODIFIED:20250502T151043Z
UID:10010988-1753440600-1753440600@hhsociety.org
SUMMARY:Getting Back on Track (15-15-15) with Theresa
DESCRIPTION:Light cardio and balance\, functional strength and stretch\, and restorative breathing and relaxation.  Great class to begin or continue your fitness journey.  Contact Theresa for more information at zumbawithme@aol.com
URL:https://hhsociety.org/event/getting-back-on-track-15-15-15-with-theresa-2/2025-07-25/
LOCATION:Gym\, Fitness Center
END:VEVENT
BEGIN:VEVENT
DTSTART;TZID=America/New_York:20250725T105000
DTEND;TZID=America/New_York:20250725T105000
DTSTAMP:20260424T222250
CREATED:20250514T153814Z
LAST-MODIFIED:20250514T153814Z
UID:10012476-1753440600-1753440600@hhsociety.org
SUMMARY:Getting Back on Track (15-15-15) with Theresa
DESCRIPTION:Light cardio and balance\, functional strength and stretch\, and restorative breathing and relaxation.  Great class to begin or continue your fitness journey. Contact Theresa for more information at zumbawithme@aol.com
URL:https://hhsociety.org/event/getting-back-on-track-15-15-15-with-theresa-4/2025-07-25/
LOCATION:Gym\, Fitness Center
END:VEVENT
BEGIN:VEVENT
DTSTART;TZID=America/New_York:20250725T110000
DTEND;TZID=America/New_York:20250725T110000
DTSTAMP:20260424T222250
CREATED:20241023T181829Z
LAST-MODIFIED:20241023T181829Z
UID:10005209-1753441200-1753441200@hhsociety.org
SUMMARY:French Conversation
DESCRIPTION:Meets the 2nd and 4th Friday of the month at Lake Lodge in Room 1\nfrom 11 am to noon. Members should have a basic knowledge of French conversation but need not be\nfluent. Refresh your French language skills and laugh and learn with us. If you have any questions\, call\nCarole Ellis 914-260-9182 or email her at carellis14@yahoo.com.
URL:https://hhsociety.org/event/french-conversation/2025-07-25/
LOCATION:Lake Lodge Room 1
END:VEVENT
BEGIN:VEVENT
DTSTART;TZID=America/New_York:20250725T130000
DTEND;TZID=America/New_York:20250725T130000
DTSTAMP:20260424T222250
CREATED:20241029T174509Z
LAST-MODIFIED:20241029T174509Z
UID:10007304-1753448400-1753448400@hhsociety.org
SUMMARY:Mah Jongg Fridays
DESCRIPTION:Fridays at 1 pm in Lake Lodge \nCall Cheryl Milde at 914-342-3068.
URL:https://hhsociety.org/event/mah-jongg-fridays/2025-07-25/
LOCATION:Lake Lodge Room 3
END:VEVENT
BEGIN:VEVENT
DTSTART;TZID=America/New_York:20250725T133000
DTEND;TZID=America/New_York:20250725T133000
DTSTAMP:20260424T222250
CREATED:20250702T155623Z
LAST-MODIFIED:20250702T155623Z
UID:10013230-1753450200-1753450200@hhsociety.org
SUMMARY:Health & Safety Committee - Oh\, My Aching Hands
DESCRIPTION:If you often say “Oh\, my aching hands”\, come hear Dr. Michael Fitzgerald\, an orthopedic hand surgeon from Northwell\, discuss various hand ailments\, the causes\, and treatments.
URL:https://hhsociety.org/event/health-safety-committee-oh-my-aching-hands/
LOCATION:Heritage Room
END:VEVENT
BEGIN:VEVENT
DTSTART;TZID=America/New_York:20250725T140000
DTEND;TZID=America/New_York:20250725T153000
DTSTAMP:20260424T222250
CREATED:20250702T142737Z
LAST-MODIFIED:20250702T142737Z
UID:10013222-1753452000-1753457400@hhsociety.org
SUMMARY:Photo Club
DESCRIPTION:Critique and Review of Workshop Attendees’ Photos \nAll residents are welcome\, but space is limited\, and you must sign up 5 days before the workshop. Sign-up sheets are outside the Activities Office. $5 for members\, $10 for non-members \nFor more information\, contact Linda Carpentieri at lindacarp16@gmail.com or (914) 227-3854 or Bill Ablondi at ablondi@marketmaps.net or (203) 984-2955.
URL:https://hhsociety.org/event/photo-club-5/
LOCATION:Game Room
END:VEVENT
BEGIN:VEVENT
DTSTART;TZID=America/New_York:20250725T161500
DTEND;TZID=America/New_York:20250725T161500
DTSTAMP:20260424T222250
CREATED:20250507T143816Z
LAST-MODIFIED:20250507T143816Z
UID:10011580-1753460100-1753460100@hhsociety.org
SUMMARY:Environmental Club
DESCRIPTION:This Club’s primary objective is to foster a culture of environmental responsibility within Heritage Hills.  All are welcome\, including teens.  Watch for announcements and postings about special events and field trips.  No fee. \nFor more information\, contact Carrie Sears at carolynnsears@me.com or (914) 522-3111
URL:https://hhsociety.org/event/environmental-club-2-2/2025-07-25/
LOCATION:Room 2/3
END:VEVENT
BEGIN:VEVENT
DTSTART;TZID=America/New_York:20250726T090000
DTEND;TZID=America/New_York:20250726T090000
DTSTAMP:20260424T222250
CREATED:20241023T180749Z
LAST-MODIFIED:20241023T180749Z
UID:10004458-1753520400-1753520400@hhsociety.org
SUMMARY:Vinyasa Yoga with Joe
DESCRIPTION:Saturdays at 9 am in Lake Lodge’s Upper Level. $12 per class. To\nregister\, email Joe Ferrari at josephferrari@me.com.
URL:https://hhsociety.org/event/vinyasa-yoga-with-joe-2/2025-07-26/
LOCATION:Lake Lodge Upper Level
END:VEVENT
BEGIN:VEVENT
DTSTART;TZID=America/New_York:20250726T093000
DTEND;TZID=America/New_York:20250726T093000
DTSTAMP:20260424T222250
CREATED:20250514T161911Z
LAST-MODIFIED:20250514T161911Z
UID:10012822-1753522200-1753522200@hhsociety.org
SUMMARY:Bocce Group
DESCRIPTION:Weather permitting. \nFor more information contact Reno DiCristofaro at (914) 500-5160 or Diane Purr at (914) 617-9338
URL:https://hhsociety.org/event/bocce-group-4/2025-07-26/
END:VEVENT
BEGIN:VEVENT
DTSTART;TZID=America/New_York:20250726T093000
DTEND;TZID=America/New_York:20250726T093000
DTSTAMP:20260424T222250
CREATED:20250514T162209Z
LAST-MODIFIED:20250514T162209Z
UID:10012843-1753522200-1753522200@hhsociety.org
SUMMARY:Bocce Group
DESCRIPTION:Weather permitting. \nFor more information contact Reno DiCristofaro at (914) 500-5160 or Diane Purr at (914) 617-9338
URL:https://hhsociety.org/event/bocce-group-6/2025-07-26/
END:VEVENT
BEGIN:VEVENT
DTSTART;TZID=America/New_York:20250726T123000
DTEND;TZID=America/New_York:20250726T123000
DTSTAMP:20260424T222250
CREATED:20241023T183621Z
LAST-MODIFIED:20241023T183729Z
UID:10006261-1753533000-1753533000@hhsociety.org
SUMMARY:Canasta Club
DESCRIPTION:Saturdays 12:30pm to 4pm. Contact Doris Simon 914-276-0111 or\nDoris1121@me.com or Nancy Heilman 914-224-7180 or Nancy.C.Heilman@gmail.com
URL:https://hhsociety.org/event/canasta-club-3/2025-07-26/
LOCATION:Room 2/3
END:VEVENT
BEGIN:VEVENT
DTSTART;TZID=America/New_York:20250727T090000
DTEND;TZID=America/New_York:20250727T090000
DTSTAMP:20260424T222250
CREATED:20241023T175213Z
LAST-MODIFIED:20241023T175213Z
UID:10003674-1753606800-1753606800@hhsociety.org
SUMMARY:Linda's Lake Lodge Workouts - Sports Conditioning
DESCRIPTION:9:00am Sundays \nAll Classes are $10 per class.  Register at the start of the month. Contact Linda Zeiss Instructor at labzeiss@gmail.com or (718) 541-0861
URL:https://hhsociety.org/event/lindas-lake-lodge-workouts-sports-conditioning/2025-07-27/
LOCATION:Lake Lodge Upper Level
END:VEVENT
BEGIN:VEVENT
DTSTART;TZID=America/New_York:20250728T093000
DTEND;TZID=America/New_York:20250728T093000
DTSTAMP:20260424T222250
CREATED:20241029T175413Z
LAST-MODIFIED:20241029T175413Z
UID:10008467-1753695000-1753695000@hhsociety.org
SUMMARY:Morning Discussion Group
DESCRIPTION:Discussion group on current event topics. Meets Mondays\nfrom 9:30 to 11 am in the Activities Center. For information\, email Ken Benjamin at kenbenja@aol.com\nor call 914-617-9817.
URL:https://hhsociety.org/event/morning-discussion-group-2/2025-07-28/
LOCATION:Room 2/3
END:VEVENT
BEGIN:VEVENT
DTSTART;TZID=America/New_York:20250728T110000
DTEND;TZID=America/New_York:20250728T110000
DTSTAMP:20260424T222250
CREATED:20241023T151632Z
LAST-MODIFIED:20241023T151632Z
UID:10000041-1753700400-1753700400@hhsociety.org
SUMMARY:Learn to Bead with Allison
DESCRIPTION:Join us on Mondays at 11:00 am in Room B for our beading class.  Each class is $25 including materials fee.  You go home with a piece of jewelry that you made for yourself or for a special someone.  Come and join the fun.  To enroll or for more information\, contact Allison Rubin at (914) 629-3655 or ahrubin521@yahoo.com
URL:https://hhsociety.org/event/learn-to-bead-with-allison-3/2025-07-28/
LOCATION:Art Room B
END:VEVENT
BEGIN:VEVENT
DTSTART;TZID=America/New_York:20250728T113000
DTEND;TZID=America/New_York:20250728T113000
DTSTAMP:20260424T222250
CREATED:20241023T154622Z
LAST-MODIFIED:20241023T154622Z
UID:10001324-1753702200-1753702200@hhsociety.org
SUMMARY:Gentle Yoga with Lisa
DESCRIPTION:Mondays at 11:30 am and Fridays at 10 am in the Lake Lodge’s Upper Level.  $12 for a 75-minute class.  Contact lisaathomas@optonline.net or 914-497-0243 for more information.
URL:https://hhsociety.org/event/gentle-yoga-with-lisa-2/2025-07-28/
LOCATION:Lake Lodge Upper Level
END:VEVENT
BEGIN:VEVENT
DTSTART;TZID=America/New_York:20250728T120000
DTEND;TZID=America/New_York:20250728T120000
DTSTAMP:20260424T222250
CREATED:20241029T174209Z
LAST-MODIFIED:20241029T174209Z
UID:10006782-1753704000-1753704000@hhsociety.org
SUMMARY:Mah Jongg Mondays
DESCRIPTION:Mondays at noon in Lake Lodge (contact Sue Furino 914-617-9110);
URL:https://hhsociety.org/event/mah-jongg-mondays/2025-07-28/
LOCATION:Lake Lodge Room 3
END:VEVENT
BEGIN:VEVENT
DTSTART;TZID=America/New_York:20250728T123000
DTEND;TZID=America/New_York:20250728T123000
DTSTAMP:20260424T222250
CREATED:20241023T155031Z
LAST-MODIFIED:20241023T155031Z
UID:10001586-1753705800-1753705800@hhsociety.org
SUMMARY:Tai Chi & Chi Gong with Master Ellen
DESCRIPTION:Mondays from 12:30-1:30pm in the Gym.  $70 per month.  First class free.  All levels welcome.  Wear loose fitting\, comfortable clothing.  Contact heritagehillstaichi2@@gmail.com for more information or to register.
URL:https://hhsociety.org/event/tai-chi-chi-gong-with-master-ellen-2/2025-07-28/
LOCATION:Gym\, Fitness Center
END:VEVENT
BEGIN:VEVENT
DTSTART;TZID=America/New_York:20250728T123000
DTEND;TZID=America/New_York:20250728T123000
DTSTAMP:20260424T222250
CREATED:20241023T182608Z
LAST-MODIFIED:20241023T182608Z
UID:10005479-1753705800-1753705800@hhsociety.org
SUMMARY:Duplicate Bridge
DESCRIPTION:Mondays and Thursdays at 12:30pm in the Activities Center.  For information\, call Marie at (914) 277-4266
URL:https://hhsociety.org/event/duplicate-bridge-2/2025-07-28/
LOCATION:Heritage Room
END:VEVENT
BEGIN:VEVENT
DTSTART;TZID=America/New_York:20250730T173000
DTEND;TZID=America/New_York:20250730T190000
DTSTAMP:20260424T222250
CREATED:20250725T183256Z
LAST-MODIFIED:20250725T183256Z
UID:10013292-1753896600-1753902000@hhsociety.org
SUMMARY:Pickleball Whirl
DESCRIPTION:Pickleball Whirl – for 3.0 players and lower! \nThe first 16 players go on the courts.  The balance put their paddles in the holder. The whirl:  game winners stay on the court\, and split up\, and the next two players from the paddler holder join them! Once you’ve played twice – win or lose – you come off the courts and put your paddle in the paddle holder. This will switch out players via rotation and encourages teamwork with different partners!
URL:https://hhsociety.org/event/pickleball-whirl/
LOCATION:Pickleball Courts
END:VEVENT
BEGIN:VEVENT
DTSTART;TZID=America/New_York:20250731T130000
DTEND;TZID=America/New_York:20250731T130000
DTSTAMP:20260424T222250
CREATED:20241113T153705Z
LAST-MODIFIED:20241113T153705Z
UID:10009661-1753966800-1753966800@hhsociety.org
SUMMARY:Thriving in your Prime
DESCRIPTION:Join us every other week on Thursday at 1pm in Lake Lodge Room 3 to discuss relevant topics and learn strategies that will help those over the age of 50 navigate the challenges they are confronted with.  Each time we meet we will discuss a new topic\, and you will learn strategies you can implement in your own life.  The investment in each gathering is one hour of your time and $5!
URL:https://hhsociety.org/event/thriving-in-your-prime-2/2025-07-31/
LOCATION:Lake Lodge Room 3
END:VEVENT
BEGIN:VEVENT
DTSTART;TZID=America/New_York:20250731T173000
DTEND;TZID=America/New_York:20250731T190000
DTSTAMP:20260424T222250
CREATED:20250701T191730Z
LAST-MODIFIED:20250701T191730Z
UID:10012887-1753983000-1753988400@hhsociety.org
SUMMARY:Pickleball - ACES - Intermediate
DESCRIPTION:–competitive leveled play to see who is the winner on the Ace court! \nAll the sign ups will be on team reach. \nPeople need to email us so we can give them the team reach info once they’ve provided us with their resident info. \nOur email is PickleballHH@outlook.com
URL:https://hhsociety.org/event/pickleball-aces-intermediate/
LOCATION:Pickleball Courts
END:VEVENT
BEGIN:VEVENT
DTSTART;TZID=America/New_York:20250801T150000
DTEND;TZID=America/New_York:20250801T150000
DTSTAMP:20260424T222250
CREATED:20250514T160458Z
LAST-MODIFIED:20250514T160458Z
UID:10012734-1754060400-1754060400@hhsociety.org
SUMMARY:Yacht Club ("HHYC")
DESCRIPTION:The HHYC is a fee-free social club of past and present water fans (swimmers\, boaters\, fishers\, cruisers\, surfers\, whatever). At our monthly pot luck “dock parties” on the first Friday of the month in the Lobby at Lake Lodge\, we share our experiences and plan future ones (theme parties\, day trips/activities\, or even cruises). For more information contact Susan at ciwhitestar@comcast.net or (914) 617-9228
URL:https://hhsociety.org/event/yacht-club-hhyc/2025-08-01/
LOCATION:Lake Lodge Lobby
END:VEVENT
BEGIN:VEVENT
DTSTART;TZID=America/New_York:20250801T180000
DTEND;TZID=America/New_York:20250801T200000
DTSTAMP:20260424T222250
CREATED:20250702T135118Z
LAST-MODIFIED:20250702T135118Z
UID:10013212-1754071200-1754078400@hhsociety.org
SUMMARY:Paint & Sip with Judika
DESCRIPTION:Fee is $40 per class. \nAll supplies included. \nContact Judika Lieberman to register at (914) 483-6750 or Judika266@gmail.com
URL:https://hhsociety.org/event/paint-sip-with-judika-5/2025-08-01/
LOCATION:Art Room A
END:VEVENT
BEGIN:VEVENT
DTSTART;TZID=America/New_York:20250801T190000
DTEND;TZID=America/New_York:20250801T190000
DTSTAMP:20260424T222250
CREATED:20241023T153853Z
LAST-MODIFIED:20241023T153853Z
UID:10000973-1754074800-1754074800@hhsociety.org
SUMMARY:Friday Night Social Dance
DESCRIPTION:The first Friday of every month from 7-10pm in the Activities Center’s Heritage Room.  $10 per person includes coffee and cake.  BYOB.  For more information\, call Angela Viscogliosi at (914) 393-8736
URL:https://hhsociety.org/event/friday-night-social-dance-2/2025-08-01/
LOCATION:Heritage Room
END:VEVENT
BEGIN:VEVENT
DTSTART;TZID=America/New_York:20250805T133000
DTEND;TZID=America/New_York:20250805T133000
DTSTAMP:20260424T222250
CREATED:20250702T160245Z
LAST-MODIFIED:20250702T160245Z
UID:10013231-1754400600-1754400600@hhsociety.org
SUMMARY:Health & Safety Committee - Savor the Summer
DESCRIPTION:A free plant based cooking demonstration. \nThe Committee continues our highlight on nutrition at this demonstration where you will elevate your summer menu with fresh\, plant-based inspiration!  Amy Rosenfeld\, Registered Dietician\, Senior Manager on the Northwell/Northern Westchester Hospital’s Community Health Team\, offers a dynamic cooking demonstration to discover simple yet delicious plant-based recipes perfect for warm-weather dining. \nLimited to 10 participants.  Preregister\, only by email\, at flo613@comcast.net
URL:https://hhsociety.org/event/health-safety-committee-savor-the-summer/
LOCATION:Activities Center Kitchen
END:VEVENT
BEGIN:VEVENT
DTSTART;TZID=America/New_York:20250805T140000
DTEND;TZID=America/New_York:20250805T140000
DTSTAMP:20260424T222250
CREATED:20241023T182339Z
LAST-MODIFIED:20241023T182339Z
UID:10005389-1754402400-1754402400@hhsociety.org
SUMMARY:Contemporary Fiction Book Club
DESCRIPTION:Openings are available for residents interested in\njoining The Contemporary Fiction Book Club. The club meets on the first Tuesday of each month\nfrom 2:00-3:30. Contact Myra Hopper at 520 390-5523 or myrahopper@gmail.com.
URL:https://hhsociety.org/event/contemporary-fiction-book-club-2/2025-08-05/
LOCATION:Game Room
END:VEVENT
BEGIN:VEVENT
DTSTART;TZID=America/New_York:20250806T190000
DTEND;TZID=America/New_York:20250806T190000
DTSTAMP:20260424T222250
CREATED:20250514T144427Z
LAST-MODIFIED:20250514T144427Z
UID:10011900-1754506800-1754506800@hhsociety.org
SUMMARY:Energy Healing for Self\, Family\, Friends and Pets with Melanie Gambino
DESCRIPTION:Pre-registration required.  $20 per class \nFor more information and to reserve your place\, call\, text or email Melanie at (914) 588-2450 or melaniegambino1@gmail.com$20 per \n 
URL:https://hhsociety.org/event/energy-healing-for-self-family-friends-and-pets-with-melanie-gambino/2025-08-06/
LOCATION:Lake Lodge Room 3
END:VEVENT
END:VCALENDAR