BEGIN:VCALENDAR
VERSION:2.0
PRODID:-//Heritage Hills Society - ECPv6.15.20//NONSGML v1.0//EN
CALSCALE:GREGORIAN
METHOD:PUBLISH
X-ORIGINAL-URL:https://hhsociety.org
X-WR-CALDESC:Events for Heritage Hills Society
REFRESH-INTERVAL;VALUE=DURATION:PT1H
X-Robots-Tag:noindex
X-PUBLISHED-TTL:PT1H
BEGIN:VTIMEZONE
TZID:America/New_York
BEGIN:DAYLIGHT
TZOFFSETFROM:-0500
TZOFFSETTO:-0400
TZNAME:EDT
DTSTART:20240310T070000
END:DAYLIGHT
BEGIN:STANDARD
TZOFFSETFROM:-0400
TZOFFSETTO:-0500
TZNAME:EST
DTSTART:20241103T060000
END:STANDARD
BEGIN:DAYLIGHT
TZOFFSETFROM:-0500
TZOFFSETTO:-0400
TZNAME:EDT
DTSTART:20250309T070000
END:DAYLIGHT
BEGIN:STANDARD
TZOFFSETFROM:-0400
TZOFFSETTO:-0500
TZNAME:EST
DTSTART:20251102T060000
END:STANDARD
BEGIN:DAYLIGHT
TZOFFSETFROM:-0500
TZOFFSETTO:-0400
TZNAME:EDT
DTSTART:20260308T070000
END:DAYLIGHT
BEGIN:STANDARD
TZOFFSETFROM:-0400
TZOFFSETTO:-0500
TZNAME:EST
DTSTART:20261101T060000
END:STANDARD
END:VTIMEZONE
BEGIN:VEVENT
DTSTART;TZID=America/New_York:20250905T150000
DTEND;TZID=America/New_York:20250905T150000
DTSTAMP:20260424T184719
CREATED:20250514T160458Z
LAST-MODIFIED:20250514T160458Z
UID:10012735-1757084400-1757084400@hhsociety.org
SUMMARY:Yacht Club ("HHYC")
DESCRIPTION:The HHYC is a fee-free social club of past and present water fans (swimmers\, boaters\, fishers\, cruisers\, surfers\, whatever). At our monthly pot luck “dock parties” on the first Friday of the month in the Lobby at Lake Lodge\, we share our experiences and plan future ones (theme parties\, day trips/activities\, or even cruises). For more information contact Susan at ciwhitestar@comcast.net or (914) 617-9228
URL:https://hhsociety.org/event/yacht-club-hhyc/2025-09-05/
LOCATION:Lake Lodge Lobby
END:VEVENT
BEGIN:VEVENT
DTSTART;TZID=America/New_York:20250905T180000
DTEND;TZID=America/New_York:20250905T200000
DTSTAMP:20260424T184719
CREATED:20250702T135118Z
LAST-MODIFIED:20250702T135118Z
UID:10013213-1757095200-1757102400@hhsociety.org
SUMMARY:Paint & Sip with Judika
DESCRIPTION:Fee is $40 per class. \nAll supplies included. \nContact Judika Lieberman to register at (914) 483-6750 or Judika266@gmail.com
URL:https://hhsociety.org/event/paint-sip-with-judika-5/2025-09-05/
LOCATION:Art Room A
END:VEVENT
BEGIN:VEVENT
DTSTART;TZID=America/New_York:20250905T190000
DTEND;TZID=America/New_York:20250905T190000
DTSTAMP:20260424T184719
CREATED:20241023T153853Z
LAST-MODIFIED:20241023T153853Z
UID:10000974-1757098800-1757098800@hhsociety.org
SUMMARY:Friday Night Social Dance
DESCRIPTION:The first Friday of every month from 7-10pm in the Activities Center’s Heritage Room.  $10 per person includes coffee and cake.  BYOB.  For more information\, call Angela Viscogliosi at (914) 393-8736
URL:https://hhsociety.org/event/friday-night-social-dance-2/2025-09-05/
LOCATION:Heritage Room
END:VEVENT
BEGIN:VEVENT
DTSTART;TZID=America/New_York:20250906T090000
DTEND;TZID=America/New_York:20250906T090000
DTSTAMP:20260424T184719
CREATED:20241023T180749Z
LAST-MODIFIED:20241023T180749Z
UID:10004464-1757149200-1757149200@hhsociety.org
SUMMARY:Vinyasa Yoga with Joe
DESCRIPTION:Saturdays at 9 am in Lake Lodge’s Upper Level. $12 per class. To\nregister\, email Joe Ferrari at josephferrari@me.com.
URL:https://hhsociety.org/event/vinyasa-yoga-with-joe-2/2025-09-06/
LOCATION:Lake Lodge Upper Level
END:VEVENT
BEGIN:VEVENT
DTSTART;TZID=America/New_York:20250906T093000
DTEND;TZID=America/New_York:20250906T093000
DTSTAMP:20260424T184719
CREATED:20250514T161911Z
LAST-MODIFIED:20250514T161911Z
UID:10012828-1757151000-1757151000@hhsociety.org
SUMMARY:Bocce Group
DESCRIPTION:Weather permitting. \nFor more information contact Reno DiCristofaro at (914) 500-5160 or Diane Purr at (914) 617-9338
URL:https://hhsociety.org/event/bocce-group-4/2025-09-06/
END:VEVENT
BEGIN:VEVENT
DTSTART;TZID=America/New_York:20250906T093000
DTEND;TZID=America/New_York:20250906T093000
DTSTAMP:20260424T184719
CREATED:20250514T162209Z
LAST-MODIFIED:20250514T162209Z
UID:10012849-1757151000-1757151000@hhsociety.org
SUMMARY:Bocce Group
DESCRIPTION:Weather permitting. \nFor more information contact Reno DiCristofaro at (914) 500-5160 or Diane Purr at (914) 617-9338
URL:https://hhsociety.org/event/bocce-group-6/2025-09-06/
END:VEVENT
BEGIN:VEVENT
DTSTART;TZID=America/New_York:20250906T093000
DTEND;TZID=America/New_York:20250906T093000
DTSTAMP:20260424T184719
CREATED:20250829T134907Z
LAST-MODIFIED:20250829T134907Z
UID:10013308-1757151000-1757151000@hhsociety.org
SUMMARY:Hikers & Walkers
DESCRIPTION:Meyer Preserve – Armonk \nLeader Misha Lef (914) 272-5601 \nRating B
URL:https://hhsociety.org/event/hikers-walkers-12/
LOCATION:Activities Parking Lot
END:VEVENT
BEGIN:VEVENT
DTSTART;TZID=America/New_York:20250906T123000
DTEND;TZID=America/New_York:20250906T123000
DTSTAMP:20260424T184719
CREATED:20241023T183621Z
LAST-MODIFIED:20241023T183729Z
UID:10006267-1757161800-1757161800@hhsociety.org
SUMMARY:Canasta Club
DESCRIPTION:Saturdays 12:30pm to 4pm. Contact Doris Simon 914-276-0111 or\nDoris1121@me.com or Nancy Heilman 914-224-7180 or Nancy.C.Heilman@gmail.com
URL:https://hhsociety.org/event/canasta-club-3/2025-09-06/
LOCATION:Room 2/3
END:VEVENT
BEGIN:VEVENT
DTSTART;TZID=America/New_York:20250906T190000
DTEND;TZID=America/New_York:20250906T190000
DTSTAMP:20260424T184719
CREATED:20250804T163633Z
LAST-MODIFIED:20250804T163633Z
UID:10013300-1757185200-1757185200@hhsociety.org
SUMMARY:Club Shalom - In The Tradition of Houdini
DESCRIPTION:
URL:https://hhsociety.org/event/club-shalom-in-the-tradition-of-houdini/
LOCATION:Heritage Room
END:VEVENT
BEGIN:VEVENT
DTSTART;TZID=America/New_York:20250907T090000
DTEND;TZID=America/New_York:20250907T090000
DTSTAMP:20260424T184719
CREATED:20241023T175213Z
LAST-MODIFIED:20241023T175213Z
UID:10003680-1757235600-1757235600@hhsociety.org
SUMMARY:Linda's Lake Lodge Workouts - Sports Conditioning
DESCRIPTION:9:00am Sundays \nAll Classes are $10 per class.  Register at the start of the month. Contact Linda Zeiss Instructor at labzeiss@gmail.com or (718) 541-0861
URL:https://hhsociety.org/event/lindas-lake-lodge-workouts-sports-conditioning/2025-09-07/
LOCATION:Lake Lodge Upper Level
END:VEVENT
BEGIN:VEVENT
DTSTART;TZID=America/New_York:20250907T093000
DTEND;TZID=America/New_York:20250907T093000
DTSTAMP:20260424T184719
CREATED:20250829T135039Z
LAST-MODIFIED:20250829T135039Z
UID:10013309-1757237400-1757237400@hhsociety.org
SUMMARY:Hikers & Walkers
DESCRIPTION:Pepsico Sculpture Garden – Purchase \nLeader Kristie Ripepi (914) 275-7029 \nRating D
URL:https://hhsociety.org/event/hikers-walkers-13/
LOCATION:Activities Parking Lot
END:VEVENT
BEGIN:VEVENT
DTSTART;TZID=America/New_York:20250907T150000
DTEND;TZID=America/New_York:20250907T150000
DTSTAMP:20260424T184719
CREATED:20250804T163827Z
LAST-MODIFIED:20250804T163827Z
UID:10013301-1757257200-1757257200@hhsociety.org
SUMMARY:Concert Society - Cellist Raman Ramakrishnan accompanied by Pianist Helen Huang
DESCRIPTION:
URL:https://hhsociety.org/event/concert-society-cellist-raman-ramakrishnan-accompanied-by-pianist-helen-huang/
LOCATION:Heritage Room
END:VEVENT
BEGIN:VEVENT
DTSTART;TZID=America/New_York:20250908T093000
DTEND;TZID=America/New_York:20250908T093000
DTSTAMP:20260424T184719
CREATED:20241029T175413Z
LAST-MODIFIED:20241029T175413Z
UID:10008473-1757323800-1757323800@hhsociety.org
SUMMARY:Morning Discussion Group
DESCRIPTION:Discussion group on current event topics. Meets Mondays\nfrom 9:30 to 11 am in the Activities Center. For information\, email Ken Benjamin at kenbenja@aol.com\nor call 914-617-9817.
URL:https://hhsociety.org/event/morning-discussion-group-2/2025-09-08/
LOCATION:Room 2/3
END:VEVENT
BEGIN:VEVENT
DTSTART;TZID=America/New_York:20250908T110000
DTEND;TZID=America/New_York:20250908T110000
DTSTAMP:20260424T184719
CREATED:20241023T151632Z
LAST-MODIFIED:20241023T151632Z
UID:10000047-1757329200-1757329200@hhsociety.org
SUMMARY:Learn to Bead with Allison
DESCRIPTION:Join us on Mondays at 11:00 am in Room B for our beading class.  Each class is $25 including materials fee.  You go home with a piece of jewelry that you made for yourself or for a special someone.  Come and join the fun.  To enroll or for more information\, contact Allison Rubin at (914) 629-3655 or ahrubin521@yahoo.com
URL:https://hhsociety.org/event/learn-to-bead-with-allison-3/2025-09-08/
LOCATION:Art Room B
END:VEVENT
BEGIN:VEVENT
DTSTART;TZID=America/New_York:20250908T113000
DTEND;TZID=America/New_York:20250908T113000
DTSTAMP:20260424T184719
CREATED:20241023T154622Z
LAST-MODIFIED:20241023T154622Z
UID:10001330-1757331000-1757331000@hhsociety.org
SUMMARY:Gentle Yoga with Lisa
DESCRIPTION:Mondays at 11:30 am and Fridays at 10 am in the Lake Lodge’s Upper Level.  $12 for a 75-minute class.  Contact lisaathomas@optonline.net or 914-497-0243 for more information.
URL:https://hhsociety.org/event/gentle-yoga-with-lisa-2/2025-09-08/
LOCATION:Lake Lodge Upper Level
END:VEVENT
BEGIN:VEVENT
DTSTART;TZID=America/New_York:20250908T120000
DTEND;TZID=America/New_York:20250908T120000
DTSTAMP:20260424T184719
CREATED:20241029T174209Z
LAST-MODIFIED:20241029T174209Z
UID:10006788-1757332800-1757332800@hhsociety.org
SUMMARY:Mah Jongg Mondays
DESCRIPTION:Mondays at noon in Lake Lodge (contact Sue Furino 914-617-9110);
URL:https://hhsociety.org/event/mah-jongg-mondays/2025-09-08/
LOCATION:Lake Lodge Room 3
END:VEVENT
BEGIN:VEVENT
DTSTART;TZID=America/New_York:20250908T123000
DTEND;TZID=America/New_York:20250908T123000
DTSTAMP:20260424T184719
CREATED:20241023T155031Z
LAST-MODIFIED:20241023T155031Z
UID:10001592-1757334600-1757334600@hhsociety.org
SUMMARY:Tai Chi & Chi Gong with Master Ellen
DESCRIPTION:Mondays from 12:30-1:30pm in the Gym.  $70 per month.  First class free.  All levels welcome.  Wear loose fitting\, comfortable clothing.  Contact heritagehillstaichi2@@gmail.com for more information or to register.
URL:https://hhsociety.org/event/tai-chi-chi-gong-with-master-ellen-2/2025-09-08/
LOCATION:Gym\, Fitness Center
END:VEVENT
BEGIN:VEVENT
DTSTART;TZID=America/New_York:20250908T123000
DTEND;TZID=America/New_York:20250908T123000
DTSTAMP:20260424T184719
CREATED:20241023T182608Z
LAST-MODIFIED:20241023T182608Z
UID:10005485-1757334600-1757334600@hhsociety.org
SUMMARY:Duplicate Bridge
DESCRIPTION:Mondays and Thursdays at 12:30pm in the Activities Center.  For information\, call Marie at (914) 277-4266
URL:https://hhsociety.org/event/duplicate-bridge-2/2025-09-08/
LOCATION:Heritage Room
END:VEVENT
BEGIN:VEVENT
DTSTART;TZID=America/New_York:20250908T190000
DTEND;TZID=America/New_York:20250908T210000
DTSTAMP:20260424T184719
CREATED:20250804T165446Z
LAST-MODIFIED:20250804T165446Z
UID:10013302-1757358000-1757365200@hhsociety.org
SUMMARY:Community Theatre
DESCRIPTION:Cabaret Auditions
URL:https://hhsociety.org/event/community-theatre-2/
LOCATION:Heritage Room
END:VEVENT
BEGIN:VEVENT
DTSTART;TZID=America/New_York:20250909T083000
DTEND;TZID=America/New_York:20250909T083000
DTSTAMP:20260424T184719
CREATED:20241023T161410Z
LAST-MODIFIED:20241023T174857Z
UID:10002636-1757406600-1757406600@hhsociety.org
SUMMARY:Linda's Lake Lodge Classes - Body Conditioning
DESCRIPTION:8:30am Tuesdays and Thursdays \nAll Classes are $10 per class.  Register at the start of the month. Contact Linda Zeiss Instructor at labzeiss@gmail.com or (718) 541-0861
URL:https://hhsociety.org/event/lindas-lake-lodge-classes-body-conditioning/2025-09-09/
LOCATION:Lake Lodge Upper Level
END:VEVENT
BEGIN:VEVENT
DTSTART;TZID=America/New_York:20250909T093000
DTEND;TZID=America/New_York:20250909T093000
DTSTAMP:20260424T184719
CREATED:20241023T160743Z
LAST-MODIFIED:20241023T160743Z
UID:10002114-1757410200-1757410200@hhsociety.org
SUMMARY:Cardio / Strength / Stretch Class with Lori
DESCRIPTION:Tuesdays and Thursdays from 9:30-10:30am in the Gym. Join Lori for a fun\, safe\, effective workout.  Low impact cardio\, resistance training\, balance\, strength and breath work – all set to great music!  Appropriate for all levels.  Resistance bands and weights available.  No mats needed.  Fee $10 per class.  Try the first class for free!  Class is also available on ZOOM. Email Lori for more information or to register at eefyjiig@gmail.com
URL:https://hhsociety.org/event/cardio-strength-stretch-class-with-lori-2/2025-09-09/
LOCATION:Gym\, Fitness Center
END:VEVENT
BEGIN:VEVENT
DTSTART;TZID=America/New_York:20250909T093000
DTEND;TZID=America/New_York:20250909T093000
DTSTAMP:20260424T184719
CREATED:20241023T162528Z
LAST-MODIFIED:20241023T175103Z
UID:10003158-1757410200-1757410200@hhsociety.org
SUMMARY:Linda's Lake Lodge Classes - Rock & Roll Workout
DESCRIPTION:9:30am Tuesdays \nAll Classes are $10 per class.  Register at the start of the month. Contact Linda Zeiss Instructor at labzeiss@gmail.com or (718) 541-0861 \n  \n  \n  \n 
URL:https://hhsociety.org/event/lindas-lake-lodge-classes-rock-roll-workout/2025-09-09/
LOCATION:Lake Lodge Upper Level
END:VEVENT
BEGIN:VEVENT
DTSTART;TZID=America/New_York:20250909T100000
DTEND;TZID=America/New_York:20250909T100000
DTSTAMP:20260424T184719
CREATED:20241023T155520Z
LAST-MODIFIED:20241023T155520Z
UID:10001853-1757412000-1757412000@hhsociety.org
SUMMARY:Chair Yoga with Satish
DESCRIPTION:Practice Tuesdays from 10-11:15am in Lake Lodge Room 3 with Satish Gambhir\, Registered Yoga (500-RYT) and acupressure teacher with over 20 years of experience.  Chair Yoga aimed at toning the entire body and increasing flexibility.  Breathing and meditation for relaxation and mind-body connection.  Live music.  $10 per class.  Call or email to register at (914) 646-0887 or satishgambhir@gmail.com
URL:https://hhsociety.org/event/chair-yoga-with-satish-2/2025-09-09/
LOCATION:Lake Lodge Room 3
END:VEVENT
BEGIN:VEVENT
DTSTART;TZID=America/New_York:20250909T100000
DTEND;TZID=America/New_York:20250909T100000
DTSTAMP:20260424T184719
CREATED:20241029T182020Z
LAST-MODIFIED:20241029T182020Z
UID:10008795-1757412000-1757412000@hhsociety.org
SUMMARY:Shakespeare Group
DESCRIPTION:Tuesdays from 10 to 11:30 am in the Activities Center’s Game Room\,\nand on Zoom. See a film of a classic Shakespeare play\, then read it and join in lively discussions. All are\nwelcome! For more information\, call Susan Ray at 914-391-6686 or Margaret Howlett at 973-746-7816.
URL:https://hhsociety.org/event/shakespeare-group-2/2025-09-09/
LOCATION:Game Room
END:VEVENT
BEGIN:VEVENT
DTSTART;TZID=America/New_York:20250909T110000
DTEND;TZID=America/New_York:20250909T110000
DTSTAMP:20260424T184719
CREATED:20241029T174628Z
LAST-MODIFIED:20241029T174628Z
UID:10007571-1757415600-1757415600@hhsociety.org
SUMMARY:Mah Jongg Tuesdays
DESCRIPTION:Tuesdays from 11 am to 1 pm Call Cheryl Milde at 914-342-3068.
URL:https://hhsociety.org/event/mah-jongg-tuesdays/2025-09-09/
LOCATION:Lake Lodge Room 2
END:VEVENT
BEGIN:VEVENT
DTSTART;TZID=America/New_York:20250909T133000
DTEND;TZID=America/New_York:20250909T133000
DTSTAMP:20260424T184719
CREATED:20250806T132541Z
LAST-MODIFIED:20250806T132541Z
UID:10013304-1757424600-1757424600@hhsociety.org
SUMMARY:Continuing Education
DESCRIPTION:The Newspapers That Made New York \nA lecture by Dr. Thorin Tritter\, former history professor at Princeton University and expert in the United States and New York City History.
URL:https://hhsociety.org/event/continuing-education-6/
LOCATION:Heritage Room
END:VEVENT
BEGIN:VEVENT
DTSTART;TZID=America/New_York:20250909T190000
DTEND;TZID=America/New_York:20250909T210000
DTSTAMP:20260424T184719
CREATED:20250804T165604Z
LAST-MODIFIED:20250804T165604Z
UID:10013303-1757444400-1757451600@hhsociety.org
SUMMARY:Community Theatre
DESCRIPTION:Cabaret Auditions
URL:https://hhsociety.org/event/community-theatre-3/
LOCATION:Heritage Room
END:VEVENT
BEGIN:VEVENT
DTSTART;TZID=America/New_York:20250910T133000
DTEND;TZID=America/New_York:20250910T133000
DTSTAMP:20260424T184719
CREATED:20250829T144343Z
LAST-MODIFIED:20250829T144343Z
UID:10013318-1757511000-1757511000@hhsociety.org
SUMMARY:Women's Club
DESCRIPTION:Blue Path Service Dogs\, Inc. Presentation
URL:https://hhsociety.org/event/womens-club-2/
LOCATION:Lake Lodge Room 3
END:VEVENT
BEGIN:VEVENT
DTSTART;TZID=America/New_York:20250911T123000
DTEND;TZID=America/New_York:20250911T123000
DTSTAMP:20260424T184719
CREATED:20241113T161414Z
LAST-MODIFIED:20241113T161414Z
UID:10009783-1757593800-1757593800@hhsociety.org
SUMMARY:Spousal Bereavement Group
DESCRIPTION:Led by Linda Ludwig\, PsD (NotPhD) on the second Thursday of the month at 12:30 pm in Lake Lodge Room 1.  The fee is $20 per session.  For more information\, call 914-617-9328.
URL:https://hhsociety.org/event/spousal-bereavement-group/2025-09-11/
LOCATION:Lake Lodge Room 1
END:VEVENT
BEGIN:VEVENT
DTSTART;TZID=America/New_York:20250911T130000
DTEND;TZID=America/New_York:20250911T130000
DTSTAMP:20260424T184719
CREATED:20241113T153705Z
LAST-MODIFIED:20241113T153705Z
UID:10009664-1757595600-1757595600@hhsociety.org
SUMMARY:Thriving in your Prime
DESCRIPTION:Join us every other week on Thursday at 1pm in Lake Lodge Room 3 to discuss relevant topics and learn strategies that will help those over the age of 50 navigate the challenges they are confronted with.  Each time we meet we will discuss a new topic\, and you will learn strategies you can implement in your own life.  The investment in each gathering is one hour of your time and $5!
URL:https://hhsociety.org/event/thriving-in-your-prime-2/2025-09-11/
LOCATION:Lake Lodge Room 3
END:VEVENT
END:VCALENDAR