BEGIN:VCALENDAR
VERSION:2.0
PRODID:-//Heritage Hills Society - ECPv6.15.20//NONSGML v1.0//EN
CALSCALE:GREGORIAN
METHOD:PUBLISH
X-ORIGINAL-URL:https://hhsociety.org
X-WR-CALDESC:Events for Heritage Hills Society
REFRESH-INTERVAL;VALUE=DURATION:PT1H
X-Robots-Tag:noindex
X-PUBLISHED-TTL:PT1H
BEGIN:VTIMEZONE
TZID:America/New_York
BEGIN:DAYLIGHT
TZOFFSETFROM:-0500
TZOFFSETTO:-0400
TZNAME:EDT
DTSTART:20240310T070000
END:DAYLIGHT
BEGIN:STANDARD
TZOFFSETFROM:-0400
TZOFFSETTO:-0500
TZNAME:EST
DTSTART:20241103T060000
END:STANDARD
BEGIN:DAYLIGHT
TZOFFSETFROM:-0500
TZOFFSETTO:-0400
TZNAME:EDT
DTSTART:20250309T070000
END:DAYLIGHT
BEGIN:STANDARD
TZOFFSETFROM:-0400
TZOFFSETTO:-0500
TZNAME:EST
DTSTART:20251102T060000
END:STANDARD
BEGIN:DAYLIGHT
TZOFFSETFROM:-0500
TZOFFSETTO:-0400
TZNAME:EDT
DTSTART:20260308T070000
END:DAYLIGHT
BEGIN:STANDARD
TZOFFSETFROM:-0400
TZOFFSETTO:-0500
TZNAME:EST
DTSTART:20261101T060000
END:STANDARD
END:VTIMEZONE
BEGIN:VEVENT
DTSTART;TZID=America/New_York:20250912T130000
DTEND;TZID=America/New_York:20250912T130000
DTSTAMP:20260424T203455
CREATED:20241029T174509Z
LAST-MODIFIED:20241029T174509Z
UID:10007311-1757682000-1757682000@hhsociety.org
SUMMARY:Mah Jongg Fridays
DESCRIPTION:Fridays at 1 pm in Lake Lodge \nCall Cheryl Milde at 914-342-3068.
URL:https://hhsociety.org/event/mah-jongg-fridays/2025-09-12/
LOCATION:Lake Lodge Room 3
END:VEVENT
BEGIN:VEVENT
DTSTART;TZID=America/New_York:20250912T130000
DTEND;TZID=America/New_York:20250912T130000
DTSTAMP:20260424T203455
CREATED:20241114T183953Z
LAST-MODIFIED:20241114T183953Z
UID:10010886-1757682000-1757682000@hhsociety.org
SUMMARY:Let's Talk Senior Care
DESCRIPTION:Join us the second Friday of every month at 1pm.  Stephanie Roberti\, MHA\, will be introducing different senior care topics to help educate us on this important subject.  For more information contact Stephanie Roberti at (914) 357-3049 or by email at sroberti@newbeginningsforseniors.com
URL:https://hhsociety.org/event/lets-talk-senior-care/2025-09-12/
LOCATION:Heritage Room
END:VEVENT
BEGIN:VEVENT
DTSTART;TZID=America/New_York:20250912T150000
DTEND;TZID=America/New_York:20250912T150000
DTSTAMP:20260424T203455
CREATED:20250507T143510Z
LAST-MODIFIED:20251202T162235Z
UID:10013370-1757689200-1757689200@hhsociety.org
SUMMARY:Environmental Club
DESCRIPTION:This Club’s primary objective is to foster a culture of environmental responsibility within Heritage Hills.  All are welcome\, including teens.  Watch for announcements and postings about special events and field trips.  No fee. \nFor more information contact Carrie Sears at carolynnsears@me.com  or (914) 522-3111
URL:https://hhsociety.org/event/environmental-club/2025-09-12/
LOCATION:Room 2/3
END:VEVENT
BEGIN:VEVENT
DTSTART;TZID=America/New_York:20250913T090000
DTEND;TZID=America/New_York:20250913T090000
DTSTAMP:20260424T203455
CREATED:20241023T180749Z
LAST-MODIFIED:20241023T180749Z
UID:10004465-1757754000-1757754000@hhsociety.org
SUMMARY:Vinyasa Yoga with Joe
DESCRIPTION:Saturdays at 9 am in Lake Lodge’s Upper Level. $12 per class. To\nregister\, email Joe Ferrari at josephferrari@me.com.
URL:https://hhsociety.org/event/vinyasa-yoga-with-joe-2/2025-09-13/
LOCATION:Lake Lodge Upper Level
END:VEVENT
BEGIN:VEVENT
DTSTART;TZID=America/New_York:20250913T093000
DTEND;TZID=America/New_York:20250913T093000
DTSTAMP:20260424T203455
CREATED:20250514T161911Z
LAST-MODIFIED:20250514T161911Z
UID:10012829-1757755800-1757755800@hhsociety.org
SUMMARY:Bocce Group
DESCRIPTION:Weather permitting. \nFor more information contact Reno DiCristofaro at (914) 500-5160 or Diane Purr at (914) 617-9338
URL:https://hhsociety.org/event/bocce-group-4/2025-09-13/
END:VEVENT
BEGIN:VEVENT
DTSTART;TZID=America/New_York:20250913T093000
DTEND;TZID=America/New_York:20250913T093000
DTSTAMP:20260424T203455
CREATED:20250514T162209Z
LAST-MODIFIED:20250514T162209Z
UID:10012850-1757755800-1757755800@hhsociety.org
SUMMARY:Bocce Group
DESCRIPTION:Weather permitting. \nFor more information contact Reno DiCristofaro at (914) 500-5160 or Diane Purr at (914) 617-9338
URL:https://hhsociety.org/event/bocce-group-6/2025-09-13/
END:VEVENT
BEGIN:VEVENT
DTSTART;TZID=America/New_York:20250913T093000
DTEND;TZID=America/New_York:20250913T093000
DTSTAMP:20260424T203455
CREATED:20250829T135418Z
LAST-MODIFIED:20250829T135418Z
UID:10013310-1757755800-1757755800@hhsociety.org
SUMMARY:Hikers & Walkers
DESCRIPTION:Muscoot River Trails – Somers \nLeader Jane Smalley – (914) 263-8146 \nRating B
URL:https://hhsociety.org/event/hikers-walkers-14/
LOCATION:Activities Parking Lot
END:VEVENT
BEGIN:VEVENT
DTSTART;TZID=America/New_York:20250913T100000
DTEND;TZID=America/New_York:20250913T160000
DTSTAMP:20260424T203455
CREATED:20250804T163358Z
LAST-MODIFIED:20250804T163358Z
UID:10013298-1757757600-1757779200@hhsociety.org
SUMMARY:Resident Art Show
DESCRIPTION:
URL:https://hhsociety.org/event/resident-art-show/
LOCATION:Heritage Room
END:VEVENT
BEGIN:VEVENT
DTSTART;TZID=America/New_York:20250913T123000
DTEND;TZID=America/New_York:20250913T123000
DTSTAMP:20260424T203455
CREATED:20241023T183621Z
LAST-MODIFIED:20241023T183729Z
UID:10006268-1757766600-1757766600@hhsociety.org
SUMMARY:Canasta Club
DESCRIPTION:Saturdays 12:30pm to 4pm. Contact Doris Simon 914-276-0111 or\nDoris1121@me.com or Nancy Heilman 914-224-7180 or Nancy.C.Heilman@gmail.com
URL:https://hhsociety.org/event/canasta-club-3/2025-09-13/
LOCATION:Room 2/3
END:VEVENT
BEGIN:VEVENT
DTSTART;TZID=America/New_York:20250914T090000
DTEND;TZID=America/New_York:20250914T090000
DTSTAMP:20260424T203455
CREATED:20241023T175213Z
LAST-MODIFIED:20241023T175213Z
UID:10003681-1757840400-1757840400@hhsociety.org
SUMMARY:Linda's Lake Lodge Workouts - Sports Conditioning
DESCRIPTION:9:00am Sundays \nAll Classes are $10 per class.  Register at the start of the month. Contact Linda Zeiss Instructor at labzeiss@gmail.com or (718) 541-0861
URL:https://hhsociety.org/event/lindas-lake-lodge-workouts-sports-conditioning/2025-09-14/
LOCATION:Lake Lodge Upper Level
END:VEVENT
BEGIN:VEVENT
DTSTART;TZID=America/New_York:20250914T093000
DTEND;TZID=America/New_York:20250914T093000
DTSTAMP:20260424T203455
CREATED:20250829T135601Z
LAST-MODIFIED:20250829T135601Z
UID:10013311-1757842200-1757842200@hhsociety.org
SUMMARY:Hikers & Walkers
DESCRIPTION:Rockefeller State Park – 13 Bridges \nLeader Kelly Doherty (914) 715-8956 \nRating C
URL:https://hhsociety.org/event/hikers-walkers-15/
LOCATION:Activities Parking Lot
END:VEVENT
BEGIN:VEVENT
DTSTART;TZID=America/New_York:20250914T100000
DTEND;TZID=America/New_York:20250914T160000
DTSTAMP:20260424T203455
CREATED:20250804T163513Z
LAST-MODIFIED:20250804T163513Z
UID:10013299-1757844000-1757865600@hhsociety.org
SUMMARY:Resident Art Show
DESCRIPTION:
URL:https://hhsociety.org/event/resident-art-show-2/
LOCATION:Heritage Room
END:VEVENT
BEGIN:VEVENT
DTSTART;TZID=America/New_York:20250915T093000
DTEND;TZID=America/New_York:20250915T093000
DTSTAMP:20260424T203455
CREATED:20241029T175413Z
LAST-MODIFIED:20241029T175413Z
UID:10008474-1757928600-1757928600@hhsociety.org
SUMMARY:Morning Discussion Group
DESCRIPTION:Discussion group on current event topics. Meets Mondays\nfrom 9:30 to 11 am in the Activities Center. For information\, email Ken Benjamin at kenbenja@aol.com\nor call 914-617-9817.
URL:https://hhsociety.org/event/morning-discussion-group-2/2025-09-15/
LOCATION:Room 2/3
END:VEVENT
BEGIN:VEVENT
DTSTART;TZID=America/New_York:20250915T110000
DTEND;TZID=America/New_York:20250915T110000
DTSTAMP:20260424T203455
CREATED:20241023T151632Z
LAST-MODIFIED:20241023T151632Z
UID:10000048-1757934000-1757934000@hhsociety.org
SUMMARY:Learn to Bead with Allison
DESCRIPTION:Join us on Mondays at 11:00 am in Room B for our beading class.  Each class is $25 including materials fee.  You go home with a piece of jewelry that you made for yourself or for a special someone.  Come and join the fun.  To enroll or for more information\, contact Allison Rubin at (914) 629-3655 or ahrubin521@yahoo.com
URL:https://hhsociety.org/event/learn-to-bead-with-allison-3/2025-09-15/
LOCATION:Art Room B
END:VEVENT
BEGIN:VEVENT
DTSTART;TZID=America/New_York:20250915T113000
DTEND;TZID=America/New_York:20250915T113000
DTSTAMP:20260424T203455
CREATED:20241023T154622Z
LAST-MODIFIED:20241023T154622Z
UID:10001331-1757935800-1757935800@hhsociety.org
SUMMARY:Gentle Yoga with Lisa
DESCRIPTION:Mondays at 11:30 am and Fridays at 10 am in the Lake Lodge’s Upper Level.  $12 for a 75-minute class.  Contact lisaathomas@optonline.net or 914-497-0243 for more information.
URL:https://hhsociety.org/event/gentle-yoga-with-lisa-2/2025-09-15/
LOCATION:Lake Lodge Upper Level
END:VEVENT
BEGIN:VEVENT
DTSTART;TZID=America/New_York:20250915T120000
DTEND;TZID=America/New_York:20250915T120000
DTSTAMP:20260424T203455
CREATED:20241029T174209Z
LAST-MODIFIED:20241029T174209Z
UID:10006789-1757937600-1757937600@hhsociety.org
SUMMARY:Mah Jongg Mondays
DESCRIPTION:Mondays at noon in Lake Lodge (contact Sue Furino 914-617-9110);
URL:https://hhsociety.org/event/mah-jongg-mondays/2025-09-15/
LOCATION:Lake Lodge Room 3
END:VEVENT
BEGIN:VEVENT
DTSTART;TZID=America/New_York:20250915T123000
DTEND;TZID=America/New_York:20250915T123000
DTSTAMP:20260424T203455
CREATED:20241023T155031Z
LAST-MODIFIED:20241023T155031Z
UID:10001593-1757939400-1757939400@hhsociety.org
SUMMARY:Tai Chi & Chi Gong with Master Ellen
DESCRIPTION:Mondays from 12:30-1:30pm in the Gym.  $70 per month.  First class free.  All levels welcome.  Wear loose fitting\, comfortable clothing.  Contact heritagehillstaichi2@@gmail.com for more information or to register.
URL:https://hhsociety.org/event/tai-chi-chi-gong-with-master-ellen-2/2025-09-15/
LOCATION:Gym\, Fitness Center
END:VEVENT
BEGIN:VEVENT
DTSTART;TZID=America/New_York:20250915T123000
DTEND;TZID=America/New_York:20250915T123000
DTSTAMP:20260424T203455
CREATED:20241023T182608Z
LAST-MODIFIED:20241023T182608Z
UID:10005486-1757939400-1757939400@hhsociety.org
SUMMARY:Duplicate Bridge
DESCRIPTION:Mondays and Thursdays at 12:30pm in the Activities Center.  For information\, call Marie at (914) 277-4266
URL:https://hhsociety.org/event/duplicate-bridge-2/2025-09-15/
LOCATION:Heritage Room
END:VEVENT
BEGIN:VEVENT
DTSTART;TZID=America/New_York:20250916T083000
DTEND;TZID=America/New_York:20250916T083000
DTSTAMP:20260424T203455
CREATED:20241023T161410Z
LAST-MODIFIED:20241023T174857Z
UID:10002637-1758011400-1758011400@hhsociety.org
SUMMARY:Linda's Lake Lodge Classes - Body Conditioning
DESCRIPTION:8:30am Tuesdays and Thursdays \nAll Classes are $10 per class.  Register at the start of the month. Contact Linda Zeiss Instructor at labzeiss@gmail.com or (718) 541-0861
URL:https://hhsociety.org/event/lindas-lake-lodge-classes-body-conditioning/2025-09-16/
LOCATION:Lake Lodge Upper Level
END:VEVENT
BEGIN:VEVENT
DTSTART;TZID=America/New_York:20250916T093000
DTEND;TZID=America/New_York:20250916T093000
DTSTAMP:20260424T203455
CREATED:20241023T160743Z
LAST-MODIFIED:20241023T160743Z
UID:10002115-1758015000-1758015000@hhsociety.org
SUMMARY:Cardio / Strength / Stretch Class with Lori
DESCRIPTION:Tuesdays and Thursdays from 9:30-10:30am in the Gym. Join Lori for a fun\, safe\, effective workout.  Low impact cardio\, resistance training\, balance\, strength and breath work – all set to great music!  Appropriate for all levels.  Resistance bands and weights available.  No mats needed.  Fee $10 per class.  Try the first class for free!  Class is also available on ZOOM. Email Lori for more information or to register at eefyjiig@gmail.com
URL:https://hhsociety.org/event/cardio-strength-stretch-class-with-lori-2/2025-09-16/
LOCATION:Gym\, Fitness Center
END:VEVENT
BEGIN:VEVENT
DTSTART;TZID=America/New_York:20250916T093000
DTEND;TZID=America/New_York:20250916T093000
DTSTAMP:20260424T203455
CREATED:20241023T162528Z
LAST-MODIFIED:20241023T175103Z
UID:10003159-1758015000-1758015000@hhsociety.org
SUMMARY:Linda's Lake Lodge Classes - Rock & Roll Workout
DESCRIPTION:9:30am Tuesdays \nAll Classes are $10 per class.  Register at the start of the month. Contact Linda Zeiss Instructor at labzeiss@gmail.com or (718) 541-0861 \n  \n  \n  \n 
URL:https://hhsociety.org/event/lindas-lake-lodge-classes-rock-roll-workout/2025-09-16/
LOCATION:Lake Lodge Upper Level
END:VEVENT
BEGIN:VEVENT
DTSTART;TZID=America/New_York:20250916T100000
DTEND;TZID=America/New_York:20250916T100000
DTSTAMP:20260424T203455
CREATED:20241023T155520Z
LAST-MODIFIED:20241023T155520Z
UID:10001854-1758016800-1758016800@hhsociety.org
SUMMARY:Chair Yoga with Satish
DESCRIPTION:Practice Tuesdays from 10-11:15am in Lake Lodge Room 3 with Satish Gambhir\, Registered Yoga (500-RYT) and acupressure teacher with over 20 years of experience.  Chair Yoga aimed at toning the entire body and increasing flexibility.  Breathing and meditation for relaxation and mind-body connection.  Live music.  $10 per class.  Call or email to register at (914) 646-0887 or satishgambhir@gmail.com
URL:https://hhsociety.org/event/chair-yoga-with-satish-2/2025-09-16/
LOCATION:Lake Lodge Room 3
END:VEVENT
BEGIN:VEVENT
DTSTART;TZID=America/New_York:20250916T100000
DTEND;TZID=America/New_York:20250916T100000
DTSTAMP:20260424T203455
CREATED:20241029T182020Z
LAST-MODIFIED:20241029T182020Z
UID:10008796-1758016800-1758016800@hhsociety.org
SUMMARY:Shakespeare Group
DESCRIPTION:Tuesdays from 10 to 11:30 am in the Activities Center’s Game Room\,\nand on Zoom. See a film of a classic Shakespeare play\, then read it and join in lively discussions. All are\nwelcome! For more information\, call Susan Ray at 914-391-6686 or Margaret Howlett at 973-746-7816.
URL:https://hhsociety.org/event/shakespeare-group-2/2025-09-16/
LOCATION:Game Room
END:VEVENT
BEGIN:VEVENT
DTSTART;TZID=America/New_York:20250916T110000
DTEND;TZID=America/New_York:20250916T110000
DTSTAMP:20260424T203455
CREATED:20241029T174628Z
LAST-MODIFIED:20241029T174628Z
UID:10007572-1758020400-1758020400@hhsociety.org
SUMMARY:Mah Jongg Tuesdays
DESCRIPTION:Tuesdays from 11 am to 1 pm Call Cheryl Milde at 914-342-3068.
URL:https://hhsociety.org/event/mah-jongg-tuesdays/2025-09-16/
LOCATION:Lake Lodge Room 2
END:VEVENT
BEGIN:VEVENT
DTSTART;TZID=America/New_York:20250916T130000
DTEND;TZID=America/New_York:20250916T130000
DTSTAMP:20260424T203455
CREATED:20250829T144039Z
LAST-MODIFIED:20250829T144039Z
UID:10013317-1758027600-1758027600@hhsociety.org
SUMMARY:Singles Club
DESCRIPTION:Welcome Back Luncheon – The Benjamin – Ridgefield CT \nContact Pat Caruso with questions (914) 649-3232
URL:https://hhsociety.org/event/singles-club-2/
END:VEVENT
BEGIN:VEVENT
DTSTART;TZID=America/New_York:20250916T133000
DTEND;TZID=America/New_York:20250916T133000
DTSTAMP:20260424T203455
CREATED:20250806T132736Z
LAST-MODIFIED:20250806T132736Z
UID:10013305-1758029400-1758029400@hhsociety.org
SUMMARY:Continuing Education
DESCRIPTION:John Singer Sargent: An American Abroad \nA lecture by Heather Cotter\, Art Educator\, New York City Museum of Modern Art \n 
URL:https://hhsociety.org/event/continuing-education-7/
LOCATION:Heritage Room
END:VEVENT
BEGIN:VEVENT
DTSTART;TZID=America/New_York:20250917T133000
DTEND;TZID=America/New_York:20250917T133000
DTSTAMP:20260424T203455
CREATED:20250702T155219Z
LAST-MODIFIED:20250702T155219Z
UID:10013226-1758115800-1758115800@hhsociety.org
SUMMARY:Society Board Meeting
DESCRIPTION:All unit owners are welcome to attend the meeting in person.  It will be broadcast on Comcast’s channels 21 and 1070 while in progress and will be rebroadcast daily on those channels at 2:00pm and 7:00pm until the next meeting occurs.  It can also be viewed on the Society website at hhsociety.org; go to Heritage Hills Society\, then choose Board Meetings & Documents. \nOwners are welcome to raise matters of concern in person at the meeting.  Residents who cannot attend may send an email to society@hhsociety.org\, call (914) 276-2908\, or mail them to Society Board\, 8 Heritage Hills\, Somers\, NY 10589.  They will be discussed at the end of the meeting. \nProvide your name and unit number on written correspondence.
URL:https://hhsociety.org/event/society-board-meeting-3/2025-09-17/
LOCATION:Heritage Room
END:VEVENT
BEGIN:VEVENT
DTSTART;TZID=America/New_York:20250917T133000
DTEND;TZID=America/New_York:20250917T133000
DTSTAMP:20260424T203455
CREATED:20250829T144708Z
LAST-MODIFIED:20250829T144708Z
UID:10013320-1758115800-1758115800@hhsociety.org
SUMMARY:Society Board Monthly Meeting
DESCRIPTION:All unit owners are welcome to attend.
URL:https://hhsociety.org/event/society-board-monthly-meeting-3/
LOCATION:Heritage Room
END:VEVENT
BEGIN:VEVENT
DTSTART;TZID=America/New_York:20250920T083000
DTEND;TZID=America/New_York:20250920T083000
DTSTAMP:20260424T203455
CREATED:20250829T144501Z
LAST-MODIFIED:20250829T144501Z
UID:10013319-1758357000-1758357000@hhsociety.org
SUMMARY:Bocce
DESCRIPTION:Annual Bocce Tournament
URL:https://hhsociety.org/event/bocce/
END:VEVENT
BEGIN:VEVENT
DTSTART;TZID=America/New_York:20250920T093000
DTEND;TZID=America/New_York:20250920T093000
DTSTAMP:20260424T203455
CREATED:20250829T140006Z
LAST-MODIFIED:20250829T140006Z
UID:10013312-1758360600-1758360600@hhsociety.org
SUMMARY:Hikers & Walkers
DESCRIPTION:Hilltop Hanover & Farm – Yorktown
URL:https://hhsociety.org/event/hikers-walkers-16/
LOCATION:Activities Parking Lot
END:VEVENT
END:VCALENDAR