BEGIN:VCALENDAR
VERSION:2.0
PRODID:-//Heritage Hills Society - ECPv6.15.20//NONSGML v1.0//EN
CALSCALE:GREGORIAN
METHOD:PUBLISH
X-ORIGINAL-URL:https://hhsociety.org
X-WR-CALDESC:Events for Heritage Hills Society
REFRESH-INTERVAL;VALUE=DURATION:PT1H
X-Robots-Tag:noindex
X-PUBLISHED-TTL:PT1H
BEGIN:VTIMEZONE
TZID:America/New_York
BEGIN:DAYLIGHT
TZOFFSETFROM:-0500
TZOFFSETTO:-0400
TZNAME:EDT
DTSTART:20240310T070000
END:DAYLIGHT
BEGIN:STANDARD
TZOFFSETFROM:-0400
TZOFFSETTO:-0500
TZNAME:EST
DTSTART:20241103T060000
END:STANDARD
BEGIN:DAYLIGHT
TZOFFSETFROM:-0500
TZOFFSETTO:-0400
TZNAME:EDT
DTSTART:20250309T070000
END:DAYLIGHT
BEGIN:STANDARD
TZOFFSETFROM:-0400
TZOFFSETTO:-0500
TZNAME:EST
DTSTART:20251102T060000
END:STANDARD
BEGIN:DAYLIGHT
TZOFFSETFROM:-0500
TZOFFSETTO:-0400
TZNAME:EDT
DTSTART:20260308T070000
END:DAYLIGHT
BEGIN:STANDARD
TZOFFSETFROM:-0400
TZOFFSETTO:-0500
TZNAME:EST
DTSTART:20261101T060000
END:STANDARD
END:VTIMEZONE
BEGIN:VEVENT
DTSTART;TZID=America/New_York:20250920T093000
DTEND;TZID=America/New_York:20250920T093000
DTSTAMP:20260424T203507
CREATED:20250514T161911Z
LAST-MODIFIED:20250514T161911Z
UID:10012830-1758360600-1758360600@hhsociety.org
SUMMARY:Bocce Group
DESCRIPTION:Weather permitting. \nFor more information contact Reno DiCristofaro at (914) 500-5160 or Diane Purr at (914) 617-9338
URL:https://hhsociety.org/event/bocce-group-4/2025-09-20/
END:VEVENT
BEGIN:VEVENT
DTSTART;TZID=America/New_York:20250920T093000
DTEND;TZID=America/New_York:20250920T093000
DTSTAMP:20260424T203507
CREATED:20250514T162209Z
LAST-MODIFIED:20250514T162209Z
UID:10012851-1758360600-1758360600@hhsociety.org
SUMMARY:Bocce Group
DESCRIPTION:Weather permitting. \nFor more information contact Reno DiCristofaro at (914) 500-5160 or Diane Purr at (914) 617-9338
URL:https://hhsociety.org/event/bocce-group-6/2025-09-20/
END:VEVENT
BEGIN:VEVENT
DTSTART;TZID=America/New_York:20250920T093000
DTEND;TZID=America/New_York:20250920T093000
DTSTAMP:20260424T203507
CREATED:20250829T140006Z
LAST-MODIFIED:20250829T140006Z
UID:10013312-1758360600-1758360600@hhsociety.org
SUMMARY:Hikers & Walkers
DESCRIPTION:Hilltop Hanover & Farm – Yorktown
URL:https://hhsociety.org/event/hikers-walkers-16/
LOCATION:Activities Parking Lot
END:VEVENT
BEGIN:VEVENT
DTSTART;TZID=America/New_York:20250920T123000
DTEND;TZID=America/New_York:20250920T123000
DTSTAMP:20260424T203507
CREATED:20241023T183621Z
LAST-MODIFIED:20241023T183729Z
UID:10006269-1758371400-1758371400@hhsociety.org
SUMMARY:Canasta Club
DESCRIPTION:Saturdays 12:30pm to 4pm. Contact Doris Simon 914-276-0111 or\nDoris1121@me.com or Nancy Heilman 914-224-7180 or Nancy.C.Heilman@gmail.com
URL:https://hhsociety.org/event/canasta-club-3/2025-09-20/
LOCATION:Room 2/3
END:VEVENT
BEGIN:VEVENT
DTSTART;TZID=America/New_York:20250920T190000
DTEND;TZID=America/New_York:20250920T190000
DTSTAMP:20260424T203507
CREATED:20250806T133533Z
LAST-MODIFIED:20250806T133533Z
UID:10013307-1758394800-1758394800@hhsociety.org
SUMMARY:Friends in the Hills
DESCRIPTION:Performer Chris Rugiero
URL:https://hhsociety.org/event/friends-in-the-hills-2/
LOCATION:Heritage Room
END:VEVENT
BEGIN:VEVENT
DTSTART;TZID=America/New_York:20250921T090000
DTEND;TZID=America/New_York:20250921T090000
DTSTAMP:20260424T203507
CREATED:20241023T175213Z
LAST-MODIFIED:20241023T175213Z
UID:10003682-1758445200-1758445200@hhsociety.org
SUMMARY:Linda's Lake Lodge Workouts - Sports Conditioning
DESCRIPTION:9:00am Sundays \nAll Classes are $10 per class.  Register at the start of the month. Contact Linda Zeiss Instructor at labzeiss@gmail.com or (718) 541-0861
URL:https://hhsociety.org/event/lindas-lake-lodge-workouts-sports-conditioning/2025-09-21/
LOCATION:Lake Lodge Upper Level
END:VEVENT
BEGIN:VEVENT
DTSTART;TZID=America/New_York:20250921T093000
DTEND;TZID=America/New_York:20250921T093000
DTSTAMP:20260424T203507
CREATED:20250829T140829Z
LAST-MODIFIED:20250829T140829Z
UID:10013313-1758447000-1758447000@hhsociety.org
SUMMARY:Hikers & Walkers
DESCRIPTION:Leader’s Choice – Leader Misha Lef (914) 272-5601 \nRating C
URL:https://hhsociety.org/event/hikers-walkers-17/
LOCATION:Activities Parking Lot
END:VEVENT
BEGIN:VEVENT
DTSTART;TZID=America/New_York:20250922T093000
DTEND;TZID=America/New_York:20250922T093000
DTSTAMP:20260424T203507
CREATED:20241029T175413Z
LAST-MODIFIED:20241029T175413Z
UID:10008475-1758533400-1758533400@hhsociety.org
SUMMARY:Morning Discussion Group
DESCRIPTION:Discussion group on current event topics. Meets Mondays\nfrom 9:30 to 11 am in the Activities Center. For information\, email Ken Benjamin at kenbenja@aol.com\nor call 914-617-9817.
URL:https://hhsociety.org/event/morning-discussion-group-2/2025-09-22/
LOCATION:Room 2/3
END:VEVENT
BEGIN:VEVENT
DTSTART;TZID=America/New_York:20250922T110000
DTEND;TZID=America/New_York:20250922T110000
DTSTAMP:20260424T203507
CREATED:20241023T151632Z
LAST-MODIFIED:20241023T151632Z
UID:10000049-1758538800-1758538800@hhsociety.org
SUMMARY:Learn to Bead with Allison
DESCRIPTION:Join us on Mondays at 11:00 am in Room B for our beading class.  Each class is $25 including materials fee.  You go home with a piece of jewelry that you made for yourself or for a special someone.  Come and join the fun.  To enroll or for more information\, contact Allison Rubin at (914) 629-3655 or ahrubin521@yahoo.com
URL:https://hhsociety.org/event/learn-to-bead-with-allison-3/2025-09-22/
LOCATION:Art Room B
END:VEVENT
BEGIN:VEVENT
DTSTART;TZID=America/New_York:20250922T113000
DTEND;TZID=America/New_York:20250922T113000
DTSTAMP:20260424T203507
CREATED:20241023T154622Z
LAST-MODIFIED:20241023T154622Z
UID:10001332-1758540600-1758540600@hhsociety.org
SUMMARY:Gentle Yoga with Lisa
DESCRIPTION:Mondays at 11:30 am and Fridays at 10 am in the Lake Lodge’s Upper Level.  $12 for a 75-minute class.  Contact lisaathomas@optonline.net or 914-497-0243 for more information.
URL:https://hhsociety.org/event/gentle-yoga-with-lisa-2/2025-09-22/
LOCATION:Lake Lodge Upper Level
END:VEVENT
BEGIN:VEVENT
DTSTART;TZID=America/New_York:20250922T120000
DTEND;TZID=America/New_York:20250922T120000
DTSTAMP:20260424T203507
CREATED:20241029T174209Z
LAST-MODIFIED:20241029T174209Z
UID:10006790-1758542400-1758542400@hhsociety.org
SUMMARY:Mah Jongg Mondays
DESCRIPTION:Mondays at noon in Lake Lodge (contact Sue Furino 914-617-9110);
URL:https://hhsociety.org/event/mah-jongg-mondays/2025-09-22/
LOCATION:Lake Lodge Room 3
END:VEVENT
BEGIN:VEVENT
DTSTART;TZID=America/New_York:20250922T123000
DTEND;TZID=America/New_York:20250922T123000
DTSTAMP:20260424T203507
CREATED:20241023T155031Z
LAST-MODIFIED:20241023T155031Z
UID:10001594-1758544200-1758544200@hhsociety.org
SUMMARY:Tai Chi & Chi Gong with Master Ellen
DESCRIPTION:Mondays from 12:30-1:30pm in the Gym.  $70 per month.  First class free.  All levels welcome.  Wear loose fitting\, comfortable clothing.  Contact heritagehillstaichi2@@gmail.com for more information or to register.
URL:https://hhsociety.org/event/tai-chi-chi-gong-with-master-ellen-2/2025-09-22/
LOCATION:Gym\, Fitness Center
END:VEVENT
BEGIN:VEVENT
DTSTART;TZID=America/New_York:20250922T123000
DTEND;TZID=America/New_York:20250922T123000
DTSTAMP:20260424T203507
CREATED:20241023T182608Z
LAST-MODIFIED:20241023T182608Z
UID:10005487-1758544200-1758544200@hhsociety.org
SUMMARY:Duplicate Bridge
DESCRIPTION:Mondays and Thursdays at 12:30pm in the Activities Center.  For information\, call Marie at (914) 277-4266
URL:https://hhsociety.org/event/duplicate-bridge-2/2025-09-22/
LOCATION:Heritage Room
END:VEVENT
BEGIN:VEVENT
DTSTART;TZID=America/New_York:20250923T083000
DTEND;TZID=America/New_York:20250923T083000
DTSTAMP:20260424T203507
CREATED:20241023T161410Z
LAST-MODIFIED:20241023T174857Z
UID:10002638-1758616200-1758616200@hhsociety.org
SUMMARY:Linda's Lake Lodge Classes - Body Conditioning
DESCRIPTION:8:30am Tuesdays and Thursdays \nAll Classes are $10 per class.  Register at the start of the month. Contact Linda Zeiss Instructor at labzeiss@gmail.com or (718) 541-0861
URL:https://hhsociety.org/event/lindas-lake-lodge-classes-body-conditioning/2025-09-23/
LOCATION:Lake Lodge Upper Level
END:VEVENT
BEGIN:VEVENT
DTSTART;TZID=America/New_York:20250923T093000
DTEND;TZID=America/New_York:20250923T093000
DTSTAMP:20260424T203507
CREATED:20241023T160743Z
LAST-MODIFIED:20241023T160743Z
UID:10002116-1758619800-1758619800@hhsociety.org
SUMMARY:Cardio / Strength / Stretch Class with Lori
DESCRIPTION:Tuesdays and Thursdays from 9:30-10:30am in the Gym. Join Lori for a fun\, safe\, effective workout.  Low impact cardio\, resistance training\, balance\, strength and breath work – all set to great music!  Appropriate for all levels.  Resistance bands and weights available.  No mats needed.  Fee $10 per class.  Try the first class for free!  Class is also available on ZOOM. Email Lori for more information or to register at eefyjiig@gmail.com
URL:https://hhsociety.org/event/cardio-strength-stretch-class-with-lori-2/2025-09-23/
LOCATION:Gym\, Fitness Center
END:VEVENT
BEGIN:VEVENT
DTSTART;TZID=America/New_York:20250923T093000
DTEND;TZID=America/New_York:20250923T093000
DTSTAMP:20260424T203507
CREATED:20241023T162528Z
LAST-MODIFIED:20241023T175103Z
UID:10003160-1758619800-1758619800@hhsociety.org
SUMMARY:Linda's Lake Lodge Classes - Rock & Roll Workout
DESCRIPTION:9:30am Tuesdays \nAll Classes are $10 per class.  Register at the start of the month. Contact Linda Zeiss Instructor at labzeiss@gmail.com or (718) 541-0861 \n  \n  \n  \n 
URL:https://hhsociety.org/event/lindas-lake-lodge-classes-rock-roll-workout/2025-09-23/
LOCATION:Lake Lodge Upper Level
END:VEVENT
BEGIN:VEVENT
DTSTART;TZID=America/New_York:20250923T100000
DTEND;TZID=America/New_York:20250923T100000
DTSTAMP:20260424T203507
CREATED:20241023T155520Z
LAST-MODIFIED:20241023T155520Z
UID:10001855-1758621600-1758621600@hhsociety.org
SUMMARY:Chair Yoga with Satish
DESCRIPTION:Practice Tuesdays from 10-11:15am in Lake Lodge Room 3 with Satish Gambhir\, Registered Yoga (500-RYT) and acupressure teacher with over 20 years of experience.  Chair Yoga aimed at toning the entire body and increasing flexibility.  Breathing and meditation for relaxation and mind-body connection.  Live music.  $10 per class.  Call or email to register at (914) 646-0887 or satishgambhir@gmail.com
URL:https://hhsociety.org/event/chair-yoga-with-satish-2/2025-09-23/
LOCATION:Lake Lodge Room 3
END:VEVENT
BEGIN:VEVENT
DTSTART;TZID=America/New_York:20250923T100000
DTEND;TZID=America/New_York:20250923T100000
DTSTAMP:20260424T203507
CREATED:20241029T182020Z
LAST-MODIFIED:20241029T182020Z
UID:10008797-1758621600-1758621600@hhsociety.org
SUMMARY:Shakespeare Group
DESCRIPTION:Tuesdays from 10 to 11:30 am in the Activities Center’s Game Room\,\nand on Zoom. See a film of a classic Shakespeare play\, then read it and join in lively discussions. All are\nwelcome! For more information\, call Susan Ray at 914-391-6686 or Margaret Howlett at 973-746-7816.
URL:https://hhsociety.org/event/shakespeare-group-2/2025-09-23/
LOCATION:Game Room
END:VEVENT
BEGIN:VEVENT
DTSTART;TZID=America/New_York:20250923T110000
DTEND;TZID=America/New_York:20250923T110000
DTSTAMP:20260424T203507
CREATED:20241029T174628Z
LAST-MODIFIED:20241029T174628Z
UID:10007573-1758625200-1758625200@hhsociety.org
SUMMARY:Mah Jongg Tuesdays
DESCRIPTION:Tuesdays from 11 am to 1 pm Call Cheryl Milde at 914-342-3068.
URL:https://hhsociety.org/event/mah-jongg-tuesdays/2025-09-23/
LOCATION:Lake Lodge Room 2
END:VEVENT
BEGIN:VEVENT
DTSTART;TZID=America/New_York:20250924T100000
DTEND;TZID=America/New_York:20250924T100000
DTSTAMP:20260424T203507
CREATED:20250507T135718Z
LAST-MODIFIED:20250507T135718Z
UID:10011079-1758708000-1758708000@hhsociety.org
SUMMARY:Crafters in the Hills
DESCRIPTION:For More Information email craftclubhh@gmail.com
URL:https://hhsociety.org/event/crafters-in-the-hills/2025-09-24/
LOCATION:Art Room B
END:VEVENT
BEGIN:VEVENT
DTSTART;TZID=America/New_York:20250924T180000
DTEND;TZID=America/New_York:20250924T180000
DTSTAMP:20260424T203507
CREATED:20250507T135901Z
LAST-MODIFIED:20250507T135901Z
UID:10011139-1758736800-1758736800@hhsociety.org
SUMMARY:Crafters in the Hills
DESCRIPTION:For information and to register email: craftclubhh@gmail.com
URL:https://hhsociety.org/event/crafters-in-the-hills-2-2/2025-09-24/
LOCATION:Art Room B
END:VEVENT
BEGIN:VEVENT
DTSTART;TZID=America/New_York:20250924T180000
DTEND;TZID=America/New_York:20250924T200000
DTSTAMP:20260424T203507
CREATED:20250701T195059Z
LAST-MODIFIED:20250701T195059Z
UID:10013153-1758736800-1758744000@hhsociety.org
SUMMARY:Crafters in the Hills
DESCRIPTION:Each week we explore new crafts or work on current projects.  The Monthly crafts are open to club members first\, and when space is available\, we open the session up to non-members. Some crafting sessions are free (you supply your own materials)\, and other sessions have a fee based on materials.  For more information and to register\, email craftclubhh@gmail.com
URL:https://hhsociety.org/event/crafters-in-the-hills-2-4/2025-09-24/
LOCATION:Room B
END:VEVENT
BEGIN:VEVENT
DTSTART;TZID=America/New_York:20250925T130000
DTEND;TZID=America/New_York:20250925T130000
DTSTAMP:20260424T203507
CREATED:20241113T153705Z
LAST-MODIFIED:20241113T153705Z
UID:10009665-1758805200-1758805200@hhsociety.org
SUMMARY:Thriving in your Prime
DESCRIPTION:Join us every other week on Thursday at 1pm in Lake Lodge Room 3 to discuss relevant topics and learn strategies that will help those over the age of 50 navigate the challenges they are confronted with.  Each time we meet we will discuss a new topic\, and you will learn strategies you can implement in your own life.  The investment in each gathering is one hour of your time and $5!
URL:https://hhsociety.org/event/thriving-in-your-prime-2/2025-09-25/
LOCATION:Lake Lodge Room 3
END:VEVENT
BEGIN:VEVENT
DTSTART;TZID=America/New_York:20250926T110000
DTEND;TZID=America/New_York:20250926T110000
DTSTAMP:20260424T203507
CREATED:20241023T181829Z
LAST-MODIFIED:20241023T181829Z
UID:10005211-1758884400-1758884400@hhsociety.org
SUMMARY:French Conversation
DESCRIPTION:Meets the 2nd and 4th Friday of the month at Lake Lodge in Room 1\nfrom 11 am to noon. Members should have a basic knowledge of French conversation but need not be\nfluent. Refresh your French language skills and laugh and learn with us. If you have any questions\, call\nCarole Ellis 914-260-9182 or email her at carellis14@yahoo.com.
URL:https://hhsociety.org/event/french-conversation/2025-09-26/
LOCATION:Lake Lodge Room 1
END:VEVENT
BEGIN:VEVENT
DTSTART;TZID=America/New_York:20250926T161500
DTEND;TZID=America/New_York:20250926T161500
DTSTAMP:20260424T203507
CREATED:20250507T143816Z
LAST-MODIFIED:20250507T143816Z
UID:10011582-1758903300-1758903300@hhsociety.org
SUMMARY:Environmental Club
DESCRIPTION:This Club’s primary objective is to foster a culture of environmental responsibility within Heritage Hills.  All are welcome\, including teens.  Watch for announcements and postings about special events and field trips.  No fee. \nFor more information\, contact Carrie Sears at carolynnsears@me.com or (914) 522-3111
URL:https://hhsociety.org/event/environmental-club-2-2/2025-09-26/
LOCATION:Room 2/3
END:VEVENT
BEGIN:VEVENT
DTSTART;TZID=America/New_York:20250927T093000
DTEND;TZID=America/New_York:20250927T093000
DTSTAMP:20260424T203507
CREATED:20250829T141414Z
LAST-MODIFIED:20250829T141414Z
UID:10013315-1758965400-1758965400@hhsociety.org
SUMMARY:Hikers & Walkers
DESCRIPTION:Rhinoceros Creek Both Sections \nLeader Barry Tuch (516) 488–5321 \nRating B
URL:https://hhsociety.org/event/hikers-walkers-18/2025-09-27/2/
LOCATION:Activities Parking Lot
END:VEVENT
BEGIN:VEVENT
DTSTART;TZID=America/New_York:20250927T190000
DTEND;TZID=America/New_York:20250927T190000
DTSTAMP:20260424T203507
CREATED:20250804T163219Z
LAST-MODIFIED:20250804T163219Z
UID:10013297-1758999600-1758999600@hhsociety.org
SUMMARY:Ciao Italia - The Fabulous Acchords
DESCRIPTION:
URL:https://hhsociety.org/event/ciao-italia-the-fabulous-acchords/
LOCATION:Heritage Room
END:VEVENT
BEGIN:VEVENT
DTSTART;TZID=America/New_York:20250928T093000
DTEND;TZID=America/New_York:20250928T093000
DTSTAMP:20260424T203507
CREATED:20250829T141752Z
LAST-MODIFIED:20250829T142112Z
UID:10013316-1759051800-1759051800@hhsociety.org
SUMMARY:Hikers & Walkers
DESCRIPTION:Diverting Reservoir – Brewster \nLeader Jane Smalley (914) 263-8146 \nRating D
URL:https://hhsociety.org/event/hikers-walkers-20/
LOCATION:Activities Parking Lot
END:VEVENT
BEGIN:VEVENT
DTSTART;TZID=America/New_York:20250930T133000
DTEND;TZID=America/New_York:20250930T133000
DTSTAMP:20260424T203507
CREATED:20250806T133036Z
LAST-MODIFIED:20250806T133036Z
UID:10013306-1759239000-1759239000@hhsociety.org
SUMMARY:Continuing Education
DESCRIPTION:Citizens United at 15: How the Supreme Court’s 2010 Decision Defined the 2024 Election \nA lecture by Marina Pino\, counsel for the Brennan Center for Justice’s Election and Governments program
URL:https://hhsociety.org/event/continuing-education-8/
LOCATION:Heritage Room
END:VEVENT
BEGIN:VEVENT
DTSTART;TZID=America/New_York:20251001T080000
DTEND;TZID=America/New_York:20251001T170000
DTSTAMP:20260424T203507
CREATED:20251001T123459Z
LAST-MODIFIED:20251001T123459Z
UID:10013332-1759305600-1759338000@hhsociety.org
SUMMARY:Hikers and Walkers
DESCRIPTION:Old Putnam RR – Rating D \nLeader Jane Smalley (914) 263-8146
URL:https://hhsociety.org/event/hikers-and-walkers-2/
END:VEVENT
END:VCALENDAR