BEGIN:VCALENDAR
VERSION:2.0
PRODID:-//Heritage Hills Society - ECPv6.15.20//NONSGML v1.0//EN
CALSCALE:GREGORIAN
METHOD:PUBLISH
X-ORIGINAL-URL:https://hhsociety.org
X-WR-CALDESC:Events for Heritage Hills Society
REFRESH-INTERVAL;VALUE=DURATION:PT1H
X-Robots-Tag:noindex
X-PUBLISHED-TTL:PT1H
BEGIN:VTIMEZONE
TZID:America/New_York
BEGIN:DAYLIGHT
TZOFFSETFROM:-0500
TZOFFSETTO:-0400
TZNAME:EDT
DTSTART:20250309T070000
END:DAYLIGHT
BEGIN:STANDARD
TZOFFSETFROM:-0400
TZOFFSETTO:-0500
TZNAME:EST
DTSTART:20251102T060000
END:STANDARD
BEGIN:DAYLIGHT
TZOFFSETFROM:-0500
TZOFFSETTO:-0400
TZNAME:EDT
DTSTART:20260308T070000
END:DAYLIGHT
BEGIN:STANDARD
TZOFFSETFROM:-0400
TZOFFSETTO:-0500
TZNAME:EST
DTSTART:20261101T060000
END:STANDARD
BEGIN:DAYLIGHT
TZOFFSETFROM:-0500
TZOFFSETTO:-0400
TZNAME:EDT
DTSTART:20270314T070000
END:DAYLIGHT
BEGIN:STANDARD
TZOFFSETFROM:-0400
TZOFFSETTO:-0500
TZNAME:EST
DTSTART:20271107T060000
END:STANDARD
END:VTIMEZONE
BEGIN:VEVENT
DTSTART;TZID=America/New_York:20260117T093000
DTEND;TZID=America/New_York:20260117T093000
DTSTAMP:20260423T223927
CREATED:20260105T183748Z
LAST-MODIFIED:20260105T183748Z
UID:10013447-1768642200-1768642200@hhsociety.org
SUMMARY:Hikers & Walkers
DESCRIPTION:Meyer Preserve – Armonk \nRating B \nLeader Kelly Doherty (914) 715-8956
URL:https://hhsociety.org/event/hikers-walkers-36/
LOCATION:Activities Parking Lot
END:VEVENT
BEGIN:VEVENT
DTSTART;TZID=America/New_York:20260117T123000
DTEND;TZID=America/New_York:20260117T123000
DTSTAMP:20260423T223927
CREATED:20241023T183621Z
LAST-MODIFIED:20241023T183729Z
UID:10006286-1768653000-1768653000@hhsociety.org
SUMMARY:Canasta Club
DESCRIPTION:Saturdays 12:30pm to 4pm. Contact Doris Simon 914-276-0111 or\nDoris1121@me.com or Nancy Heilman 914-224-7180 or Nancy.C.Heilman@gmail.com
URL:https://hhsociety.org/event/canasta-club-3/2026-01-17/
LOCATION:Room 2/3
END:VEVENT
BEGIN:VEVENT
DTSTART;TZID=America/New_York:20260118T090000
DTEND;TZID=America/New_York:20260118T090000
DTSTAMP:20260423T223927
CREATED:20241023T175213Z
LAST-MODIFIED:20241023T175213Z
UID:10003699-1768726800-1768726800@hhsociety.org
SUMMARY:Linda's Lake Lodge Workouts - Sports Conditioning
DESCRIPTION:9:00am Sundays \nAll Classes are $10 per class.  Register at the start of the month. Contact Linda Zeiss Instructor at labzeiss@gmail.com or (718) 541-0861
URL:https://hhsociety.org/event/lindas-lake-lodge-workouts-sports-conditioning/2026-01-18/
LOCATION:Lake Lodge Upper Level
END:VEVENT
BEGIN:VEVENT
DTSTART;TZID=America/New_York:20260118T093000
DTEND;TZID=America/New_York:20260118T093000
DTSTAMP:20260423T223927
CREATED:20260105T184019Z
LAST-MODIFIED:20260105T184019Z
UID:10013448-1768728600-1768728600@hhsociety.org
SUMMARY:Hikers & Walkers
DESCRIPTION:202 Spillway – Brewster \nRating D \nLeader: Cheryl Hochenberg (516) 220-0965
URL:https://hhsociety.org/event/hikers-walkers-37/
LOCATION:Activities Parking Lot
END:VEVENT
BEGIN:VEVENT
DTSTART;TZID=America/New_York:20260118T130000
DTEND;TZID=America/New_York:20260118T130000
DTSTAMP:20260423T223927
CREATED:20260105T184746Z
LAST-MODIFIED:20260105T184746Z
UID:10013451-1768741200-1768741200@hhsociety.org
SUMMARY:Club Shalom
DESCRIPTION:Trivia
URL:https://hhsociety.org/event/club-shalom-4/
LOCATION:Heritage Room
END:VEVENT
BEGIN:VEVENT
DTSTART;TZID=America/New_York:20260119T093000
DTEND;TZID=America/New_York:20260119T093000
DTSTAMP:20260423T223927
CREATED:20241029T175413Z
LAST-MODIFIED:20241029T175413Z
UID:10008492-1768815000-1768815000@hhsociety.org
SUMMARY:Morning Discussion Group
DESCRIPTION:Discussion group on current event topics. Meets Mondays\nfrom 9:30 to 11 am in the Activities Center. For information\, email Ken Benjamin at kenbenja@aol.com\nor call 914-617-9817.
URL:https://hhsociety.org/event/morning-discussion-group-2/2026-01-19/
LOCATION:Room 2/3
END:VEVENT
BEGIN:VEVENT
DTSTART;TZID=America/New_York:20260119T110000
DTEND;TZID=America/New_York:20260119T110000
DTSTAMP:20260423T223927
CREATED:20241023T151632Z
LAST-MODIFIED:20241023T151632Z
UID:10000066-1768820400-1768820400@hhsociety.org
SUMMARY:Learn to Bead with Allison
DESCRIPTION:Join us on Mondays at 11:00 am in Room B for our beading class.  Each class is $25 including materials fee.  You go home with a piece of jewelry that you made for yourself or for a special someone.  Come and join the fun.  To enroll or for more information\, contact Allison Rubin at (914) 629-3655 or ahrubin521@yahoo.com
URL:https://hhsociety.org/event/learn-to-bead-with-allison-3/2026-01-19/
LOCATION:Art Room B
END:VEVENT
BEGIN:VEVENT
DTSTART;TZID=America/New_York:20260119T113000
DTEND;TZID=America/New_York:20260119T113000
DTSTAMP:20260423T223927
CREATED:20241023T154622Z
LAST-MODIFIED:20241023T154622Z
UID:10001349-1768822200-1768822200@hhsociety.org
SUMMARY:Gentle Yoga with Lisa
DESCRIPTION:Mondays at 11:30 am and Fridays at 10 am in the Lake Lodge’s Upper Level.  $12 for a 75-minute class.  Contact lisaathomas@optonline.net or 914-497-0243 for more information.
URL:https://hhsociety.org/event/gentle-yoga-with-lisa-2/2026-01-19/
LOCATION:Lake Lodge Upper Level
END:VEVENT
BEGIN:VEVENT
DTSTART;TZID=America/New_York:20260119T120000
DTEND;TZID=America/New_York:20260119T120000
DTSTAMP:20260423T223927
CREATED:20241029T174209Z
LAST-MODIFIED:20241029T174209Z
UID:10006807-1768824000-1768824000@hhsociety.org
SUMMARY:Mah Jongg Mondays
DESCRIPTION:Mondays at noon in Lake Lodge (contact Sue Furino 914-617-9110);
URL:https://hhsociety.org/event/mah-jongg-mondays/2026-01-19/
LOCATION:Lake Lodge Room 3
END:VEVENT
BEGIN:VEVENT
DTSTART;TZID=America/New_York:20260119T123000
DTEND;TZID=America/New_York:20260119T123000
DTSTAMP:20260423T223927
CREATED:20241023T155031Z
LAST-MODIFIED:20241023T155031Z
UID:10001611-1768825800-1768825800@hhsociety.org
SUMMARY:Tai Chi & Chi Gong with Master Ellen
DESCRIPTION:Mondays from 12:30-1:30pm in the Gym.  $70 per month.  First class free.  All levels welcome.  Wear loose fitting\, comfortable clothing.  Contact heritagehillstaichi2@@gmail.com for more information or to register.
URL:https://hhsociety.org/event/tai-chi-chi-gong-with-master-ellen-2/2026-01-19/
LOCATION:Gym\, Fitness Center
END:VEVENT
BEGIN:VEVENT
DTSTART;TZID=America/New_York:20260119T123000
DTEND;TZID=America/New_York:20260119T123000
DTSTAMP:20260423T223927
CREATED:20241023T182608Z
LAST-MODIFIED:20241023T182608Z
UID:10005504-1768825800-1768825800@hhsociety.org
SUMMARY:Duplicate Bridge
DESCRIPTION:Mondays and Thursdays at 12:30pm in the Activities Center.  For information\, call Marie at (914) 277-4266
URL:https://hhsociety.org/event/duplicate-bridge-2/2026-01-19/
LOCATION:Heritage Room
END:VEVENT
BEGIN:VEVENT
DTSTART;TZID=America/New_York:20260123T110000
DTEND;TZID=America/New_York:20260123T110000
DTSTAMP:20260423T223927
CREATED:20241023T181829Z
LAST-MODIFIED:20241023T181829Z
UID:10005215-1769166000-1769166000@hhsociety.org
SUMMARY:French Conversation
DESCRIPTION:Meets the 2nd and 4th Friday of the month at Lake Lodge in Room 1\nfrom 11 am to noon. Members should have a basic knowledge of French conversation but need not be\nfluent. Refresh your French language skills and laugh and learn with us. If you have any questions\, call\nCarole Ellis 914-260-9182 or email her at carellis14@yahoo.com.
URL:https://hhsociety.org/event/french-conversation/2026-01-23/
LOCATION:Lake Lodge Room 1
END:VEVENT
BEGIN:VEVENT
DTSTART;TZID=America/New_York:20260123T161500
DTEND;TZID=America/New_York:20260123T161500
DTSTAMP:20260423T223927
CREATED:20250507T143816Z
LAST-MODIFIED:20250507T143816Z
UID:10011586-1769184900-1769184900@hhsociety.org
SUMMARY:Environmental Club
DESCRIPTION:This Club’s primary objective is to foster a culture of environmental responsibility within Heritage Hills.  All are welcome\, including teens.  Watch for announcements and postings about special events and field trips.  No fee. \nFor more information\, contact Carrie Sears at carolynnsears@me.com or (914) 522-3111
URL:https://hhsociety.org/event/environmental-club-2-2/2026-01-23/
LOCATION:Room 2/3
END:VEVENT
BEGIN:VEVENT
DTSTART;TZID=America/New_York:20260125T093000
DTEND;TZID=America/New_York:20260125T093000
DTSTAMP:20260423T223927
CREATED:20260105T184408Z
LAST-MODIFIED:20260105T184408Z
UID:10013450-1769333400-1769333400@hhsociety.org
SUMMARY:Hikers & Walkers
DESCRIPTION:FDR State Park – Crom Pond Trail \nRating C \nLeader: Jane Smalley (914) 263-8146
URL:https://hhsociety.org/event/hikers-walkers-39/
LOCATION:Activities Parking Lot
END:VEVENT
BEGIN:VEVENT
DTSTART;TZID=America/New_York:20260128T100000
DTEND;TZID=America/New_York:20260128T100000
DTSTAMP:20260423T223927
CREATED:20250507T135718Z
LAST-MODIFIED:20250507T135718Z
UID:10011083-1769594400-1769594400@hhsociety.org
SUMMARY:Crafters in the Hills
DESCRIPTION:For More Information email craftclubhh@gmail.com
URL:https://hhsociety.org/event/crafters-in-the-hills/2026-01-28/
LOCATION:Art Room B
END:VEVENT
BEGIN:VEVENT
DTSTART;TZID=America/New_York:20260128T180000
DTEND;TZID=America/New_York:20260128T180000
DTSTAMP:20260423T223927
CREATED:20250507T135901Z
LAST-MODIFIED:20250507T135901Z
UID:10011143-1769623200-1769623200@hhsociety.org
SUMMARY:Crafters in the Hills
DESCRIPTION:For information and to register email: craftclubhh@gmail.com
URL:https://hhsociety.org/event/crafters-in-the-hills-2-2/2026-01-28/
LOCATION:Art Room B
END:VEVENT
BEGIN:VEVENT
DTSTART;TZID=America/New_York:20260128T180000
DTEND;TZID=America/New_York:20260128T200000
DTSTAMP:20260423T223927
CREATED:20250701T195059Z
LAST-MODIFIED:20250701T195059Z
UID:10013157-1769623200-1769630400@hhsociety.org
SUMMARY:Crafters in the Hills
DESCRIPTION:Each week we explore new crafts or work on current projects.  The Monthly crafts are open to club members first\, and when space is available\, we open the session up to non-members. Some crafting sessions are free (you supply your own materials)\, and other sessions have a fee based on materials.  For more information and to register\, email craftclubhh@gmail.com
URL:https://hhsociety.org/event/crafters-in-the-hills-2-4/2026-01-28/
LOCATION:Room B
END:VEVENT
BEGIN:VEVENT
DTSTART;TZID=America/New_York:20260131T090000
DTEND;TZID=America/New_York:20260131T160000
DTSTAMP:20260423T223927
CREATED:20260105T184927Z
LAST-MODIFIED:20260105T184927Z
UID:10013452-1769850000-1769875200@hhsociety.org
SUMMARY:AAA Driver Safety Course
DESCRIPTION:
URL:https://hhsociety.org/event/aaa-driver-safety-course/
LOCATION:Heritage Room
END:VEVENT
BEGIN:VEVENT
DTSTART;TZID=America/New_York:20260131T093000
DTEND;TZID=America/New_York:20260131T093000
DTSTAMP:20260423T223927
CREATED:20260129T202048Z
LAST-MODIFIED:20260129T202048Z
UID:10013453-1769851800-1769851800@hhsociety.org
SUMMARY:Hikers & Walkers
DESCRIPTION:Mystery Walk/Hike – Rating C \nLeader: Cheryl Hochenberg (516) 220-0965
URL:https://hhsociety.org/event/hikers-walkers-40/
LOCATION:Activities Parking Lot
END:VEVENT
BEGIN:VEVENT
DTSTART;TZID=America/New_York:20260201T093000
DTEND;TZID=America/New_York:20260201T093000
DTSTAMP:20260423T223927
CREATED:20260129T202217Z
LAST-MODIFIED:20260129T202217Z
UID:10013454-1769938200-1769938200@hhsociety.org
SUMMARY:Hikers & Walkers
DESCRIPTION:202 Spillway – Brewster \nRating D \nLeader: Cheryl Hochenberg (516) 220-0965
URL:https://hhsociety.org/event/hikers-walkers-41/
LOCATION:Activities Parking Lot
END:VEVENT
BEGIN:VEVENT
DTSTART;TZID=America/New_York:20260203T140000
DTEND;TZID=America/New_York:20260203T140000
DTSTAMP:20260423T223927
CREATED:20241023T182339Z
LAST-MODIFIED:20241023T182339Z
UID:10005395-1770127200-1770127200@hhsociety.org
SUMMARY:Contemporary Fiction Book Club
DESCRIPTION:Openings are available for residents interested in\njoining The Contemporary Fiction Book Club. The club meets on the first Tuesday of each month\nfrom 2:00-3:30. Contact Myra Hopper at 520 390-5523 or myrahopper@gmail.com.
URL:https://hhsociety.org/event/contemporary-fiction-book-club-2/2026-02-03/
LOCATION:Game Room
END:VEVENT
BEGIN:VEVENT
DTSTART;TZID=America/New_York:20260204T190000
DTEND;TZID=America/New_York:20260204T190000
DTSTAMP:20260423T223927
CREATED:20250514T144427Z
LAST-MODIFIED:20250514T144427Z
UID:10011906-1770231600-1770231600@hhsociety.org
SUMMARY:Energy Healing for Self\, Family\, Friends and Pets with Melanie Gambino
DESCRIPTION:Pre-registration required.  $20 per class \nFor more information and to reserve your place\, call\, text or email Melanie at (914) 588-2450 or melaniegambino1@gmail.com$20 per \n 
URL:https://hhsociety.org/event/energy-healing-for-self-family-friends-and-pets-with-melanie-gambino/2026-02-04/
LOCATION:Lake Lodge Room 3
END:VEVENT
BEGIN:VEVENT
DTSTART;TZID=America/New_York:20260205T110000
DTEND;TZID=America/New_York:20260205T110000
DTSTAMP:20260423T223927
CREATED:20241023T182146Z
LAST-MODIFIED:20241023T182146Z
UID:10005335-1770289200-1770289200@hhsociety.org
SUMMARY:Spanish Conversation
DESCRIPTION:Meets the 1st Thursday of the month in Lake Lodge’s\nRoom 1 at 11 am. Group is open to intermediate through fluent Spanish speakers. ¡Vengan!
URL:https://hhsociety.org/event/spanish-conversation/2026-02-05/
LOCATION:Lake Lodge Room 1
END:VEVENT
BEGIN:VEVENT
DTSTART;TZID=America/New_York:20260205T123000
DTEND;TZID=America/New_York:20260205T123000
DTSTAMP:20260423T223927
CREATED:20241029T175246Z
LAST-MODIFIED:20241029T175246Z
UID:10008384-1770294600-1770294600@hhsociety.org
SUMMARY:Alzheimer's/Dementia Caregivers Support Group
DESCRIPTION:Caring for someone with Alzheimer&#39;s/Dementia is\na difficult and painful challenge. A support group can help. Meetings take place the first Thursday of the\nmonth at 12:30 pm in Lake Lodge’s Room 1. Fee: $20 per session. Facilitated by Linda Ludwig\, Ph.D. To\nregister\, call 914-617-9328 or email ludwiglr@aol.com.
URL:https://hhsociety.org/event/alzheimers-dementia-caregivers-support-group-2/2026-02-05/
LOCATION:Lake Lodge Room 1
END:VEVENT
BEGIN:VEVENT
DTSTART;TZID=America/New_York:20260205T170000
DTEND;TZID=America/New_York:20260205T170000
DTSTAMP:20260423T223927
CREATED:20241029T181105Z
LAST-MODIFIED:20241029T181105Z
UID:10008705-1770310800-1770310800@hhsociety.org
SUMMARY:Rainbow Connection Club
DESCRIPTION:A group for LGBTQ members and their families\, friends\, and\nneighbors. All are welcome. We meet the first Thursday of each month at Lake Lodge from 5 to 7 pm.\nFor more information contact Joanne at 914-450-5609.
URL:https://hhsociety.org/event/rainbow-connection-club-2/2026-02-05/
LOCATION:Lake Lodge Room 3
END:VEVENT
BEGIN:VEVENT
DTSTART;TZID=America/New_York:20260206T150000
DTEND;TZID=America/New_York:20260206T150000
DTSTAMP:20260423T223927
CREATED:20250514T160458Z
LAST-MODIFIED:20250514T160458Z
UID:10012740-1770390000-1770390000@hhsociety.org
SUMMARY:Yacht Club ("HHYC")
DESCRIPTION:The HHYC is a fee-free social club of past and present water fans (swimmers\, boaters\, fishers\, cruisers\, surfers\, whatever). At our monthly pot luck “dock parties” on the first Friday of the month in the Lobby at Lake Lodge\, we share our experiences and plan future ones (theme parties\, day trips/activities\, or even cruises). For more information contact Susan at ciwhitestar@comcast.net or (914) 617-9228
URL:https://hhsociety.org/event/yacht-club-hhyc/2026-02-06/
LOCATION:Lake Lodge Lobby
END:VEVENT
BEGIN:VEVENT
DTSTART;TZID=America/New_York:20260206T190000
DTEND;TZID=America/New_York:20260206T190000
DTSTAMP:20260423T223927
CREATED:20241023T153853Z
LAST-MODIFIED:20241023T153853Z
UID:10000979-1770404400-1770404400@hhsociety.org
SUMMARY:Friday Night Social Dance
DESCRIPTION:The first Friday of every month from 7-10pm in the Activities Center’s Heritage Room.  $10 per person includes coffee and cake.  BYOB.  For more information\, call Angela Viscogliosi at (914) 393-8736
URL:https://hhsociety.org/event/friday-night-social-dance-2/2026-02-06/
LOCATION:Heritage Room
END:VEVENT
BEGIN:VEVENT
DTSTART;TZID=America/New_York:20260207T093000
DTEND;TZID=America/New_York:20260207T093000
DTSTAMP:20260423T223927
CREATED:20260129T202733Z
LAST-MODIFIED:20260129T202733Z
UID:10013455-1770456600-1770456600@hhsociety.org
SUMMARY:Hikers & Walkers
DESCRIPTION:Halle Ravine Nature Preserve – Pound Ridge \nRating B \nLeader: Kelly Doherty (914) 715-8956
URL:https://hhsociety.org/event/hikers-walkers-42/
LOCATION:Activities Parking Lot
END:VEVENT
BEGIN:VEVENT
DTSTART;TZID=America/New_York:20260208T093000
DTEND;TZID=America/New_York:20260208T093000
DTSTAMP:20260423T223927
CREATED:20260129T202924Z
LAST-MODIFIED:20260129T202924Z
UID:10013456-1770543000-1770543000@hhsociety.org
SUMMARY:Hikers & Walkers
DESCRIPTION:Reiss Park – Somers \nRating D \nLeader: Kristie Ripepi (914) 275-7029
URL:https://hhsociety.org/event/hikers-walkers-43/
LOCATION:Activities Parking Lot
END:VEVENT
BEGIN:VEVENT
DTSTART;TZID=America/New_York:20260211T133000
DTEND;TZID=America/New_York:20260211T133000
DTSTAMP:20260423T223927
CREATED:20260130T151109Z
LAST-MODIFIED:20260130T151109Z
UID:10013463-1770816600-1770816600@hhsociety.org
SUMMARY:Women's Club
DESCRIPTION:Members Only wine and cheese party \nCall Joan Jendras with questions (914) 276-0488
URL:https://hhsociety.org/event/womens-club-3/
LOCATION:Heritage Room
END:VEVENT
END:VCALENDAR