BEGIN:VCALENDAR
VERSION:2.0
PRODID:-//Heritage Hills Society - ECPv6.15.20//NONSGML v1.0//EN
CALSCALE:GREGORIAN
METHOD:PUBLISH
X-ORIGINAL-URL:https://hhsociety.org
X-WR-CALDESC:Events for Heritage Hills Society
REFRESH-INTERVAL;VALUE=DURATION:PT1H
X-Robots-Tag:noindex
X-PUBLISHED-TTL:PT1H
BEGIN:VTIMEZONE
TZID:America/New_York
BEGIN:DAYLIGHT
TZOFFSETFROM:-0500
TZOFFSETTO:-0400
TZNAME:EDT
DTSTART:20250309T070000
END:DAYLIGHT
BEGIN:STANDARD
TZOFFSETFROM:-0400
TZOFFSETTO:-0500
TZNAME:EST
DTSTART:20251102T060000
END:STANDARD
BEGIN:DAYLIGHT
TZOFFSETFROM:-0500
TZOFFSETTO:-0400
TZNAME:EDT
DTSTART:20260308T070000
END:DAYLIGHT
BEGIN:STANDARD
TZOFFSETFROM:-0400
TZOFFSETTO:-0500
TZNAME:EST
DTSTART:20261101T060000
END:STANDARD
BEGIN:DAYLIGHT
TZOFFSETFROM:-0500
TZOFFSETTO:-0400
TZNAME:EDT
DTSTART:20270314T070000
END:DAYLIGHT
BEGIN:STANDARD
TZOFFSETFROM:-0400
TZOFFSETTO:-0500
TZNAME:EST
DTSTART:20271107T060000
END:STANDARD
END:VTIMEZONE
BEGIN:VEVENT
DTSTART;TZID=America/New_York:20260213T105000
DTEND;TZID=America/New_York:20260213T105000
DTSTAMP:20260423T211638
CREATED:20250514T153814Z
LAST-MODIFIED:20250514T153814Z
UID:10012505-1770979800-1770979800@hhsociety.org
SUMMARY:Getting Back on Track (15-15-15) with Theresa
DESCRIPTION:Light cardio and balance\, functional strength and stretch\, and restorative breathing and relaxation.  Great class to begin or continue your fitness journey. Contact Theresa for more information at zumbawithme@aol.com
URL:https://hhsociety.org/event/getting-back-on-track-15-15-15-with-theresa-4/2026-02-13/
LOCATION:Gym\, Fitness Center
END:VEVENT
BEGIN:VEVENT
DTSTART;TZID=America/New_York:20260213T110000
DTEND;TZID=America/New_York:20260213T110000
DTSTAMP:20260423T211638
CREATED:20241023T181940Z
LAST-MODIFIED:20241023T181940Z
UID:10005275-1770980400-1770980400@hhsociety.org
SUMMARY:French Conversation
DESCRIPTION:Meets the 2nd and 4th Friday of the month at Lake Lodge in Room 1\nfrom 11 am to noon. Members should have a basic knowledge of French conversation but need not be\nfluent. Refresh your French language skills and laugh and learn with us. If you have any questions\, call\nCarole Ellis 914-260-9182 or email her at carellis14@yahoo.com.
URL:https://hhsociety.org/event/french-conversation-2-2/2026-02-13/
LOCATION:Lake Lodge Room 1
END:VEVENT
BEGIN:VEVENT
DTSTART;TZID=America/New_York:20260213T110000
DTEND;TZID=America/New_York:20260213T123000
DTSTAMP:20260423T211638
CREATED:20260130T151625Z
LAST-MODIFIED:20260130T151625Z
UID:10013465-1770980400-1770985800@hhsociety.org
SUMMARY:Photo Club
DESCRIPTION:The Intersection of Art\, Photography\, and Artificial Intelligence \nFree for members; $5 for non-members \nFor more information: \nBill Ablondi: (203) 984-2955 or Linda Carpentieri: (914) 227-3854
URL:https://hhsociety.org/event/photo-club-6/
LOCATION:Heritage Room
END:VEVENT
BEGIN:VEVENT
DTSTART;TZID=America/New_York:20260213T130000
DTEND;TZID=America/New_York:20260213T130000
DTSTAMP:20260423T211638
CREATED:20241029T174509Z
LAST-MODIFIED:20241029T174509Z
UID:10007333-1770987600-1770987600@hhsociety.org
SUMMARY:Mah Jongg Fridays
DESCRIPTION:Fridays at 1 pm in Lake Lodge \nCall Cheryl Milde at 914-342-3068.
URL:https://hhsociety.org/event/mah-jongg-fridays/2026-02-13/
LOCATION:Lake Lodge Room 3
END:VEVENT
BEGIN:VEVENT
DTSTART;TZID=America/New_York:20260213T130000
DTEND;TZID=America/New_York:20260213T130000
DTSTAMP:20260423T211638
CREATED:20241114T183953Z
LAST-MODIFIED:20241114T183953Z
UID:10010891-1770987600-1770987600@hhsociety.org
SUMMARY:Let's Talk Senior Care
DESCRIPTION:Join us the second Friday of every month at 1pm.  Stephanie Roberti\, MHA\, will be introducing different senior care topics to help educate us on this important subject.  For more information contact Stephanie Roberti at (914) 357-3049 or by email at sroberti@newbeginningsforseniors.com
URL:https://hhsociety.org/event/lets-talk-senior-care/2026-02-13/
LOCATION:Heritage Room
END:VEVENT
BEGIN:VEVENT
DTSTART;TZID=America/New_York:20260213T150000
DTEND;TZID=America/New_York:20260213T150000
DTSTAMP:20260423T211638
CREATED:20250507T143510Z
LAST-MODIFIED:20251202T162235Z
UID:10013375-1770994800-1770994800@hhsociety.org
SUMMARY:Environmental Club
DESCRIPTION:This Club’s primary objective is to foster a culture of environmental responsibility within Heritage Hills.  All are welcome\, including teens.  Watch for announcements and postings about special events and field trips.  No fee. \nFor more information contact Carrie Sears at carolynnsears@me.com  or (914) 522-3111
URL:https://hhsociety.org/event/environmental-club/2026-02-13/
LOCATION:Room 2/3
END:VEVENT
BEGIN:VEVENT
DTSTART;TZID=America/New_York:20260214T090000
DTEND;TZID=America/New_York:20260214T090000
DTSTAMP:20260423T211638
CREATED:20241023T180749Z
LAST-MODIFIED:20241023T180749Z
UID:10004487-1771059600-1771059600@hhsociety.org
SUMMARY:Vinyasa Yoga with Joe
DESCRIPTION:Saturdays at 9 am in Lake Lodge’s Upper Level. $12 per class. To\nregister\, email Joe Ferrari at josephferrari@me.com.
URL:https://hhsociety.org/event/vinyasa-yoga-with-joe-2/2026-02-14/
LOCATION:Lake Lodge Upper Level
END:VEVENT
BEGIN:VEVENT
DTSTART;TZID=America/New_York:20260214T093000
DTEND;TZID=America/New_York:20260214T093000
DTSTAMP:20260423T211638
CREATED:20260129T203102Z
LAST-MODIFIED:20260129T203102Z
UID:10013457-1771061400-1771061400@hhsociety.org
SUMMARY:Hikers & Walkers
DESCRIPTION:Sylvan Glen Park Preserve – Stony Street Entrance \nRating C+ \nLeader: Jane Smalley (914) 263-8146
URL:https://hhsociety.org/event/hikers-walkers-44/
LOCATION:Activities Parking Lot
END:VEVENT
BEGIN:VEVENT
DTSTART;TZID=America/New_York:20260214T123000
DTEND;TZID=America/New_York:20260214T123000
DTSTAMP:20260423T211638
CREATED:20241023T183621Z
LAST-MODIFIED:20241023T183729Z
UID:10006290-1771072200-1771072200@hhsociety.org
SUMMARY:Canasta Club
DESCRIPTION:Saturdays 12:30pm to 4pm. Contact Doris Simon 914-276-0111 or\nDoris1121@me.com or Nancy Heilman 914-224-7180 or Nancy.C.Heilman@gmail.com
URL:https://hhsociety.org/event/canasta-club-3/2026-02-14/
LOCATION:Room 2/3
END:VEVENT
BEGIN:VEVENT
DTSTART;TZID=America/New_York:20260215T090000
DTEND;TZID=America/New_York:20260215T090000
DTSTAMP:20260423T211638
CREATED:20241023T175213Z
LAST-MODIFIED:20241023T175213Z
UID:10003703-1771146000-1771146000@hhsociety.org
SUMMARY:Linda's Lake Lodge Workouts - Sports Conditioning
DESCRIPTION:9:00am Sundays \nAll Classes are $10 per class.  Register at the start of the month. Contact Linda Zeiss Instructor at labzeiss@gmail.com or (718) 541-0861
URL:https://hhsociety.org/event/lindas-lake-lodge-workouts-sports-conditioning/2026-02-15/
LOCATION:Lake Lodge Upper Level
END:VEVENT
BEGIN:VEVENT
DTSTART;TZID=America/New_York:20260215T093000
DTEND;TZID=America/New_York:20260215T093000
DTSTAMP:20260423T211638
CREATED:20260129T203223Z
LAST-MODIFIED:20260129T203223Z
UID:10013458-1771147800-1771147800@hhsociety.org
SUMMARY:Hikers & Walkers
DESCRIPTION:Lasden Park & Trails \nRating C \nLeader: Bette Heben (914) 424-1046
URL:https://hhsociety.org/event/hikers-walkers-45/
LOCATION:Activities Parking Lot
END:VEVENT
BEGIN:VEVENT
DTSTART;TZID=America/New_York:20260215T130000
DTEND;TZID=America/New_York:20260215T130000
DTSTAMP:20260423T211638
CREATED:20260130T151302Z
LAST-MODIFIED:20260130T151302Z
UID:10013464-1771160400-1771160400@hhsociety.org
SUMMARY:Club Shalom
DESCRIPTION:Free Movie: “The Little Traitor” \n 
URL:https://hhsociety.org/event/club-shalom-5/
LOCATION:Heritage Room
END:VEVENT
BEGIN:VEVENT
DTSTART;TZID=America/New_York:20260216T093000
DTEND;TZID=America/New_York:20260216T093000
DTSTAMP:20260423T211638
CREATED:20241029T175413Z
LAST-MODIFIED:20241029T175413Z
UID:10008496-1771234200-1771234200@hhsociety.org
SUMMARY:Morning Discussion Group
DESCRIPTION:Discussion group on current event topics. Meets Mondays\nfrom 9:30 to 11 am in the Activities Center. For information\, email Ken Benjamin at kenbenja@aol.com\nor call 914-617-9817.
URL:https://hhsociety.org/event/morning-discussion-group-2/2026-02-16/
LOCATION:Room 2/3
END:VEVENT
BEGIN:VEVENT
DTSTART;TZID=America/New_York:20260216T110000
DTEND;TZID=America/New_York:20260216T110000
DTSTAMP:20260423T211638
CREATED:20241023T151632Z
LAST-MODIFIED:20241023T151632Z
UID:10000070-1771239600-1771239600@hhsociety.org
SUMMARY:Learn to Bead with Allison
DESCRIPTION:Join us on Mondays at 11:00 am in Room B for our beading class.  Each class is $25 including materials fee.  You go home with a piece of jewelry that you made for yourself or for a special someone.  Come and join the fun.  To enroll or for more information\, contact Allison Rubin at (914) 629-3655 or ahrubin521@yahoo.com
URL:https://hhsociety.org/event/learn-to-bead-with-allison-3/2026-02-16/
LOCATION:Art Room B
END:VEVENT
BEGIN:VEVENT
DTSTART;TZID=America/New_York:20260216T113000
DTEND;TZID=America/New_York:20260216T113000
DTSTAMP:20260423T211638
CREATED:20241023T154622Z
LAST-MODIFIED:20241023T154622Z
UID:10001353-1771241400-1771241400@hhsociety.org
SUMMARY:Gentle Yoga with Lisa
DESCRIPTION:Mondays at 11:30 am and Fridays at 10 am in the Lake Lodge’s Upper Level.  $12 for a 75-minute class.  Contact lisaathomas@optonline.net or 914-497-0243 for more information.
URL:https://hhsociety.org/event/gentle-yoga-with-lisa-2/2026-02-16/
LOCATION:Lake Lodge Upper Level
END:VEVENT
BEGIN:VEVENT
DTSTART;TZID=America/New_York:20260216T120000
DTEND;TZID=America/New_York:20260216T120000
DTSTAMP:20260423T211638
CREATED:20241029T174209Z
LAST-MODIFIED:20241029T174209Z
UID:10006811-1771243200-1771243200@hhsociety.org
SUMMARY:Mah Jongg Mondays
DESCRIPTION:Mondays at noon in Lake Lodge (contact Sue Furino 914-617-9110);
URL:https://hhsociety.org/event/mah-jongg-mondays/2026-02-16/
LOCATION:Lake Lodge Room 3
END:VEVENT
BEGIN:VEVENT
DTSTART;TZID=America/New_York:20260216T123000
DTEND;TZID=America/New_York:20260216T123000
DTSTAMP:20260423T211638
CREATED:20241023T155031Z
LAST-MODIFIED:20241023T155031Z
UID:10001615-1771245000-1771245000@hhsociety.org
SUMMARY:Tai Chi & Chi Gong with Master Ellen
DESCRIPTION:Mondays from 12:30-1:30pm in the Gym.  $70 per month.  First class free.  All levels welcome.  Wear loose fitting\, comfortable clothing.  Contact heritagehillstaichi2@@gmail.com for more information or to register.
URL:https://hhsociety.org/event/tai-chi-chi-gong-with-master-ellen-2/2026-02-16/
LOCATION:Gym\, Fitness Center
END:VEVENT
BEGIN:VEVENT
DTSTART;TZID=America/New_York:20260216T123000
DTEND;TZID=America/New_York:20260216T123000
DTSTAMP:20260423T211638
CREATED:20241023T182608Z
LAST-MODIFIED:20241023T182608Z
UID:10005508-1771245000-1771245000@hhsociety.org
SUMMARY:Duplicate Bridge
DESCRIPTION:Mondays and Thursdays at 12:30pm in the Activities Center.  For information\, call Marie at (914) 277-4266
URL:https://hhsociety.org/event/duplicate-bridge-2/2026-02-16/
LOCATION:Heritage Room
END:VEVENT
BEGIN:VEVENT
DTSTART;TZID=America/New_York:20260221T093000
DTEND;TZID=America/New_York:20260221T093000
DTSTAMP:20260423T211638
CREATED:20260129T204203Z
LAST-MODIFIED:20260129T204203Z
UID:10013459-1771666200-1771666200@hhsociety.org
SUMMARY:Hikers & Walkers
DESCRIPTION:Ward Pound Ridge Lewisboro Town Park \nRating B \nLeader: Barry Tuch (516) 458-5321
URL:https://hhsociety.org/event/hikers-walkers-46/
LOCATION:Activities Parking Lot
END:VEVENT
BEGIN:VEVENT
DTSTART;TZID=America/New_York:20260222T093000
DTEND;TZID=America/New_York:20260222T093000
DTSTAMP:20260423T211638
CREATED:20260129T204353Z
LAST-MODIFIED:20260129T204353Z
UID:10013460-1771752600-1771752600@hhsociety.org
SUMMARY:Hikers & Walkers
DESCRIPTION:FDR State Park Crom Pond \nRating C \nLeader: Jane Smalley (914) 263-8146
URL:https://hhsociety.org/event/hikers-walkers-47/
LOCATION:Activities Parking Lot
END:VEVENT
BEGIN:VEVENT
DTSTART;TZID=America/New_York:20260225T100000
DTEND;TZID=America/New_York:20260225T100000
DTSTAMP:20260423T211638
CREATED:20250507T135718Z
LAST-MODIFIED:20250507T135718Z
UID:10011084-1772013600-1772013600@hhsociety.org
SUMMARY:Crafters in the Hills
DESCRIPTION:For More Information email craftclubhh@gmail.com
URL:https://hhsociety.org/event/crafters-in-the-hills/2026-02-25/
LOCATION:Art Room B
END:VEVENT
BEGIN:VEVENT
DTSTART;TZID=America/New_York:20260225T150000
DTEND;TZID=America/New_York:20260225T150000
DTSTAMP:20260423T211638
CREATED:20260130T154944Z
LAST-MODIFIED:20260130T154944Z
UID:10013466-1772031600-1772031600@hhsociety.org
SUMMARY:Environmental Club
DESCRIPTION:Save The Earth\, One Green Bite At A Time. \nFree Presentation
URL:https://hhsociety.org/event/environmental-club-2-5/
LOCATION:Game Room
END:VEVENT
BEGIN:VEVENT
DTSTART;TZID=America/New_York:20260225T180000
DTEND;TZID=America/New_York:20260225T180000
DTSTAMP:20260423T211638
CREATED:20250507T135901Z
LAST-MODIFIED:20250507T135901Z
UID:10011144-1772042400-1772042400@hhsociety.org
SUMMARY:Crafters in the Hills
DESCRIPTION:For information and to register email: craftclubhh@gmail.com
URL:https://hhsociety.org/event/crafters-in-the-hills-2-2/2026-02-25/
LOCATION:Art Room B
END:VEVENT
BEGIN:VEVENT
DTSTART;TZID=America/New_York:20260225T180000
DTEND;TZID=America/New_York:20260225T200000
DTSTAMP:20260423T211638
CREATED:20250701T195059Z
LAST-MODIFIED:20250701T195059Z
UID:10013158-1772042400-1772049600@hhsociety.org
SUMMARY:Crafters in the Hills
DESCRIPTION:Each week we explore new crafts or work on current projects.  The Monthly crafts are open to club members first\, and when space is available\, we open the session up to non-members. Some crafting sessions are free (you supply your own materials)\, and other sessions have a fee based on materials.  For more information and to register\, email craftclubhh@gmail.com
URL:https://hhsociety.org/event/crafters-in-the-hills-2-4/2026-02-25/
LOCATION:Room B
END:VEVENT
BEGIN:VEVENT
DTSTART;TZID=America/New_York:20260227T110000
DTEND;TZID=America/New_York:20260227T110000
DTSTAMP:20260423T211638
CREATED:20241023T181829Z
LAST-MODIFIED:20241023T181829Z
UID:10005216-1772190000-1772190000@hhsociety.org
SUMMARY:French Conversation
DESCRIPTION:Meets the 2nd and 4th Friday of the month at Lake Lodge in Room 1\nfrom 11 am to noon. Members should have a basic knowledge of French conversation but need not be\nfluent. Refresh your French language skills and laugh and learn with us. If you have any questions\, call\nCarole Ellis 914-260-9182 or email her at carellis14@yahoo.com.
URL:https://hhsociety.org/event/french-conversation/2026-02-27/
LOCATION:Lake Lodge Room 1
END:VEVENT
BEGIN:VEVENT
DTSTART;TZID=America/New_York:20260227T161500
DTEND;TZID=America/New_York:20260227T161500
DTSTAMP:20260423T211638
CREATED:20250507T143816Z
LAST-MODIFIED:20250507T143816Z
UID:10011587-1772208900-1772208900@hhsociety.org
SUMMARY:Environmental Club
DESCRIPTION:This Club’s primary objective is to foster a culture of environmental responsibility within Heritage Hills.  All are welcome\, including teens.  Watch for announcements and postings about special events and field trips.  No fee. \nFor more information\, contact Carrie Sears at carolynnsears@me.com or (914) 522-3111
URL:https://hhsociety.org/event/environmental-club-2-2/2026-02-27/
LOCATION:Room 2/3
END:VEVENT
BEGIN:VEVENT
DTSTART;TZID=America/New_York:20260228T093000
DTEND;TZID=America/New_York:20260228T093000
DTSTAMP:20260423T211638
CREATED:20260129T204515Z
LAST-MODIFIED:20260129T204515Z
UID:10013461-1772271000-1772271000@hhsociety.org
SUMMARY:Hikers & Walkers
DESCRIPTION:Kitchawan Preserve Ossining \nRating B \nLeader: Kelly Doherty (914) 715-8956
URL:https://hhsociety.org/event/hikers-walkers-48/
LOCATION:Activities Parking Lot
END:VEVENT
BEGIN:VEVENT
DTSTART;TZID=America/New_York:20260301T093000
DTEND;TZID=America/New_York:20260301T093000
DTSTAMP:20260423T211638
CREATED:20260129T204627Z
LAST-MODIFIED:20260129T204627Z
UID:10013462-1772357400-1772357400@hhsociety.org
SUMMARY:Hikers & Walkers
DESCRIPTION:Reservoir Road \nRating D \nLeader: Evey Albert (914) 334-0761
URL:https://hhsociety.org/event/hikers-walkers-49/
LOCATION:Activities Parking Lot
END:VEVENT
BEGIN:VEVENT
DTSTART;TZID=America/New_York:20260303T140000
DTEND;TZID=America/New_York:20260303T140000
DTSTAMP:20260423T211638
CREATED:20241023T182339Z
LAST-MODIFIED:20241023T182339Z
UID:10005396-1772546400-1772546400@hhsociety.org
SUMMARY:Contemporary Fiction Book Club
DESCRIPTION:Openings are available for residents interested in\njoining The Contemporary Fiction Book Club. The club meets on the first Tuesday of each month\nfrom 2:00-3:30. Contact Myra Hopper at 520 390-5523 or myrahopper@gmail.com.
URL:https://hhsociety.org/event/contemporary-fiction-book-club-2/2026-03-03/
LOCATION:Game Room
END:VEVENT
BEGIN:VEVENT
DTSTART;TZID=America/New_York:20260304T190000
DTEND;TZID=America/New_York:20260304T190000
DTSTAMP:20260423T211638
CREATED:20250514T144427Z
LAST-MODIFIED:20250514T144427Z
UID:10011907-1772650800-1772650800@hhsociety.org
SUMMARY:Energy Healing for Self\, Family\, Friends and Pets with Melanie Gambino
DESCRIPTION:Pre-registration required.  $20 per class \nFor more information and to reserve your place\, call\, text or email Melanie at (914) 588-2450 or melaniegambino1@gmail.com$20 per \n 
URL:https://hhsociety.org/event/energy-healing-for-self-family-friends-and-pets-with-melanie-gambino/2026-03-04/
LOCATION:Lake Lodge Room 3
END:VEVENT
END:VCALENDAR