BEGIN:VCALENDAR
VERSION:2.0
PRODID:-//Heritage Hills Society - ECPv6.15.20//NONSGML v1.0//EN
CALSCALE:GREGORIAN
METHOD:PUBLISH
X-ORIGINAL-URL:https://hhsociety.org
X-WR-CALDESC:Events for Heritage Hills Society
REFRESH-INTERVAL;VALUE=DURATION:PT1H
X-Robots-Tag:noindex
X-PUBLISHED-TTL:PT1H
BEGIN:VTIMEZONE
TZID:America/New_York
BEGIN:DAYLIGHT
TZOFFSETFROM:-0500
TZOFFSETTO:-0400
TZNAME:EDT
DTSTART:20250309T070000
END:DAYLIGHT
BEGIN:STANDARD
TZOFFSETFROM:-0400
TZOFFSETTO:-0500
TZNAME:EST
DTSTART:20251102T060000
END:STANDARD
BEGIN:DAYLIGHT
TZOFFSETFROM:-0500
TZOFFSETTO:-0400
TZNAME:EDT
DTSTART:20260308T070000
END:DAYLIGHT
BEGIN:STANDARD
TZOFFSETFROM:-0400
TZOFFSETTO:-0500
TZNAME:EST
DTSTART:20261101T060000
END:STANDARD
BEGIN:DAYLIGHT
TZOFFSETFROM:-0500
TZOFFSETTO:-0400
TZNAME:EDT
DTSTART:20270314T070000
END:DAYLIGHT
BEGIN:STANDARD
TZOFFSETFROM:-0400
TZOFFSETTO:-0500
TZNAME:EST
DTSTART:20271107T060000
END:STANDARD
END:VTIMEZONE
BEGIN:VEVENT
DTSTART;TZID=America/New_York:20260305T123000
DTEND;TZID=America/New_York:20260305T123000
DTSTAMP:20260423T195856
CREATED:20241029T175246Z
LAST-MODIFIED:20241029T175246Z
UID:10008385-1772713800-1772713800@hhsociety.org
SUMMARY:Alzheimer's/Dementia Caregivers Support Group
DESCRIPTION:Caring for someone with Alzheimer&#39;s/Dementia is\na difficult and painful challenge. A support group can help. Meetings take place the first Thursday of the\nmonth at 12:30 pm in Lake Lodge’s Room 1. Fee: $20 per session. Facilitated by Linda Ludwig\, Ph.D. To\nregister\, call 914-617-9328 or email ludwiglr@aol.com.
URL:https://hhsociety.org/event/alzheimers-dementia-caregivers-support-group-2/2026-03-05/
LOCATION:Lake Lodge Room 1
END:VEVENT
BEGIN:VEVENT
DTSTART;TZID=America/New_York:20260305T130000
DTEND;TZID=America/New_York:20260305T130000
DTSTAMP:20260423T195856
CREATED:20241029T174856Z
LAST-MODIFIED:20241029T174856Z
UID:10008118-1772715600-1772715600@hhsociety.org
SUMMARY:Scrabble
DESCRIPTION:Thursdays starting promptly at 1 pm in Room 2 in the Activities Center. Casual\nScrabble game play. Play 1 or more games. All levels of play\, including newbies\, are welcome. For more\ninformation\, just walk in or contact Susan at 914-617-9228 or ciwhitestar@comcast.net.
URL:https://hhsociety.org/event/scrabble/2026-03-05/
LOCATION:Room 2/3
END:VEVENT
BEGIN:VEVENT
DTSTART;TZID=America/New_York:20260305T160000
DTEND;TZID=America/New_York:20260305T170000
DTSTAMP:20260423T195856
CREATED:20250507T134022Z
LAST-MODIFIED:20250507T134022Z
UID:10011062-1772726400-1772730000@hhsociety.org
SUMMARY:I Love Art Class with Miss. Judika
DESCRIPTION:After school Art in Heritage Hills for children ages grade K-6. \nTo register call Judika at (914) 438-6750 \n$20 per class; all 2 for $60
URL:https://hhsociety.org/event/i-love-art-class-with-miss-judika/2026-03-05/
LOCATION:Art Room A
END:VEVENT
BEGIN:VEVENT
DTSTART;TZID=America/New_York:20260305T170000
DTEND;TZID=America/New_York:20260305T170000
DTSTAMP:20260423T195856
CREATED:20241029T181105Z
LAST-MODIFIED:20241029T181105Z
UID:10008706-1772730000-1772730000@hhsociety.org
SUMMARY:Rainbow Connection Club
DESCRIPTION:A group for LGBTQ members and their families\, friends\, and\nneighbors. All are welcome. We meet the first Thursday of each month at Lake Lodge from 5 to 7 pm.\nFor more information contact Joanne at 914-450-5609.
URL:https://hhsociety.org/event/rainbow-connection-club-2/2026-03-05/
LOCATION:Lake Lodge Room 3
END:VEVENT
BEGIN:VEVENT
DTSTART;TZID=America/New_York:20260306T090000
DTEND;TZID=America/New_York:20260306T090000
DTSTAMP:20260423T195856
CREATED:20250514T152237Z
LAST-MODIFIED:20250514T152237Z
UID:10012000-1772787600-1772787600@hhsociety.org
SUMMARY:Continuum/Fluid Form Movement\, Mindfulness\, and Meditation with Melanie Gambino
DESCRIPTION:Pre-registration required. $15 per class \nFor more information and to reserve your place\, call\, text\, or email Melanie at (914) 588-2450 or melaniegambino1@gmail.com
URL:https://hhsociety.org/event/continuum-fluid-form-movement-mindfulness-and-meditation-with-melanie-gambino/2026-03-06/
LOCATION:Lake Lodge Room 3
END:VEVENT
BEGIN:VEVENT
DTSTART;TZID=America/New_York:20260306T094500
DTEND;TZID=America/New_York:20260306T094500
DTSTAMP:20260423T195856
CREATED:20250514T153212Z
LAST-MODIFIED:20250514T153212Z
UID:10012254-1772790300-1772790300@hhsociety.org
SUMMARY:Move and Groove with Theresa
DESCRIPTION:East to learn and easy to follow beginner Line Dances to ALL music genres. \nContact Theresa for more information at zumbawithme@aol.com
URL:https://hhsociety.org/event/move-and-groove-with-theresa-4/2026-03-06/
LOCATION:Gym\, Fitness Center
END:VEVENT
BEGIN:VEVENT
DTSTART;TZID=America/New_York:20260306T100000
DTEND;TZID=America/New_York:20260306T100000
DTSTAMP:20260423T195856
CREATED:20241023T154744Z
LAST-MODIFIED:20241023T181006Z
UID:10005010-1772791200-1772791200@hhsociety.org
SUMMARY:Gentle Yoga with Lisa
DESCRIPTION:Mondays at 11:30am and Fridays at 10am in the Lake Lodge’s Upper Level.  $12 for a 75-minute class.  Contact lisaathomas@optonline.net or 914-497-0243 with questions or to register.
URL:https://hhsociety.org/event/gentle-yoga-with-lisa-4/2026-03-06/
LOCATION:Lake Lodge Upper Level
END:VEVENT
BEGIN:VEVENT
DTSTART;TZID=America/New_York:20260306T105000
DTEND;TZID=America/New_York:20260306T105000
DTSTAMP:20260423T195856
CREATED:20250514T153814Z
LAST-MODIFIED:20250514T153814Z
UID:10012508-1772794200-1772794200@hhsociety.org
SUMMARY:Getting Back on Track (15-15-15) with Theresa
DESCRIPTION:Light cardio and balance\, functional strength and stretch\, and restorative breathing and relaxation.  Great class to begin or continue your fitness journey. Contact Theresa for more information at zumbawithme@aol.com
URL:https://hhsociety.org/event/getting-back-on-track-15-15-15-with-theresa-4/2026-03-06/
LOCATION:Gym\, Fitness Center
END:VEVENT
BEGIN:VEVENT
DTSTART;TZID=America/New_York:20260306T130000
DTEND;TZID=America/New_York:20260306T130000
DTSTAMP:20260423T195856
CREATED:20241029T174509Z
LAST-MODIFIED:20241029T174509Z
UID:10007336-1772802000-1772802000@hhsociety.org
SUMMARY:Mah Jongg Fridays
DESCRIPTION:Fridays at 1 pm in Lake Lodge \nCall Cheryl Milde at 914-342-3068.
URL:https://hhsociety.org/event/mah-jongg-fridays/2026-03-06/
LOCATION:Lake Lodge Room 3
END:VEVENT
BEGIN:VEVENT
DTSTART;TZID=America/New_York:20260306T150000
DTEND;TZID=America/New_York:20260306T150000
DTSTAMP:20260423T195856
CREATED:20250514T160458Z
LAST-MODIFIED:20250514T160458Z
UID:10012741-1772809200-1772809200@hhsociety.org
SUMMARY:Yacht Club ("HHYC")
DESCRIPTION:The HHYC is a fee-free social club of past and present water fans (swimmers\, boaters\, fishers\, cruisers\, surfers\, whatever). At our monthly pot luck “dock parties” on the first Friday of the month in the Lobby at Lake Lodge\, we share our experiences and plan future ones (theme parties\, day trips/activities\, or even cruises). For more information contact Susan at ciwhitestar@comcast.net or (914) 617-9228
URL:https://hhsociety.org/event/yacht-club-hhyc/2026-03-06/
LOCATION:Lake Lodge Lobby
END:VEVENT
BEGIN:VEVENT
DTSTART;TZID=America/New_York:20260306T190000
DTEND;TZID=America/New_York:20260306T190000
DTSTAMP:20260423T195856
CREATED:20241023T153853Z
LAST-MODIFIED:20241023T153853Z
UID:10000980-1772823600-1772823600@hhsociety.org
SUMMARY:Friday Night Social Dance
DESCRIPTION:The first Friday of every month from 7-10pm in the Activities Center’s Heritage Room.  $10 per person includes coffee and cake.  BYOB.  For more information\, call Angela Viscogliosi at (914) 393-8736
URL:https://hhsociety.org/event/friday-night-social-dance-2/2026-03-06/
LOCATION:Heritage Room
END:VEVENT
BEGIN:VEVENT
DTSTART;TZID=America/New_York:20260307T090000
DTEND;TZID=America/New_York:20260307T090000
DTSTAMP:20260423T195856
CREATED:20241023T180749Z
LAST-MODIFIED:20241023T180749Z
UID:10004490-1772874000-1772874000@hhsociety.org
SUMMARY:Vinyasa Yoga with Joe
DESCRIPTION:Saturdays at 9 am in Lake Lodge’s Upper Level. $12 per class. To\nregister\, email Joe Ferrari at josephferrari@me.com.
URL:https://hhsociety.org/event/vinyasa-yoga-with-joe-2/2026-03-07/
LOCATION:Lake Lodge Upper Level
END:VEVENT
BEGIN:VEVENT
DTSTART;TZID=America/New_York:20260307T093000
DTEND;TZID=America/New_York:20260307T093000
DTSTAMP:20260423T195856
CREATED:20260227T143907Z
LAST-MODIFIED:20260227T143907Z
UID:10013467-1772875800-1772875800@hhsociety.org
SUMMARY:Hikers & Walkers
DESCRIPTION:Leaders Choice – Rating B \nLeader: Barry Tuch (516) 458-5321
URL:https://hhsociety.org/event/hikers-walkers-50/
LOCATION:Activities Parking Lot
END:VEVENT
BEGIN:VEVENT
DTSTART;TZID=America/New_York:20260307T123000
DTEND;TZID=America/New_York:20260307T123000
DTSTAMP:20260423T195856
CREATED:20241023T183621Z
LAST-MODIFIED:20241023T183729Z
UID:10006293-1772886600-1772886600@hhsociety.org
SUMMARY:Canasta Club
DESCRIPTION:Saturdays 12:30pm to 4pm. Contact Doris Simon 914-276-0111 or\nDoris1121@me.com or Nancy Heilman 914-224-7180 or Nancy.C.Heilman@gmail.com
URL:https://hhsociety.org/event/canasta-club-3/2026-03-07/
LOCATION:Room 2/3
END:VEVENT
BEGIN:VEVENT
DTSTART;TZID=America/New_York:20260307T190000
DTEND;TZID=America/New_York:20260307T190000
DTSTAMP:20260423T195856
CREATED:20260302T143811Z
LAST-MODIFIED:20260302T143811Z
UID:10013474-1772910000-1772910000@hhsociety.org
SUMMARY:The Anytime At All Band
DESCRIPTION:$15 cash at the door \nquestions: davidnodiff@gmail.com
URL:https://hhsociety.org/event/the-anytime-at-all-band/
LOCATION:Heritage Room
END:VEVENT
BEGIN:VEVENT
DTSTART;TZID=America/New_York:20260308T090000
DTEND;TZID=America/New_York:20260308T090000
DTSTAMP:20260423T195856
CREATED:20241023T175213Z
LAST-MODIFIED:20241023T175213Z
UID:10003706-1772960400-1772960400@hhsociety.org
SUMMARY:Linda's Lake Lodge Workouts - Sports Conditioning
DESCRIPTION:9:00am Sundays \nAll Classes are $10 per class.  Register at the start of the month. Contact Linda Zeiss Instructor at labzeiss@gmail.com or (718) 541-0861
URL:https://hhsociety.org/event/lindas-lake-lodge-workouts-sports-conditioning/2026-03-08/
LOCATION:Lake Lodge Upper Level
END:VEVENT
BEGIN:VEVENT
DTSTART;TZID=America/New_York:20260308T093000
DTEND;TZID=America/New_York:20260308T093000
DTSTAMP:20260423T195856
CREATED:20260227T144208Z
LAST-MODIFIED:20260227T144208Z
UID:10013468-1772962200-1772962200@hhsociety.org
SUMMARY:Hikers & Walkers
DESCRIPTION:Rockwood Hall State Park – Sleepy Hollow – Rating C \nLeader: Kristie Ripepi (914) 275-7029
URL:https://hhsociety.org/event/hikers-walkers-51/
LOCATION:Activities Parking Lot
END:VEVENT
BEGIN:VEVENT
DTSTART;TZID=America/New_York:20260311T133000
DTEND;TZID=America/New_York:20260311T133000
DTSTAMP:20260423T195856
CREATED:20260302T152900Z
LAST-MODIFIED:20260302T152900Z
UID:10013475-1773235800-1773235800@hhsociety.org
SUMMARY:Women's Club
DESCRIPTION:Saint Patrick’s Day Celebration \nFree for Members \n$5 for Non Members \nContact Joan (914) 276-0488 or Rose (914) 276-4204
URL:https://hhsociety.org/event/womens-club-4/
LOCATION:Heritage Room
END:VEVENT
BEGIN:VEVENT
DTSTART;TZID=America/New_York:20260312T123000
DTEND;TZID=America/New_York:20260312T123000
DTSTAMP:20260423T195856
CREATED:20241113T161414Z
LAST-MODIFIED:20241113T161414Z
UID:10009789-1773318600-1773318600@hhsociety.org
SUMMARY:Spousal Bereavement Group
DESCRIPTION:Led by Linda Ludwig\, PsD (NotPhD) on the second Thursday of the month at 12:30 pm in Lake Lodge Room 1.  The fee is $20 per session.  For more information\, call 914-617-9328.
URL:https://hhsociety.org/event/spousal-bereavement-group/2026-03-12/
LOCATION:Lake Lodge Room 1
END:VEVENT
BEGIN:VEVENT
DTSTART;TZID=America/New_York:20260312T130000
DTEND;TZID=America/New_York:20260312T130000
DTSTAMP:20260423T195856
CREATED:20241113T153705Z
LAST-MODIFIED:20241113T153705Z
UID:10009677-1773320400-1773320400@hhsociety.org
SUMMARY:Thriving in your Prime
DESCRIPTION:Join us every other week on Thursday at 1pm in Lake Lodge Room 3 to discuss relevant topics and learn strategies that will help those over the age of 50 navigate the challenges they are confronted with.  Each time we meet we will discuss a new topic\, and you will learn strategies you can implement in your own life.  The investment in each gathering is one hour of your time and $5!
URL:https://hhsociety.org/event/thriving-in-your-prime-2/2026-03-12/
LOCATION:Lake Lodge Room 3
END:VEVENT
BEGIN:VEVENT
DTSTART;TZID=America/New_York:20260313T090000
DTEND;TZID=America/New_York:20260313T090000
DTSTAMP:20260423T195856
CREATED:20241029T175106Z
LAST-MODIFIED:20241029T175106Z
UID:10008325-1773392400-1773392400@hhsociety.org
SUMMARY:Blood Pressure Screening
DESCRIPTION:Nurse Ellie Eidam offers screenings on the second Friday of\nthe month from 9 to 11 am in the Activities Center’s Game Room. Your temperature may be taken. Do\nnot come if you have tested positive for Covid-19\, were recently exposed (within 14 days) to the virus or\ntraveled to areas that have experienced high levels of the virus. Contact Ellie at elliebob1@gmail.com or\n914-617-2109 for more information.
URL:https://hhsociety.org/event/blood-pressure-screening-2/2026-03-13/
LOCATION:Game Room
END:VEVENT
BEGIN:VEVENT
DTSTART;TZID=America/New_York:20260313T110000
DTEND;TZID=America/New_York:20260313T110000
DTSTAMP:20260423T195856
CREATED:20241023T181940Z
LAST-MODIFIED:20241023T181940Z
UID:10005276-1773399600-1773399600@hhsociety.org
SUMMARY:French Conversation
DESCRIPTION:Meets the 2nd and 4th Friday of the month at Lake Lodge in Room 1\nfrom 11 am to noon. Members should have a basic knowledge of French conversation but need not be\nfluent. Refresh your French language skills and laugh and learn with us. If you have any questions\, call\nCarole Ellis 914-260-9182 or email her at carellis14@yahoo.com.
URL:https://hhsociety.org/event/french-conversation-2-2/2026-03-13/
LOCATION:Lake Lodge Room 1
END:VEVENT
BEGIN:VEVENT
DTSTART;TZID=America/New_York:20260313T130000
DTEND;TZID=America/New_York:20260313T130000
DTSTAMP:20260423T195856
CREATED:20241114T183953Z
LAST-MODIFIED:20241114T183953Z
UID:10010892-1773406800-1773406800@hhsociety.org
SUMMARY:Let's Talk Senior Care
DESCRIPTION:Join us the second Friday of every month at 1pm.  Stephanie Roberti\, MHA\, will be introducing different senior care topics to help educate us on this important subject.  For more information contact Stephanie Roberti at (914) 357-3049 or by email at sroberti@newbeginningsforseniors.com
URL:https://hhsociety.org/event/lets-talk-senior-care/2026-03-13/
LOCATION:Heritage Room
END:VEVENT
BEGIN:VEVENT
DTSTART;TZID=America/New_York:20260313T140000
DTEND;TZID=America/New_York:20260313T140000
DTSTAMP:20260423T195856
CREATED:20260302T153153Z
LAST-MODIFIED:20260302T153153Z
UID:10013476-1773410400-1773410400@hhsociety.org
SUMMARY:Photo Club
DESCRIPTION:Portrait Photography \nSusan Rosenberg Jones will present images from two of her publications – Widowed and The Second Time Around \nOpen to all – $5 for non members \nFor more information contact: Linda Carpentieri lindacarp16@gmail.com or (914) 227-3854 or Bill Ablondi ablondi@marketmaps.net (203) 984-2955
URL:https://hhsociety.org/event/photo-club-7/
LOCATION:Heritage Room
END:VEVENT
BEGIN:VEVENT
DTSTART;TZID=America/New_York:20260313T150000
DTEND;TZID=America/New_York:20260313T150000
DTSTAMP:20260423T195856
CREATED:20250507T143510Z
LAST-MODIFIED:20251202T162235Z
UID:10013376-1773414000-1773414000@hhsociety.org
SUMMARY:Environmental Club
DESCRIPTION:This Club’s primary objective is to foster a culture of environmental responsibility within Heritage Hills.  All are welcome\, including teens.  Watch for announcements and postings about special events and field trips.  No fee. \nFor more information contact Carrie Sears at carolynnsears@me.com  or (914) 522-3111
URL:https://hhsociety.org/event/environmental-club/2026-03-13/
LOCATION:Room 2/3
END:VEVENT
BEGIN:VEVENT
DTSTART;TZID=America/New_York:20260314T093000
DTEND;TZID=America/New_York:20260314T093000
DTSTAMP:20260423T195856
CREATED:20260227T160846Z
LAST-MODIFIED:20260227T160846Z
UID:10013469-1773480600-1773480600@hhsociety.org
SUMMARY:Hikers and Walkers
DESCRIPTION:Westmoreland Sanctuary – Mt. Kisco – Rating B \nLeader Kelly Doherty (914) 715-8956
URL:https://hhsociety.org/event/hikers-and-walkers-15/
LOCATION:Activities Parking Lot
END:VEVENT
BEGIN:VEVENT
DTSTART;TZID=America/New_York:20260315T093000
DTEND;TZID=America/New_York:20260315T093000
DTSTAMP:20260423T195856
CREATED:20260227T161026Z
LAST-MODIFIED:20260227T161026Z
UID:10013470-1773567000-1773567000@hhsociety.org
SUMMARY:Hikers & Walkers
DESCRIPTION:Sylvan Glen Park Preserve – Stony Creek Entrance – Rating C \nLeader: Bette Heben (914) 424-1046
URL:https://hhsociety.org/event/hikers-walkers-52/
LOCATION:Activities Parking Lot
END:VEVENT
BEGIN:VEVENT
DTSTART;TZID=America/New_York:20260315T183000
DTEND;TZID=America/New_York:20260315T183000
DTSTAMP:20260423T195856
CREATED:20260302T154657Z
LAST-MODIFIED:20260302T154657Z
UID:10013477-1773599400-1773599400@hhsociety.org
SUMMARY:Independent & Foreign Film Club
DESCRIPTION:How to Make Millions Before Grandma Dies (Thailand\, 125 minutes\, 2024)
URL:https://hhsociety.org/event/independent-foreign-film-club-3/
LOCATION:Heritage Room
END:VEVENT
BEGIN:VEVENT
DTSTART;TZID=America/New_York:20260316T183000
DTEND;TZID=America/New_York:20260316T183000
DTSTAMP:20260423T195856
CREATED:20260302T154836Z
LAST-MODIFIED:20260302T154836Z
UID:10013478-1773685800-1773685800@hhsociety.org
SUMMARY:Community Theatre Auditions
DESCRIPTION:Auditions for London Suite \nFor questions contact: Jo Pearlman (914) 484-3248 or Helen Berman (917) 554-4417
URL:https://hhsociety.org/event/community-theatre-auditions/
LOCATION:Heritage Room
END:VEVENT
BEGIN:VEVENT
DTSTART;TZID=America/New_York:20260318T133000
DTEND;TZID=America/New_York:20260318T133000
DTSTAMP:20260423T195856
CREATED:20260302T160010Z
LAST-MODIFIED:20260302T160010Z
UID:10013480-1773840600-1773840600@hhsociety.org
SUMMARY:Health and Safety Committee
DESCRIPTION:The Microbiome-Brain Axis
URL:https://hhsociety.org/event/health-and-safety-committee/
LOCATION:Heritage Room
END:VEVENT
END:VCALENDAR