BEGIN:VCALENDAR
VERSION:2.0
PRODID:-//Heritage Hills Society - ECPv6.15.20//NONSGML v1.0//EN
CALSCALE:GREGORIAN
METHOD:PUBLISH
X-ORIGINAL-URL:https://hhsociety.org
X-WR-CALDESC:Events for Heritage Hills Society
REFRESH-INTERVAL;VALUE=DURATION:PT1H
X-Robots-Tag:noindex
X-PUBLISHED-TTL:PT1H
BEGIN:VTIMEZONE
TZID:America/New_York
BEGIN:DAYLIGHT
TZOFFSETFROM:-0500
TZOFFSETTO:-0400
TZNAME:EDT
DTSTART:20250309T070000
END:DAYLIGHT
BEGIN:STANDARD
TZOFFSETFROM:-0400
TZOFFSETTO:-0500
TZNAME:EST
DTSTART:20251102T060000
END:STANDARD
BEGIN:DAYLIGHT
TZOFFSETFROM:-0500
TZOFFSETTO:-0400
TZNAME:EDT
DTSTART:20260308T070000
END:DAYLIGHT
BEGIN:STANDARD
TZOFFSETFROM:-0400
TZOFFSETTO:-0500
TZNAME:EST
DTSTART:20261101T060000
END:STANDARD
BEGIN:DAYLIGHT
TZOFFSETFROM:-0500
TZOFFSETTO:-0400
TZNAME:EDT
DTSTART:20270314T070000
END:DAYLIGHT
BEGIN:STANDARD
TZOFFSETFROM:-0400
TZOFFSETTO:-0500
TZNAME:EST
DTSTART:20271107T060000
END:STANDARD
END:VTIMEZONE
BEGIN:VEVENT
DTSTART;TZID=America/New_York:20260404T123000
DTEND;TZID=America/New_York:20260404T123000
DTSTAMP:20260423T195744
CREATED:20241023T183621Z
LAST-MODIFIED:20241023T183729Z
UID:10006297-1775305800-1775305800@hhsociety.org
SUMMARY:Canasta Club
DESCRIPTION:Saturdays 12:30pm to 4pm. Contact Doris Simon 914-276-0111 or\nDoris1121@me.com or Nancy Heilman 914-224-7180 or Nancy.C.Heilman@gmail.com
URL:https://hhsociety.org/event/canasta-club-3/2026-04-04/
LOCATION:Room 2/3
END:VEVENT
BEGIN:VEVENT
DTSTART;TZID=America/New_York:20260405T090000
DTEND;TZID=America/New_York:20260405T090000
DTSTAMP:20260423T195744
CREATED:20241023T175213Z
LAST-MODIFIED:20241023T175213Z
UID:10003710-1775379600-1775379600@hhsociety.org
SUMMARY:Linda's Lake Lodge Workouts - Sports Conditioning
DESCRIPTION:9:00am Sundays \nAll Classes are $10 per class.  Register at the start of the month. Contact Linda Zeiss Instructor at labzeiss@gmail.com or (718) 541-0861
URL:https://hhsociety.org/event/lindas-lake-lodge-workouts-sports-conditioning/2026-04-05/
LOCATION:Lake Lodge Upper Level
END:VEVENT
BEGIN:VEVENT
DTSTART;TZID=America/New_York:20260405T093000
DTEND;TZID=America/New_York:20260405T093000
DTSTAMP:20260423T195744
CREATED:20260330T180631Z
LAST-MODIFIED:20260330T180631Z
UID:10013748-1775381400-1775381400@hhsociety.org
SUMMARY:Hikers & Walkers
DESCRIPTION:Old Putnam RR – Rating C \nLeader: Cheryl Hochenberg (516) 220-0965
URL:https://hhsociety.org/event/hikers-walkers-57/
LOCATION:Activities Parking Lot
END:VEVENT
BEGIN:VEVENT
DTSTART;TZID=America/New_York:20260406T093000
DTEND;TZID=America/New_York:20260406T093000
DTSTAMP:20260423T195744
CREATED:20241029T175413Z
LAST-MODIFIED:20241029T175413Z
UID:10008503-1775467800-1775467800@hhsociety.org
SUMMARY:Morning Discussion Group
DESCRIPTION:Discussion group on current event topics. Meets Mondays\nfrom 9:30 to 11 am in the Activities Center. For information\, email Ken Benjamin at kenbenja@aol.com\nor call 914-617-9817.
URL:https://hhsociety.org/event/morning-discussion-group-2/2026-04-06/
LOCATION:Room 2/3
END:VEVENT
BEGIN:VEVENT
DTSTART;TZID=America/New_York:20260406T110000
DTEND;TZID=America/New_York:20260406T110000
DTSTAMP:20260423T195744
CREATED:20241023T151632Z
LAST-MODIFIED:20241023T151632Z
UID:10000077-1775473200-1775473200@hhsociety.org
SUMMARY:Learn to Bead with Allison
DESCRIPTION:Join us on Mondays at 11:00 am in Room B for our beading class.  Each class is $25 including materials fee.  You go home with a piece of jewelry that you made for yourself or for a special someone.  Come and join the fun.  To enroll or for more information\, contact Allison Rubin at (914) 629-3655 or ahrubin521@yahoo.com
URL:https://hhsociety.org/event/learn-to-bead-with-allison-3/2026-04-06/
LOCATION:Art Room B
END:VEVENT
BEGIN:VEVENT
DTSTART;TZID=America/New_York:20260406T110000
DTEND;TZID=America/New_York:20260406T113000
DTSTAMP:20260423T195744
CREATED:20260323T154228Z
LAST-MODIFIED:20260323T154228Z
UID:10013488-1775473200-1775475000@hhsociety.org
SUMMARY:Yoga with Stacey
DESCRIPTION:A gentle\, slow-flow yoga class to strengthen\, lengthen\, calm\, and expand body\, mind\, and spirit within. \n$15 drop in \nemail: restorationyoga@hotmail.com
URL:https://hhsociety.org/event/yoga-with-stacey-2/2026-04-06/
LOCATION:Lake Lodge Upper Level
END:VEVENT
BEGIN:VEVENT
DTSTART;TZID=America/New_York:20260406T113000
DTEND;TZID=America/New_York:20260406T113000
DTSTAMP:20260423T195744
CREATED:20241023T154622Z
LAST-MODIFIED:20241023T154622Z
UID:10001360-1775475000-1775475000@hhsociety.org
SUMMARY:Gentle Yoga with Lisa
DESCRIPTION:Mondays at 11:30 am and Fridays at 10 am in the Lake Lodge’s Upper Level.  $12 for a 75-minute class.  Contact lisaathomas@optonline.net or 914-497-0243 for more information.
URL:https://hhsociety.org/event/gentle-yoga-with-lisa-2/2026-04-06/
LOCATION:Lake Lodge Upper Level
END:VEVENT
BEGIN:VEVENT
DTSTART;TZID=America/New_York:20260406T120000
DTEND;TZID=America/New_York:20260406T120000
DTSTAMP:20260423T195744
CREATED:20241029T174209Z
LAST-MODIFIED:20241029T174209Z
UID:10006818-1775476800-1775476800@hhsociety.org
SUMMARY:Mah Jongg Mondays
DESCRIPTION:Mondays at noon in Lake Lodge (contact Sue Furino 914-617-9110);
URL:https://hhsociety.org/event/mah-jongg-mondays/2026-04-06/
LOCATION:Lake Lodge Room 3
END:VEVENT
BEGIN:VEVENT
DTSTART;TZID=America/New_York:20260406T123000
DTEND;TZID=America/New_York:20260406T123000
DTSTAMP:20260423T195744
CREATED:20241023T155031Z
LAST-MODIFIED:20241023T155031Z
UID:10001622-1775478600-1775478600@hhsociety.org
SUMMARY:Tai Chi & Chi Gong with Master Ellen
DESCRIPTION:Mondays from 12:30-1:30pm in the Gym.  $70 per month.  First class free.  All levels welcome.  Wear loose fitting\, comfortable clothing.  Contact heritagehillstaichi2@@gmail.com for more information or to register.
URL:https://hhsociety.org/event/tai-chi-chi-gong-with-master-ellen-2/2026-04-06/
LOCATION:Gym\, Fitness Center
END:VEVENT
BEGIN:VEVENT
DTSTART;TZID=America/New_York:20260406T123000
DTEND;TZID=America/New_York:20260406T123000
DTSTAMP:20260423T195744
CREATED:20241023T182608Z
LAST-MODIFIED:20241023T182608Z
UID:10005515-1775478600-1775478600@hhsociety.org
SUMMARY:Duplicate Bridge
DESCRIPTION:Mondays and Thursdays at 12:30pm in the Activities Center.  For information\, call Marie at (914) 277-4266
URL:https://hhsociety.org/event/duplicate-bridge-2/2026-04-06/
LOCATION:Heritage Room
END:VEVENT
BEGIN:VEVENT
DTSTART;TZID=America/New_York:20260407T083000
DTEND;TZID=America/New_York:20260407T083000
DTSTAMP:20260423T195744
CREATED:20241023T161410Z
LAST-MODIFIED:20241023T174857Z
UID:10002666-1775550600-1775550600@hhsociety.org
SUMMARY:Linda's Lake Lodge Classes - Body Conditioning
DESCRIPTION:8:30am Tuesdays and Thursdays \nAll Classes are $10 per class.  Register at the start of the month. Contact Linda Zeiss Instructor at labzeiss@gmail.com or (718) 541-0861
URL:https://hhsociety.org/event/lindas-lake-lodge-classes-body-conditioning/2026-04-07/
LOCATION:Lake Lodge Upper Level
END:VEVENT
BEGIN:VEVENT
DTSTART;TZID=America/New_York:20260407T093000
DTEND;TZID=America/New_York:20260407T093000
DTSTAMP:20260423T195744
CREATED:20241023T160743Z
LAST-MODIFIED:20241023T160743Z
UID:10002144-1775554200-1775554200@hhsociety.org
SUMMARY:Cardio / Strength / Stretch Class with Lori
DESCRIPTION:Tuesdays and Thursdays from 9:30-10:30am in the Gym. Join Lori for a fun\, safe\, effective workout.  Low impact cardio\, resistance training\, balance\, strength and breath work – all set to great music!  Appropriate for all levels.  Resistance bands and weights available.  No mats needed.  Fee $10 per class.  Try the first class for free!  Class is also available on ZOOM. Email Lori for more information or to register at eefyjiig@gmail.com
URL:https://hhsociety.org/event/cardio-strength-stretch-class-with-lori-2/2026-04-07/
LOCATION:Gym\, Fitness Center
END:VEVENT
BEGIN:VEVENT
DTSTART;TZID=America/New_York:20260407T093000
DTEND;TZID=America/New_York:20260407T093000
DTSTAMP:20260423T195744
CREATED:20241023T162528Z
LAST-MODIFIED:20241023T175103Z
UID:10003188-1775554200-1775554200@hhsociety.org
SUMMARY:Linda's Lake Lodge Classes - Rock & Roll Workout
DESCRIPTION:9:30am Tuesdays \nAll Classes are $10 per class.  Register at the start of the month. Contact Linda Zeiss Instructor at labzeiss@gmail.com or (718) 541-0861 \n  \n  \n  \n 
URL:https://hhsociety.org/event/lindas-lake-lodge-classes-rock-roll-workout/2026-04-07/
LOCATION:Lake Lodge Upper Level
END:VEVENT
BEGIN:VEVENT
DTSTART;TZID=America/New_York:20260407T100000
DTEND;TZID=America/New_York:20260407T100000
DTSTAMP:20260423T195744
CREATED:20241023T155520Z
LAST-MODIFIED:20241023T155520Z
UID:10001883-1775556000-1775556000@hhsociety.org
SUMMARY:Chair Yoga with Satish
DESCRIPTION:Practice Tuesdays from 10-11:15am in Lake Lodge Room 3 with Satish Gambhir\, Registered Yoga (500-RYT) and acupressure teacher with over 20 years of experience.  Chair Yoga aimed at toning the entire body and increasing flexibility.  Breathing and meditation for relaxation and mind-body connection.  Live music.  $10 per class.  Call or email to register at (914) 646-0887 or satishgambhir@gmail.com
URL:https://hhsociety.org/event/chair-yoga-with-satish-2/2026-04-07/
LOCATION:Lake Lodge Room 3
END:VEVENT
BEGIN:VEVENT
DTSTART;TZID=America/New_York:20260407T100000
DTEND;TZID=America/New_York:20260407T100000
DTSTAMP:20260423T195744
CREATED:20241029T182020Z
LAST-MODIFIED:20241029T182020Z
UID:10008825-1775556000-1775556000@hhsociety.org
SUMMARY:Shakespeare Group
DESCRIPTION:Tuesdays from 10 to 11:30 am in the Activities Center’s Game Room\,\nand on Zoom. See a film of a classic Shakespeare play\, then read it and join in lively discussions. All are\nwelcome! For more information\, call Susan Ray at 914-391-6686 or Margaret Howlett at 973-746-7816.
URL:https://hhsociety.org/event/shakespeare-group-2/2026-04-07/
LOCATION:Game Room
END:VEVENT
BEGIN:VEVENT
DTSTART;TZID=America/New_York:20260407T110000
DTEND;TZID=America/New_York:20260407T110000
DTSTAMP:20260423T195744
CREATED:20241029T174628Z
LAST-MODIFIED:20241029T174628Z
UID:10007601-1775559600-1775559600@hhsociety.org
SUMMARY:Mah Jongg Tuesdays
DESCRIPTION:Tuesdays from 11 am to 1 pm Call Cheryl Milde at 914-342-3068.
URL:https://hhsociety.org/event/mah-jongg-tuesdays/2026-04-07/
LOCATION:Lake Lodge Room 2
END:VEVENT
BEGIN:VEVENT
DTSTART;TZID=America/New_York:20260407T133000
DTEND;TZID=America/New_York:20260407T133000
DTSTAMP:20260423T195744
CREATED:20260401T151416Z
LAST-MODIFIED:20260401T151416Z
UID:10013756-1775568600-1775568600@hhsociety.org
SUMMARY:Continuing Education
DESCRIPTION:The Ethics of AI in Everyday Life: What Good Do Chatbots Do? – A lecture by: Nancy Berlinger \n$10 admission paid at door \nContact Ann with questions: (914) 617-9434
URL:https://hhsociety.org/event/continuing-education-19/
LOCATION:Heritage Room
END:VEVENT
BEGIN:VEVENT
DTSTART;TZID=America/New_York:20260407T140000
DTEND;TZID=America/New_York:20260407T140000
DTSTAMP:20260423T195744
CREATED:20241023T182339Z
LAST-MODIFIED:20241023T182339Z
UID:10005397-1775570400-1775570400@hhsociety.org
SUMMARY:Contemporary Fiction Book Club
DESCRIPTION:Openings are available for residents interested in\njoining The Contemporary Fiction Book Club. The club meets on the first Tuesday of each month\nfrom 2:00-3:30. Contact Myra Hopper at 520 390-5523 or myrahopper@gmail.com.
URL:https://hhsociety.org/event/contemporary-fiction-book-club-2/2026-04-07/
LOCATION:Game Room
END:VEVENT
BEGIN:VEVENT
DTSTART;TZID=America/New_York:20260408T133000
DTEND;TZID=America/New_York:20260408T133000
DTSTAMP:20260423T195744
CREATED:20260401T152211Z
LAST-MODIFIED:20260401T152211Z
UID:10013760-1775655000-1775655000@hhsociety.org
SUMMARY:Women's Club
DESCRIPTION:Bingo \nFree for members; $5 for non members \nFor information contact: Joan (914) 276-0488 or Alfreda (914) 617-2007
URL:https://hhsociety.org/event/womens-club-5/
LOCATION:Heritage Room
END:VEVENT
BEGIN:VEVENT
DTSTART;TZID=America/New_York:20260409T123000
DTEND;TZID=America/New_York:20260409T123000
DTSTAMP:20260423T195744
CREATED:20241113T161414Z
LAST-MODIFIED:20241113T161414Z
UID:10009790-1775737800-1775737800@hhsociety.org
SUMMARY:Spousal Bereavement Group
DESCRIPTION:Led by Linda Ludwig\, PsD (NotPhD) on the second Thursday of the month at 12:30 pm in Lake Lodge Room 1.  The fee is $20 per session.  For more information\, call 914-617-9328.
URL:https://hhsociety.org/event/spousal-bereavement-group/2026-04-09/
LOCATION:Lake Lodge Room 1
END:VEVENT
BEGIN:VEVENT
DTSTART;TZID=America/New_York:20260409T130000
DTEND;TZID=America/New_York:20260409T130000
DTSTAMP:20260423T195744
CREATED:20241113T153705Z
LAST-MODIFIED:20241113T153705Z
UID:10009679-1775739600-1775739600@hhsociety.org
SUMMARY:Thriving in your Prime
DESCRIPTION:Join us every other week on Thursday at 1pm in Lake Lodge Room 3 to discuss relevant topics and learn strategies that will help those over the age of 50 navigate the challenges they are confronted with.  Each time we meet we will discuss a new topic\, and you will learn strategies you can implement in your own life.  The investment in each gathering is one hour of your time and $5!
URL:https://hhsociety.org/event/thriving-in-your-prime-2/2026-04-09/
LOCATION:Lake Lodge Room 3
END:VEVENT
BEGIN:VEVENT
DTSTART;TZID=America/New_York:20260410T090000
DTEND;TZID=America/New_York:20260410T090000
DTSTAMP:20260423T195744
CREATED:20241029T175106Z
LAST-MODIFIED:20241029T175106Z
UID:10008326-1775811600-1775811600@hhsociety.org
SUMMARY:Blood Pressure Screening
DESCRIPTION:Nurse Ellie Eidam offers screenings on the second Friday of\nthe month from 9 to 11 am in the Activities Center’s Game Room. Your temperature may be taken. Do\nnot come if you have tested positive for Covid-19\, were recently exposed (within 14 days) to the virus or\ntraveled to areas that have experienced high levels of the virus. Contact Ellie at elliebob1@gmail.com or\n914-617-2109 for more information.
URL:https://hhsociety.org/event/blood-pressure-screening-2/2026-04-10/
LOCATION:Game Room
END:VEVENT
BEGIN:VEVENT
DTSTART;TZID=America/New_York:20260410T110000
DTEND;TZID=America/New_York:20260410T110000
DTSTAMP:20260423T195744
CREATED:20241023T181940Z
LAST-MODIFIED:20241023T181940Z
UID:10005277-1775818800-1775818800@hhsociety.org
SUMMARY:French Conversation
DESCRIPTION:Meets the 2nd and 4th Friday of the month at Lake Lodge in Room 1\nfrom 11 am to noon. Members should have a basic knowledge of French conversation but need not be\nfluent. Refresh your French language skills and laugh and learn with us. If you have any questions\, call\nCarole Ellis 914-260-9182 or email her at carellis14@yahoo.com.
URL:https://hhsociety.org/event/french-conversation-2-2/2026-04-10/
LOCATION:Lake Lodge Room 1
END:VEVENT
BEGIN:VEVENT
DTSTART;TZID=America/New_York:20260410T130000
DTEND;TZID=America/New_York:20260410T130000
DTSTAMP:20260423T195744
CREATED:20241114T183953Z
LAST-MODIFIED:20241114T183953Z
UID:10010893-1775826000-1775826000@hhsociety.org
SUMMARY:Let's Talk Senior Care
DESCRIPTION:Join us the second Friday of every month at 1pm.  Stephanie Roberti\, MHA\, will be introducing different senior care topics to help educate us on this important subject.  For more information contact Stephanie Roberti at (914) 357-3049 or by email at sroberti@newbeginningsforseniors.com
URL:https://hhsociety.org/event/lets-talk-senior-care/2026-04-10/
LOCATION:Heritage Room
END:VEVENT
BEGIN:VEVENT
DTSTART;TZID=America/New_York:20260410T140000
DTEND;TZID=America/New_York:20260410T160000
DTSTAMP:20260423T195744
CREATED:20260401T152552Z
LAST-MODIFIED:20260401T152552Z
UID:10013761-1775829600-1775836800@hhsociety.org
SUMMARY:Photo Club
DESCRIPTION:Smartphone Photography Class \nMembers: $10; Non-Members: $15 \nFor information contact: Bill Ablondi (203) 984-2955 or ablondi@marketmaps.net
URL:https://hhsociety.org/event/photo-club-3/
LOCATION:Room 2/3
END:VEVENT
BEGIN:VEVENT
DTSTART;TZID=America/New_York:20260410T150000
DTEND;TZID=America/New_York:20260410T150000
DTSTAMP:20260423T195744
CREATED:20250507T143510Z
LAST-MODIFIED:20251202T162235Z
UID:10013377-1775833200-1775833200@hhsociety.org
SUMMARY:Environmental Club
DESCRIPTION:This Club’s primary objective is to foster a culture of environmental responsibility within Heritage Hills.  All are welcome\, including teens.  Watch for announcements and postings about special events and field trips.  No fee. \nFor more information contact Carrie Sears at carolynnsears@me.com  or (914) 522-3111
URL:https://hhsociety.org/event/environmental-club/2026-04-10/
LOCATION:Room 2/3
END:VEVENT
BEGIN:VEVENT
DTSTART;TZID=America/New_York:20260410T180000
DTEND;TZID=America/New_York:20260410T180000
DTSTAMP:20260423T195744
CREATED:20260401T151132Z
LAST-MODIFIED:20260401T151132Z
UID:10013755-1775844000-1775844000@hhsociety.org
SUMMARY:Ciao Italia
DESCRIPTION:Free Movie Night – Cabrini
URL:https://hhsociety.org/event/ciao-italia-4/
LOCATION:Heritage Room
END:VEVENT
BEGIN:VEVENT
DTSTART;TZID=America/New_York:20260411T093000
DTEND;TZID=America/New_York:20260411T093000
DTSTAMP:20260423T195744
CREATED:20260330T181041Z
LAST-MODIFIED:20260330T181041Z
UID:10013749-1775899800-1775899800@hhsociety.org
SUMMARY:Hikers & Walkers
DESCRIPTION:Wonder Lake State Park – Patterson – Rating B \nLeader: Kelly Doherty (914) 715-8956
URL:https://hhsociety.org/event/hikers-walkers-58/
LOCATION:Activities Parking Lot
END:VEVENT
BEGIN:VEVENT
DTSTART;TZID=America/New_York:20260412T093000
DTEND;TZID=America/New_York:20260412T093000
DTSTAMP:20260423T195744
CREATED:20260330T185953Z
LAST-MODIFIED:20260330T185953Z
UID:10013750-1775986200-1775986200@hhsociety.org
SUMMARY:Hikers & Walkers
DESCRIPTION:PepsiCo Sculpture Garden – Purchase – Rating D \nLeader: Kristie Ripepi (914) 275-7029
URL:https://hhsociety.org/event/hikers-walkers-59/
LOCATION:Activities Parking Lot
END:VEVENT
BEGIN:VEVENT
DTSTART;TZID=America/New_York:20260412T130000
DTEND;TZID=America/New_York:20260412T130000
DTSTAMP:20260423T195744
CREATED:20260401T152032Z
LAST-MODIFIED:20260401T152032Z
UID:10013759-1775998800-1775998800@hhsociety.org
SUMMARY:Club Shalom
DESCRIPTION:Parsley\, Sage\, Rosemary\, and Thyme \n$15 admission
URL:https://hhsociety.org/event/club-shalom-7/
LOCATION:Heritage Room
END:VEVENT
END:VCALENDAR