BEGIN:VCALENDAR
VERSION:2.0
PRODID:-//Heritage Hills Society - ECPv6.15.20//NONSGML v1.0//EN
CALSCALE:GREGORIAN
METHOD:PUBLISH
X-ORIGINAL-URL:https://hhsociety.org
X-WR-CALDESC:Events for Heritage Hills Society
REFRESH-INTERVAL;VALUE=DURATION:PT1H
X-Robots-Tag:noindex
X-PUBLISHED-TTL:PT1H
BEGIN:VTIMEZONE
TZID:America/New_York
BEGIN:DAYLIGHT
TZOFFSETFROM:-0500
TZOFFSETTO:-0400
TZNAME:EDT
DTSTART:20250309T070000
END:DAYLIGHT
BEGIN:STANDARD
TZOFFSETFROM:-0400
TZOFFSETTO:-0500
TZNAME:EST
DTSTART:20251102T060000
END:STANDARD
BEGIN:DAYLIGHT
TZOFFSETFROM:-0500
TZOFFSETTO:-0400
TZNAME:EDT
DTSTART:20260308T070000
END:DAYLIGHT
BEGIN:STANDARD
TZOFFSETFROM:-0400
TZOFFSETTO:-0500
TZNAME:EST
DTSTART:20261101T060000
END:STANDARD
BEGIN:DAYLIGHT
TZOFFSETFROM:-0500
TZOFFSETTO:-0400
TZNAME:EDT
DTSTART:20270314T070000
END:DAYLIGHT
BEGIN:STANDARD
TZOFFSETFROM:-0400
TZOFFSETTO:-0500
TZNAME:EST
DTSTART:20271107T060000
END:STANDARD
END:VTIMEZONE
BEGIN:VEVENT
DTSTART;TZID=America/New_York:20260409T123000
DTEND;TZID=America/New_York:20260409T123000
DTSTAMP:20260423T163901
CREATED:20241113T161414Z
LAST-MODIFIED:20241113T161414Z
UID:10009790-1775737800-1775737800@hhsociety.org
SUMMARY:Spousal Bereavement Group
DESCRIPTION:Led by Linda Ludwig\, PsD (NotPhD) on the second Thursday of the month at 12:30 pm in Lake Lodge Room 1.  The fee is $20 per session.  For more information\, call 914-617-9328.
URL:https://hhsociety.org/event/spousal-bereavement-group/2026-04-09/
LOCATION:Lake Lodge Room 1
END:VEVENT
BEGIN:VEVENT
DTSTART;TZID=America/New_York:20260408T133000
DTEND;TZID=America/New_York:20260408T133000
DTSTAMP:20260423T163901
CREATED:20260401T152211Z
LAST-MODIFIED:20260401T152211Z
UID:10013760-1775655000-1775655000@hhsociety.org
SUMMARY:Women's Club
DESCRIPTION:Bingo \nFree for members; $5 for non members \nFor information contact: Joan (914) 276-0488 or Alfreda (914) 617-2007
URL:https://hhsociety.org/event/womens-club-5/
LOCATION:Heritage Room
END:VEVENT
BEGIN:VEVENT
DTSTART;TZID=America/New_York:20260407T140000
DTEND;TZID=America/New_York:20260407T140000
DTSTAMP:20260423T163901
CREATED:20241023T182339Z
LAST-MODIFIED:20241023T182339Z
UID:10005397-1775570400-1775570400@hhsociety.org
SUMMARY:Contemporary Fiction Book Club
DESCRIPTION:Openings are available for residents interested in\njoining The Contemporary Fiction Book Club. The club meets on the first Tuesday of each month\nfrom 2:00-3:30. Contact Myra Hopper at 520 390-5523 or myrahopper@gmail.com.
URL:https://hhsociety.org/event/contemporary-fiction-book-club-2/2026-04-07/
LOCATION:Game Room
END:VEVENT
BEGIN:VEVENT
DTSTART;TZID=America/New_York:20260407T133000
DTEND;TZID=America/New_York:20260407T133000
DTSTAMP:20260423T163901
CREATED:20260401T151416Z
LAST-MODIFIED:20260401T151416Z
UID:10013756-1775568600-1775568600@hhsociety.org
SUMMARY:Continuing Education
DESCRIPTION:The Ethics of AI in Everyday Life: What Good Do Chatbots Do? – A lecture by: Nancy Berlinger \n$10 admission paid at door \nContact Ann with questions: (914) 617-9434
URL:https://hhsociety.org/event/continuing-education-19/
LOCATION:Heritage Room
END:VEVENT
BEGIN:VEVENT
DTSTART;TZID=America/New_York:20260405T093000
DTEND;TZID=America/New_York:20260405T093000
DTSTAMP:20260423T163901
CREATED:20260330T180631Z
LAST-MODIFIED:20260330T180631Z
UID:10013748-1775381400-1775381400@hhsociety.org
SUMMARY:Hikers & Walkers
DESCRIPTION:Old Putnam RR – Rating C \nLeader: Cheryl Hochenberg (516) 220-0965
URL:https://hhsociety.org/event/hikers-walkers-57/
LOCATION:Activities Parking Lot
END:VEVENT
BEGIN:VEVENT
DTSTART;TZID=America/New_York:20260404T093000
DTEND;TZID=America/New_York:20260404T093000
DTSTAMP:20260423T163901
CREATED:20260330T180110Z
LAST-MODIFIED:20260330T180110Z
UID:10013747-1775295000-1775295000@hhsociety.org
SUMMARY:Hikers& Walker
DESCRIPTION:Leader’s Choice – Rating B \nLeader Barry Tuch (516) 458-5321
URL:https://hhsociety.org/event/hikers-walker/
LOCATION:Activities Parking Lot
END:VEVENT
BEGIN:VEVENT
DTSTART;TZID=America/New_York:20260403T190000
DTEND;TZID=America/New_York:20260403T190000
DTSTAMP:20260423T163901
CREATED:20241023T153853Z
LAST-MODIFIED:20241023T153853Z
UID:10000981-1775242800-1775242800@hhsociety.org
SUMMARY:Friday Night Social Dance
DESCRIPTION:The first Friday of every month from 7-10pm in the Activities Center’s Heritage Room.  $10 per person includes coffee and cake.  BYOB.  For more information\, call Angela Viscogliosi at (914) 393-8736
URL:https://hhsociety.org/event/friday-night-social-dance-2/2026-04-03/
LOCATION:Heritage Room
END:VEVENT
BEGIN:VEVENT
DTSTART;TZID=America/New_York:20260403T150000
DTEND;TZID=America/New_York:20260403T150000
DTSTAMP:20260423T163901
CREATED:20250514T160458Z
LAST-MODIFIED:20250514T160458Z
UID:10012742-1775228400-1775228400@hhsociety.org
SUMMARY:Yacht Club ("HHYC")
DESCRIPTION:The HHYC is a fee-free social club of past and present water fans (swimmers\, boaters\, fishers\, cruisers\, surfers\, whatever). At our monthly pot luck “dock parties” on the first Friday of the month in the Lobby at Lake Lodge\, we share our experiences and plan future ones (theme parties\, day trips/activities\, or even cruises). For more information contact Susan at ciwhitestar@comcast.net or (914) 617-9228
URL:https://hhsociety.org/event/yacht-club-hhyc/2026-04-03/
LOCATION:Lake Lodge Lobby
END:VEVENT
BEGIN:VEVENT
DTSTART;TZID=America/New_York:20260402T170000
DTEND;TZID=America/New_York:20260402T170000
DTSTAMP:20260423T163901
CREATED:20241029T181105Z
LAST-MODIFIED:20241029T181105Z
UID:10008707-1775149200-1775149200@hhsociety.org
SUMMARY:Rainbow Connection Club
DESCRIPTION:A group for LGBTQ members and their families\, friends\, and\nneighbors. All are welcome. We meet the first Thursday of each month at Lake Lodge from 5 to 7 pm.\nFor more information contact Joanne at 914-450-5609.
URL:https://hhsociety.org/event/rainbow-connection-club-2/2026-04-02/
LOCATION:Lake Lodge Room 3
END:VEVENT
BEGIN:VEVENT
DTSTART;TZID=America/New_York:20260402T123000
DTEND;TZID=America/New_York:20260402T123000
DTSTAMP:20260423T163901
CREATED:20241029T175246Z
LAST-MODIFIED:20241029T175246Z
UID:10008386-1775133000-1775133000@hhsociety.org
SUMMARY:Alzheimer's/Dementia Caregivers Support Group
DESCRIPTION:Caring for someone with Alzheimer&#39;s/Dementia is\na difficult and painful challenge. A support group can help. Meetings take place the first Thursday of the\nmonth at 12:30 pm in Lake Lodge’s Room 1. Fee: $20 per session. Facilitated by Linda Ludwig\, Ph.D. To\nregister\, call 914-617-9328 or email ludwiglr@aol.com.
URL:https://hhsociety.org/event/alzheimers-dementia-caregivers-support-group-2/2026-04-02/
LOCATION:Lake Lodge Room 1
END:VEVENT
BEGIN:VEVENT
DTSTART;TZID=America/New_York:20260402T110000
DTEND;TZID=America/New_York:20260402T110000
DTSTAMP:20260423T163901
CREATED:20241023T182146Z
LAST-MODIFIED:20241023T182146Z
UID:10005337-1775127600-1775127600@hhsociety.org
SUMMARY:Spanish Conversation
DESCRIPTION:Meets the 1st Thursday of the month in Lake Lodge’s\nRoom 1 at 11 am. Group is open to intermediate through fluent Spanish speakers. ¡Vengan!
URL:https://hhsociety.org/event/spanish-conversation/2026-04-02/
LOCATION:Lake Lodge Room 1
END:VEVENT
BEGIN:VEVENT
DTSTART;TZID=America/New_York:20260401T190000
DTEND;TZID=America/New_York:20260401T190000
DTSTAMP:20260423T163901
CREATED:20250514T144427Z
LAST-MODIFIED:20250514T144427Z
UID:10011908-1775070000-1775070000@hhsociety.org
SUMMARY:Energy Healing for Self\, Family\, Friends and Pets with Melanie Gambino
DESCRIPTION:Pre-registration required.  $20 per class \nFor more information and to reserve your place\, call\, text or email Melanie at (914) 588-2450 or melaniegambino1@gmail.com$20 per \n 
URL:https://hhsociety.org/event/energy-healing-for-self-family-friends-and-pets-with-melanie-gambino/2026-04-01/
LOCATION:Lake Lodge Room 3
END:VEVENT
BEGIN:VEVENT
DTSTART;TZID=America/New_York:20260331T133000
DTEND;TZID=America/New_York:20260331T133000
DTSTAMP:20260423T163901
CREATED:20260304T155924Z
LAST-MODIFIED:20260304T160756Z
UID:10013485-1774963800-1774963800@hhsociety.org
SUMMARY:Continuing Education
DESCRIPTION:The Rise and Fall of Higher Education in America \nLecture by Al Hunt \n$10 payable at door \nCall Ann with questions (914) 617-9434
URL:https://hhsociety.org/event/continuing-education-18/
LOCATION:Heritage Room
END:VEVENT
BEGIN:VEVENT
DTSTART;TZID=America/New_York:20260329T093000
DTEND;TZID=America/New_York:20260329T093000
DTSTAMP:20260423T163901
CREATED:20260304T155533Z
LAST-MODIFIED:20260304T155533Z
UID:10013483-1774776600-1774776600@hhsociety.org
SUMMARY:Hikers and Walkers
DESCRIPTION:202 Spillway – Brewster: Rating D \nLeader: Cheryl Hochenberg (516) 220-0965
URL:https://hhsociety.org/event/hikers-and-walkers-16/
LOCATION:Activities Parking Lot
END:VEVENT
BEGIN:VEVENT
DTSTART;TZID=America/New_York:20260328T093000
DTEND;TZID=America/New_York:20260328T093000
DTSTAMP:20260423T163901
CREATED:20260304T155420Z
LAST-MODIFIED:20260304T155420Z
UID:10013482-1774690200-1774690200@hhsociety.org
SUMMARY:Hikers & Walkers
DESCRIPTION:Cranberry Lake Preserve – Valhalla: Rating B \nLeader: Kelly Doherty (914) 715-8956
URL:https://hhsociety.org/event/hikers-walkers-56/
LOCATION:Activities Parking Lot
END:VEVENT
BEGIN:VEVENT
DTSTART;TZID=America/New_York:20260327T161500
DTEND;TZID=America/New_York:20260327T161500
DTSTAMP:20260423T163901
CREATED:20250507T143816Z
LAST-MODIFIED:20250507T143816Z
UID:10011588-1774628100-1774628100@hhsociety.org
SUMMARY:Environmental Club
DESCRIPTION:This Club’s primary objective is to foster a culture of environmental responsibility within Heritage Hills.  All are welcome\, including teens.  Watch for announcements and postings about special events and field trips.  No fee. \nFor more information\, contact Carrie Sears at carolynnsears@me.com or (914) 522-3111
URL:https://hhsociety.org/event/environmental-club-2-2/2026-03-27/
LOCATION:Room 2/3
END:VEVENT
BEGIN:VEVENT
DTSTART;TZID=America/New_York:20260327T110000
DTEND;TZID=America/New_York:20260327T110000
DTSTAMP:20260423T163901
CREATED:20241023T181829Z
LAST-MODIFIED:20241023T181829Z
UID:10005217-1774609200-1774609200@hhsociety.org
SUMMARY:French Conversation
DESCRIPTION:Meets the 2nd and 4th Friday of the month at Lake Lodge in Room 1\nfrom 11 am to noon. Members should have a basic knowledge of French conversation but need not be\nfluent. Refresh your French language skills and laugh and learn with us. If you have any questions\, call\nCarole Ellis 914-260-9182 or email her at carellis14@yahoo.com.
URL:https://hhsociety.org/event/french-conversation/2026-03-27/
LOCATION:Lake Lodge Room 1
END:VEVENT
BEGIN:VEVENT
DTSTART;TZID=America/New_York:20260324T133000
DTEND;TZID=America/New_York:20260324T133000
DTSTAMP:20260423T163901
CREATED:20260304T155746Z
LAST-MODIFIED:20260304T155746Z
UID:10013484-1774359000-1774359000@hhsociety.org
SUMMARY:Continuing Education
DESCRIPTION:The Rise and Fall of Secondary Education in America \nLecture by Al Hunt \n$10 payable at door \nCall Ann with questions (914) 617-9434
URL:https://hhsociety.org/event/continuing-education-17/
LOCATION:Heritage Room
END:VEVENT
BEGIN:VEVENT
DTSTART;TZID=America/New_York:20260322T130000
DTEND;TZID=America/New_York:20260322T130000
DTSTAMP:20260423T163901
CREATED:20260302T165918Z
LAST-MODIFIED:20260302T165918Z
UID:10013481-1774184400-1774184400@hhsociety.org
SUMMARY:Club Shalom
DESCRIPTION:“Ahoy Amigos” \n$15 per person
URL:https://hhsociety.org/event/club-shalom-6/
LOCATION:Heritage Room
END:VEVENT
BEGIN:VEVENT
DTSTART;TZID=America/New_York:20260322T093000
DTEND;TZID=America/New_York:20260322T093000
DTSTAMP:20260423T163901
CREATED:20260227T161449Z
LAST-MODIFIED:20260227T161449Z
UID:10013473-1774171800-1774171800@hhsociety.org
SUMMARY:Hikers & Walkers
DESCRIPTION:Reiss Park – Rating D \nLeader: Kristie Ripepi (914) 275-7029
URL:https://hhsociety.org/event/hikers-walkers-55/
LOCATION:Activities Parking Lot
END:VEVENT
BEGIN:VEVENT
DTSTART;TZID=America/New_York:20260321T080000
DTEND;TZID=America/New_York:20260321T170000
DTSTAMP:20260423T163901
CREATED:20260227T161243Z
LAST-MODIFIED:20260227T161243Z
UID:10013471-1774080000-1774112400@hhsociety.org
SUMMARY:Hikers & Walkers
DESCRIPTION:Whippoorwill Park – Chappaqua – Rating B \nLeader: Cheryl Hochenberg (516) 220-0965
URL:https://hhsociety.org/event/hikers-walkers-53/2026-03-21/1/
LOCATION:Activities Parking Lot
END:VEVENT
BEGIN:VEVENT
DTSTART;TZID=America/New_York:20260319T183000
DTEND;TZID=America/New_York:20260319T183000
DTSTAMP:20260423T163901
CREATED:20260302T154932Z
LAST-MODIFIED:20260302T154932Z
UID:10013479-1773945000-1773945000@hhsociety.org
SUMMARY:Community Theatre Auditions
DESCRIPTION:Auditions for London Suite \nFor questions contact: Jo Pearlman (914) 484-3248 or Helen Berman (917) 554-4417
URL:https://hhsociety.org/event/community-theatre-auditions-2/
LOCATION:Heritage Room
END:VEVENT
BEGIN:VEVENT
DTSTART;TZID=America/New_York:20260318T133000
DTEND;TZID=America/New_York:20260318T133000
DTSTAMP:20260423T163901
CREATED:20260302T160010Z
LAST-MODIFIED:20260302T160010Z
UID:10013480-1773840600-1773840600@hhsociety.org
SUMMARY:Health and Safety Committee
DESCRIPTION:The Microbiome-Brain Axis
URL:https://hhsociety.org/event/health-and-safety-committee/
LOCATION:Heritage Room
END:VEVENT
BEGIN:VEVENT
DTSTART;TZID=America/New_York:20260316T183000
DTEND;TZID=America/New_York:20260316T183000
DTSTAMP:20260423T163901
CREATED:20260302T154836Z
LAST-MODIFIED:20260302T154836Z
UID:10013478-1773685800-1773685800@hhsociety.org
SUMMARY:Community Theatre Auditions
DESCRIPTION:Auditions for London Suite \nFor questions contact: Jo Pearlman (914) 484-3248 or Helen Berman (917) 554-4417
URL:https://hhsociety.org/event/community-theatre-auditions/
LOCATION:Heritage Room
END:VEVENT
BEGIN:VEVENT
DTSTART;TZID=America/New_York:20260315T183000
DTEND;TZID=America/New_York:20260315T183000
DTSTAMP:20260423T163901
CREATED:20260302T154657Z
LAST-MODIFIED:20260302T154657Z
UID:10013477-1773599400-1773599400@hhsociety.org
SUMMARY:Independent & Foreign Film Club
DESCRIPTION:How to Make Millions Before Grandma Dies (Thailand\, 125 minutes\, 2024)
URL:https://hhsociety.org/event/independent-foreign-film-club-3/
LOCATION:Heritage Room
END:VEVENT
BEGIN:VEVENT
DTSTART;TZID=America/New_York:20260315T093000
DTEND;TZID=America/New_York:20260315T093000
DTSTAMP:20260423T163901
CREATED:20260227T161026Z
LAST-MODIFIED:20260227T161026Z
UID:10013470-1773567000-1773567000@hhsociety.org
SUMMARY:Hikers & Walkers
DESCRIPTION:Sylvan Glen Park Preserve – Stony Creek Entrance – Rating C \nLeader: Bette Heben (914) 424-1046
URL:https://hhsociety.org/event/hikers-walkers-52/
LOCATION:Activities Parking Lot
END:VEVENT
BEGIN:VEVENT
DTSTART;TZID=America/New_York:20260314T093000
DTEND;TZID=America/New_York:20260314T093000
DTSTAMP:20260423T163901
CREATED:20260227T160846Z
LAST-MODIFIED:20260227T160846Z
UID:10013469-1773480600-1773480600@hhsociety.org
SUMMARY:Hikers and Walkers
DESCRIPTION:Westmoreland Sanctuary – Mt. Kisco – Rating B \nLeader Kelly Doherty (914) 715-8956
URL:https://hhsociety.org/event/hikers-and-walkers-15/
LOCATION:Activities Parking Lot
END:VEVENT
BEGIN:VEVENT
DTSTART;TZID=America/New_York:20260313T140000
DTEND;TZID=America/New_York:20260313T140000
DTSTAMP:20260423T163901
CREATED:20260302T153153Z
LAST-MODIFIED:20260302T153153Z
UID:10013476-1773410400-1773410400@hhsociety.org
SUMMARY:Photo Club
DESCRIPTION:Portrait Photography \nSusan Rosenberg Jones will present images from two of her publications – Widowed and The Second Time Around \nOpen to all – $5 for non members \nFor more information contact: Linda Carpentieri lindacarp16@gmail.com or (914) 227-3854 or Bill Ablondi ablondi@marketmaps.net (203) 984-2955
URL:https://hhsociety.org/event/photo-club-7/
LOCATION:Heritage Room
END:VEVENT
BEGIN:VEVENT
DTSTART;TZID=America/New_York:20260311T133000
DTEND;TZID=America/New_York:20260311T133000
DTSTAMP:20260423T163901
CREATED:20260302T152900Z
LAST-MODIFIED:20260302T152900Z
UID:10013475-1773235800-1773235800@hhsociety.org
SUMMARY:Women's Club
DESCRIPTION:Saint Patrick’s Day Celebration \nFree for Members \n$5 for Non Members \nContact Joan (914) 276-0488 or Rose (914) 276-4204
URL:https://hhsociety.org/event/womens-club-4/
LOCATION:Heritage Room
END:VEVENT
BEGIN:VEVENT
DTSTART;TZID=America/New_York:20260308T093000
DTEND;TZID=America/New_York:20260308T093000
DTSTAMP:20260423T163901
CREATED:20260227T144208Z
LAST-MODIFIED:20260227T144208Z
UID:10013468-1772962200-1772962200@hhsociety.org
SUMMARY:Hikers & Walkers
DESCRIPTION:Rockwood Hall State Park – Sleepy Hollow – Rating C \nLeader: Kristie Ripepi (914) 275-7029
URL:https://hhsociety.org/event/hikers-walkers-51/
LOCATION:Activities Parking Lot
END:VEVENT
END:VCALENDAR