BEGIN:VCALENDAR
VERSION:2.0
PRODID:-//Heritage Hills Society - ECPv6.15.20//NONSGML v1.0//EN
CALSCALE:GREGORIAN
METHOD:PUBLISH
X-WR-CALNAME:Heritage Hills Society
X-ORIGINAL-URL:https://hhsociety.org
X-WR-CALDESC:Events for Heritage Hills Society
REFRESH-INTERVAL;VALUE=DURATION:PT1H
X-Robots-Tag:noindex
X-PUBLISHED-TTL:PT1H
BEGIN:VTIMEZONE
TZID:America/New_York
BEGIN:DAYLIGHT
TZOFFSETFROM:-0500
TZOFFSETTO:-0400
TZNAME:EDT
DTSTART:20240310T070000
END:DAYLIGHT
BEGIN:STANDARD
TZOFFSETFROM:-0400
TZOFFSETTO:-0500
TZNAME:EST
DTSTART:20241103T060000
END:STANDARD
BEGIN:DAYLIGHT
TZOFFSETFROM:-0500
TZOFFSETTO:-0400
TZNAME:EDT
DTSTART:20250309T070000
END:DAYLIGHT
BEGIN:STANDARD
TZOFFSETFROM:-0400
TZOFFSETTO:-0500
TZNAME:EST
DTSTART:20251102T060000
END:STANDARD
BEGIN:DAYLIGHT
TZOFFSETFROM:-0500
TZOFFSETTO:-0400
TZNAME:EDT
DTSTART:20260308T070000
END:DAYLIGHT
BEGIN:STANDARD
TZOFFSETFROM:-0400
TZOFFSETTO:-0500
TZNAME:EST
DTSTART:20261101T060000
END:STANDARD
END:VTIMEZONE
BEGIN:VEVENT
DTSTART;TZID=America/New_York:20250504T150000
DTEND;TZID=America/New_York:20250504T150000
DTSTAMP:20260425T120539
CREATED:20250501T191810Z
LAST-MODIFIED:20250501T191810Z
UID:10010952-1746370800-1746370800@hhsociety.org
SUMMARY:The Concert Society - Claremont Trio
DESCRIPTION:Annual subscriptions for 4 concerts are $90 per person or pay $26 per person at the door.  If you have any questions\, call Teddi at (914) 277-1418 after 9am.
URL:https://hhsociety.org/event/the-concert-society-claremont-trio/
LOCATION:Heritage Room
END:VEVENT
BEGIN:VEVENT
DTSTART;TZID=America/New_York:20250504T190000
DTEND;TZID=America/New_York:20250504T190000
DTSTAMP:20260425T120539
CREATED:20250501T192021Z
LAST-MODIFIED:20250501T192021Z
UID:10010953-1746385200-1746385200@hhsociety.org
SUMMARY:Independent and Foreign Film Club - "The Wonder"
DESCRIPTION:Ireland and United Kingdom\, 103 minutes\, 2022 \n 
URL:https://hhsociety.org/event/independent-and-foreign-film-club-the-wonder/
END:VEVENT
BEGIN:VEVENT
DTSTART;TZID=America/New_York:20250506T133000
DTEND;TZID=America/New_York:20250506T133000
DTSTAMP:20260425T120539
CREATED:20250404T190610Z
LAST-MODIFIED:20250404T190610Z
UID:10010946-1746538200-1746538200@hhsociety.org
SUMMARY:Continuing Education
DESCRIPTION:The Many Moods in China Now \nA lecture by Marjorie Miller\, Professor Emerita of Philosophy & Asian Studies\, SUNY Purchase \n$10 Admission Paid at the Door \nIf you have any questions contact: Ann (914) 671-9434
URL:https://hhsociety.org/event/continuing-education-5/
LOCATION:Heritage Room
END:VEVENT
BEGIN:VEVENT
DTSTART;TZID=America/New_York:20250507T133000
DTEND;TZID=America/New_York:20250507T133000
DTSTAMP:20260425T120539
CREATED:20250501T195510Z
LAST-MODIFIED:20250501T200113Z
UID:10010957-1746624600-1746624600@hhsociety.org
SUMMARY:Health & Safety Committee - Dementia Lecture
DESCRIPTION:Together with Northern Westchester Hospital\, we present this lecture by Dr. Erica Beauplan-Romeo at which you learn about the signs of the onset of Dementia\, the many aspects of the disease\, when neurological assessment is needed\, available community resources and expectations for a caregiver. Dr. Beauplan-Romeo is a Doctor of Internal Medicine specializing in adult care.  She focuses on a patient centered approach and has worked at various Northwell hospitals ranging from community based institutions to tertiary care centers. \nIf you have any questions contact either Alicia at anwen4@comcast.net or Eileen at (914) 276-2342 or (914) 400-6005.
URL:https://hhsociety.org/event/health-safety-committee-dementia-lecture/
LOCATION:Heritage Room
END:VEVENT
BEGIN:VEVENT
DTSTART;TZID=America/New_York:20250507T133000
DTEND;TZID=America/New_York:20250507T133000
DTSTAMP:20260425T120539
CREATED:20250507T142012Z
LAST-MODIFIED:20250507T142012Z
UID:10011257-1746624600-1746624600@hhsociety.org
SUMMARY:Silk Fabric Painting Class
DESCRIPTION:Must sign up for a full four week session. Fee $135 \nContact Evey at (914) 276-0737 or email at eveymusart@comcast.net
URL:https://hhsociety.org/event/silk-fabric-painting-class-2/2025-05-07/
LOCATION:Room B
END:VEVENT
BEGIN:VEVENT
DTSTART;TZID=America/New_York:20250507T140000
DTEND;TZID=America/New_York:20250507T140000
DTSTAMP:20260425T120539
CREATED:20250501T192300Z
LAST-MODIFIED:20250501T192300Z
UID:10010954-1746626400-1746626400@hhsociety.org
SUMMARY:Terra String Quartet
DESCRIPTION:Concert Society and Continuing Education *FREE* Co-Sponsored Event
URL:https://hhsociety.org/event/terra-string-quartet/
LOCATION:Lake Lodge Room 3
END:VEVENT
BEGIN:VEVENT
DTSTART;TZID=America/New_York:20250508T190000
DTEND;TZID=America/New_York:20250508T190000
DTSTAMP:20260425T120539
CREATED:20250501T192737Z
LAST-MODIFIED:20250501T192737Z
UID:10010955-1746730800-1746730800@hhsociety.org
SUMMARY:Society Board - Candidates Night
DESCRIPTION:All unit owners are invited to attend this meeting to listen to\, and submit questions to\, the eight candidates running for the five Society Board positions whose three-year terms are expiring. \nTo help expedite the meeting\, please submit questions you have for any candidates to society@hhsociety.org or bring them in writing to the Society Office.  Include your name and unit number.  This meeting will be broadcast live on Comcast’s channels 21 and 1070.
URL:https://hhsociety.org/event/society-board-candidates-night/
LOCATION:Heritage Room
END:VEVENT
BEGIN:VEVENT
DTSTART;TZID=America/New_York:20250509T150000
DTEND;TZID=America/New_York:20250509T150000
DTSTAMP:20260425T120539
CREATED:20250507T143510Z
LAST-MODIFIED:20251202T162235Z
UID:10013366-1746802800-1746802800@hhsociety.org
SUMMARY:Environmental Club
DESCRIPTION:This Club’s primary objective is to foster a culture of environmental responsibility within Heritage Hills.  All are welcome\, including teens.  Watch for announcements and postings about special events and field trips.  No fee. \nFor more information contact Carrie Sears at carolynnsears@me.com  or (914) 522-3111
URL:https://hhsociety.org/event/environmental-club/2025-05-09/
LOCATION:Room 2/3
END:VEVENT
BEGIN:VEVENT
DTSTART;TZID=America/New_York:20250513T133000
DTEND;TZID=America/New_York:20250513T133000
DTSTAMP:20260425T120539
CREATED:20250505T152215Z
LAST-MODIFIED:20250505T152450Z
UID:10011011-1747143000-1747143000@hhsociety.org
SUMMARY:Continuing Education - A Changing China in a Changing World
DESCRIPTION:A lecture by Dr. Renqiu Yu \nAdmission is $10 per event paid at the door. \nIf you have any questions call Ann at (914) 617-9434
URL:https://hhsociety.org/event/continuing-education-a-changing-china-in-a-changing-world/
LOCATION:Heritage Room
END:VEVENT
BEGIN:VEVENT
DTSTART;TZID=America/New_York:20250515T130000
DTEND;TZID=America/New_York:20250515T130000
DTSTAMP:20260425T120539
CREATED:20250501T201000Z
LAST-MODIFIED:20250501T201000Z
UID:10010958-1747314000-1747314000@hhsociety.org
SUMMARY:Singles Club - Luncheon at Il Villaggio
DESCRIPTION:Come and enjoy good food with good friends.  Will include family style appetizers\, three entree choices and dessert. Cash bar. \n$35 for members and non-members. Leave your checks in the Singles Club mail slot at the Activities Center no later than May 9.
URL:https://hhsociety.org/event/singles-club-luncheon-at-il-villaggio/
END:VEVENT
BEGIN:VEVENT
DTSTART;TZID=America/New_York:20250515T160000
DTEND;TZID=America/New_York:20250515T170000
DTSTAMP:20260425T120539
CREATED:20250507T134022Z
LAST-MODIFIED:20250507T134022Z
UID:10011020-1747324800-1747328400@hhsociety.org
SUMMARY:I Love Art Class with Miss. Judika
DESCRIPTION:After school Art in Heritage Hills for children ages grade K-6. \nTo register call Judika at (914) 438-6750 \n$20 per class; all 2 for $60
URL:https://hhsociety.org/event/i-love-art-class-with-miss-judika/2025-05-15/
LOCATION:Art Room A
END:VEVENT
BEGIN:VEVENT
DTSTART;TZID=America/New_York:20250516T080000
DTEND;TZID=America/New_York:20250516T170000
DTSTAMP:20260425T120539
CREATED:20250507T140213Z
LAST-MODIFIED:20250507T140213Z
UID:10011195-1747382400-1747414800@hhsociety.org
SUMMARY:Paint & Sip with Judika
DESCRIPTION:$40 per class. To register call Judika at (914) 438-6750
URL:https://hhsociety.org/event/paint-sip-with-judika-3/2025-05-16/1/
LOCATION:Art Room A
END:VEVENT
BEGIN:VEVENT
DTSTART;TZID=America/New_York:20250516T090000
DTEND;TZID=America/New_York:20250516T090000
DTSTAMP:20260425T120539
CREATED:20250514T152237Z
LAST-MODIFIED:20250514T152237Z
UID:10011958-1747386000-1747386000@hhsociety.org
SUMMARY:Continuum/Fluid Form Movement\, Mindfulness\, and Meditation with Melanie Gambino
DESCRIPTION:Pre-registration required. $15 per class \nFor more information and to reserve your place\, call\, text\, or email Melanie at (914) 588-2450 or melaniegambino1@gmail.com
URL:https://hhsociety.org/event/continuum-fluid-form-movement-mindfulness-and-meditation-with-melanie-gambino/2025-05-16/
LOCATION:Lake Lodge Room 3
END:VEVENT
BEGIN:VEVENT
DTSTART;TZID=America/New_York:20250517T091500
DTEND;TZID=America/New_York:20250517T091500
DTSTAMP:20260425T120539
CREATED:20250514T154523Z
LAST-MODIFIED:20250514T154523Z
UID:10012727-1747473300-1747473300@hhsociety.org
SUMMARY:Hiker and Walkers
DESCRIPTION:Cranberry Lake Preserve (B) – Valhalla \nMisha Lef (914)272-7029
URL:https://hhsociety.org/event/hiker-and-walkers/
LOCATION:Activities Parking Lot
END:VEVENT
BEGIN:VEVENT
DTSTART;TZID=America/New_York:20250517T093000
DTEND;TZID=America/New_York:20250517T093000
DTSTAMP:20260425T120539
CREATED:20250514T161911Z
LAST-MODIFIED:20250514T161911Z
UID:10012812-1747474200-1747474200@hhsociety.org
SUMMARY:Bocce Group
DESCRIPTION:Weather permitting. \nFor more information contact Reno DiCristofaro at (914) 500-5160 or Diane Purr at (914) 617-9338
URL:https://hhsociety.org/event/bocce-group-4/2025-05-17/
END:VEVENT
BEGIN:VEVENT
DTSTART;TZID=America/New_York:20250517T093000
DTEND;TZID=America/New_York:20250517T093000
DTSTAMP:20260425T120539
CREATED:20250514T162209Z
LAST-MODIFIED:20250514T162209Z
UID:10012833-1747474200-1747474200@hhsociety.org
SUMMARY:Bocce Group
DESCRIPTION:Weather permitting. \nFor more information contact Reno DiCristofaro at (914) 500-5160 or Diane Purr at (914) 617-9338
URL:https://hhsociety.org/event/bocce-group-6/2025-05-17/
END:VEVENT
BEGIN:VEVENT
DTSTART;TZID=America/New_York:20250517T190000
DTEND;TZID=America/New_York:20250517T190000
DTSTAMP:20260425T120539
CREATED:20250404T184500Z
LAST-MODIFIED:20250404T184500Z
UID:10010939-1747508400-1747508400@hhsociety.org
SUMMARY:Club Shalom - Lerner and Loewe Songfest
DESCRIPTION:$15 Admission due with flyer by May 14.
URL:https://hhsociety.org/event/club-shalom-lerner-and-loewe-songfest/
LOCATION:Heritage Room
END:VEVENT
BEGIN:VEVENT
DTSTART;TZID=America/New_York:20250518T091500
DTEND;TZID=America/New_York:20250518T091500
DTSTAMP:20260425T120539
CREATED:20250514T154729Z
LAST-MODIFIED:20250514T154729Z
UID:10012728-1747559700-1747559700@hhsociety.org
SUMMARY:Hikers & Walkers
DESCRIPTION:Reservoir Road – Katonah (D) \nEvey Albert – (914) 275-7029
URL:https://hhsociety.org/event/hikers-walkers-2/
LOCATION:Activities Parking Lot
END:VEVENT
BEGIN:VEVENT
DTSTART;TZID=America/New_York:20250521T093000
DTEND;TZID=America/New_York:20250521T093000
DTSTAMP:20260425T120539
CREATED:20250514T160936Z
LAST-MODIFIED:20250514T160936Z
UID:10012792-1747819800-1747819800@hhsociety.org
SUMMARY:Bocce Group
DESCRIPTION:Weather permitting. \nFor more information contact Reno DiCristofaro at (914) 500-5160 or Diane Purr at (914) 617-9338
URL:https://hhsociety.org/event/bocce-group-2/2025-05-21/
END:VEVENT
BEGIN:VEVENT
DTSTART;TZID=America/New_York:20250521T103000
DTEND;TZID=America/New_York:20250521T103000
DTSTAMP:20260425T120539
CREATED:20250514T143224Z
LAST-MODIFIED:20250514T143224Z
UID:10011638-1747823400-1747823400@hhsociety.org
SUMMARY:Balance and Agility for Active Seniors
DESCRIPTION:Navigate obstacles; strengthen balance; move better for walks\, hikes\, or pickleball. \nLearn from a master teacher with years of experience\, Elena Remais. $80 for 4 weeks\, $25 for drop in. elenathetrainer@yahoo.com or (914) 848-3174
URL:https://hhsociety.org/event/balance-and-agility-for-active-seniors/2025-05-21/
LOCATION:Lake Lodge Upper Level
END:VEVENT
BEGIN:VEVENT
DTSTART;TZID=America/New_York:20250521T133000
DTEND;TZID=America/New_York:20250521T133000
DTSTAMP:20260425T120539
CREATED:20250501T194530Z
LAST-MODIFIED:20250501T200401Z
UID:10010956-1747834200-1747834200@hhsociety.org
SUMMARY:Society Board - Monthly Meeting
DESCRIPTION:All unit owners are welcome to attend the meeting in person.  It will be broadcast on Comcast’s channels 21 and 1070 while in progress and will be rebroadcast daily on those channels at 2 and 7 pm until the next meeting occurs.  It can also be viewed on the Society website at hhsociety.org; go to Heritage Hills Society\, then choose Board Meetings and Documents. \nOwners are welcome to raise matters of concern in person at the meeting.  Residents who cannot attend may send an email to society@hhsociety.org\, call (914) 276-2908\, or mail them to Society Board\, 8 Heritage Hills\, Somers\, NY 10589.  They will be discussed at the end of the meeting.  Provide your name and unit numbers on written correspondence.
URL:https://hhsociety.org/event/society-board-monthly-meeting-2/
LOCATION:Heritage Room
END:VEVENT
BEGIN:VEVENT
DTSTART;TZID=America/New_York:20250523T161500
DTEND;TZID=America/New_York:20250523T161500
DTSTAMP:20260425T120539
CREATED:20250507T132923Z
LAST-MODIFIED:20250507T132923Z
UID:10011018-1748016900-1748016900@hhsociety.org
SUMMARY:Environmental Club Book Discussion
DESCRIPTION:
URL:https://hhsociety.org/event/environmental-club-book-discussion/
LOCATION:Room 2/3
END:VEVENT
BEGIN:VEVENT
DTSTART;TZID=America/New_York:20250523T161500
DTEND;TZID=America/New_York:20250523T161500
DTSTAMP:20260425T120539
CREATED:20250507T143816Z
LAST-MODIFIED:20250507T143816Z
UID:10011578-1748016900-1748016900@hhsociety.org
SUMMARY:Environmental Club
DESCRIPTION:This Club’s primary objective is to foster a culture of environmental responsibility within Heritage Hills.  All are welcome\, including teens.  Watch for announcements and postings about special events and field trips.  No fee. \nFor more information\, contact Carrie Sears at carolynnsears@me.com or (914) 522-3111
URL:https://hhsociety.org/event/environmental-club-2-2/2025-05-23/
LOCATION:Room 2/3
END:VEVENT
BEGIN:VEVENT
DTSTART;TZID=America/New_York:20250523T183000
DTEND;TZID=America/New_York:20250523T183000
DTSTAMP:20260425T120539
CREATED:20250507T131426Z
LAST-MODIFIED:20250507T131426Z
UID:10011016-1748025000-1748025000@hhsociety.org
SUMMARY:Ciao Italia Members Only Pizza Night
DESCRIPTION:Members only – must submit flyer and payment by May 16th
URL:https://hhsociety.org/event/ciao-italia-members-only-pizza-night/
LOCATION:Heritage Room
END:VEVENT
BEGIN:VEVENT
DTSTART;TZID=America/New_York:20250524T093000
DTEND;TZID=America/New_York:20250524T093000
DTSTAMP:20260425T120539
CREATED:20250514T154954Z
LAST-MODIFIED:20250514T154954Z
UID:10012729-1748079000-1748079000@hhsociety.org
SUMMARY:Hikers & Walkers
DESCRIPTION:Ward Pound Ridge (B) – Lewisboro Town Park \nBarry Tuch – (516) 458-5321
URL:https://hhsociety.org/event/hikers-walkers-3/
LOCATION:Activities Parking Lot
END:VEVENT
BEGIN:VEVENT
DTSTART;TZID=America/New_York:20250525T093000
DTEND;TZID=America/New_York:20250525T093000
DTSTAMP:20260425T120539
CREATED:20250514T155237Z
LAST-MODIFIED:20250514T155237Z
UID:10012730-1748165400-1748165400@hhsociety.org
SUMMARY:Hikers & Walkers
DESCRIPTION:Goldens Bridge Trails (C) \nJane Smalley (914) 263-8146
URL:https://hhsociety.org/event/hikers-walkers-4/
LOCATION:Activities Parking Lot
END:VEVENT
BEGIN:VEVENT
DTSTART;TZID=America/New_York:20250527T133000
DTEND;TZID=America/New_York:20250527T133000
DTSTAMP:20260425T120539
CREATED:20250505T152706Z
LAST-MODIFIED:20250505T153842Z
UID:10011014-1748352600-1748352600@hhsociety.org
SUMMARY:Continuing Education - Protest Song: Then and Now
DESCRIPTION:A concert by Rod MacDonald Folk singer \nAdmission is $10 per event\, paid at the door. \nIf you have any questions\, call Ann at (914) 617-9434
URL:https://hhsociety.org/event/continuing-education-protest-song-then-and-now/2025-05-27/2/
LOCATION:Heritage Room
END:VEVENT
BEGIN:VEVENT
DTSTART;TZID=America/New_York:20250528T100000
DTEND;TZID=America/New_York:20250528T100000
DTSTAMP:20260425T120539
CREATED:20250507T135718Z
LAST-MODIFIED:20250507T135718Z
UID:10011075-1748426400-1748426400@hhsociety.org
SUMMARY:Crafters in the Hills
DESCRIPTION:For More Information email craftclubhh@gmail.com
URL:https://hhsociety.org/event/crafters-in-the-hills/2025-05-28/
LOCATION:Art Room B
END:VEVENT
BEGIN:VEVENT
DTSTART;TZID=America/New_York:20250528T133000
DTEND;TZID=America/New_York:20250528T143000
DTSTAMP:20260425T120539
CREATED:20250507T131749Z
LAST-MODIFIED:20250507T131749Z
UID:10011017-1748439000-1748442600@hhsociety.org
SUMMARY:Gardening And Your Well Being
DESCRIPTION:Health & Safety Committee and Garden Club Co-Sponsored event. \nSpeaker: Carolyn Ramsey\, Master Gardener Volunteer\, Westchester County Cornell Cooperative Extension
URL:https://hhsociety.org/event/gardening-and-your-well-being/
LOCATION:Heritage Room
END:VEVENT
BEGIN:VEVENT
DTSTART;TZID=America/New_York:20250528T180000
DTEND;TZID=America/New_York:20250528T180000
DTSTAMP:20260425T120539
CREATED:20250507T135901Z
LAST-MODIFIED:20250507T135901Z
UID:10011135-1748455200-1748455200@hhsociety.org
SUMMARY:Crafters in the Hills
DESCRIPTION:For information and to register email: craftclubhh@gmail.com
URL:https://hhsociety.org/event/crafters-in-the-hills-2-2/2025-05-28/
LOCATION:Art Room B
END:VEVENT
END:VCALENDAR