BEGIN:VCALENDAR
VERSION:2.0
PRODID:-//Heritage Hills Society - ECPv6.15.20//NONSGML v1.0//EN
CALSCALE:GREGORIAN
METHOD:PUBLISH
X-WR-CALNAME:Heritage Hills Society
X-ORIGINAL-URL:https://hhsociety.org
X-WR-CALDESC:Events for Heritage Hills Society
REFRESH-INTERVAL;VALUE=DURATION:PT1H
X-Robots-Tag:noindex
X-PUBLISHED-TTL:PT1H
BEGIN:VTIMEZONE
TZID:America/New_York
BEGIN:DAYLIGHT
TZOFFSETFROM:-0500
TZOFFSETTO:-0400
TZNAME:EDT
DTSTART:20240310T070000
END:DAYLIGHT
BEGIN:STANDARD
TZOFFSETFROM:-0400
TZOFFSETTO:-0500
TZNAME:EST
DTSTART:20241103T060000
END:STANDARD
BEGIN:DAYLIGHT
TZOFFSETFROM:-0500
TZOFFSETTO:-0400
TZNAME:EDT
DTSTART:20250309T070000
END:DAYLIGHT
BEGIN:STANDARD
TZOFFSETFROM:-0400
TZOFFSETTO:-0500
TZNAME:EST
DTSTART:20251102T060000
END:STANDARD
BEGIN:DAYLIGHT
TZOFFSETFROM:-0500
TZOFFSETTO:-0400
TZNAME:EDT
DTSTART:20260308T070000
END:DAYLIGHT
BEGIN:STANDARD
TZOFFSETFROM:-0400
TZOFFSETTO:-0500
TZNAME:EST
DTSTART:20261101T060000
END:STANDARD
END:VTIMEZONE
BEGIN:VEVENT
DTSTART;TZID=America/New_York:20251022T100000
DTEND;TZID=America/New_York:20251022T100000
DTSTAMP:20260424T183901
CREATED:20250507T135718Z
LAST-MODIFIED:20250507T135718Z
UID:10011080-1761127200-1761127200@hhsociety.org
SUMMARY:Crafters in the Hills
DESCRIPTION:For More Information email craftclubhh@gmail.com
URL:https://hhsociety.org/event/crafters-in-the-hills/2025-10-22/
LOCATION:Art Room B
END:VEVENT
BEGIN:VEVENT
DTSTART;TZID=America/New_York:20251022T133000
DTEND;TZID=America/New_York:20251022T133000
DTSTAMP:20260424T183901
CREATED:20250702T155219Z
LAST-MODIFIED:20250702T155219Z
UID:10013227-1761139800-1761139800@hhsociety.org
SUMMARY:Society Board Meeting
DESCRIPTION:All unit owners are welcome to attend the meeting in person.  It will be broadcast on Comcast’s channels 21 and 1070 while in progress and will be rebroadcast daily on those channels at 2:00pm and 7:00pm until the next meeting occurs.  It can also be viewed on the Society website at hhsociety.org; go to Heritage Hills Society\, then choose Board Meetings & Documents. \nOwners are welcome to raise matters of concern in person at the meeting.  Residents who cannot attend may send an email to society@hhsociety.org\, call (914) 276-2908\, or mail them to Society Board\, 8 Heritage Hills\, Somers\, NY 10589.  They will be discussed at the end of the meeting. \nProvide your name and unit number on written correspondence.
URL:https://hhsociety.org/event/society-board-meeting-3/2025-10-22/
LOCATION:Heritage Room
END:VEVENT
BEGIN:VEVENT
DTSTART;TZID=America/New_York:20251022T133000
DTEND;TZID=America/New_York:20251022T133000
DTSTAMP:20260424T183901
CREATED:20251001T155937Z
LAST-MODIFIED:20251001T155937Z
UID:10013343-1761139800-1761139800@hhsociety.org
SUMMARY:Society Board Monthly Meeting
DESCRIPTION:
URL:https://hhsociety.org/event/society-board-monthly-meeting-4/
LOCATION:Heritage Room
END:VEVENT
BEGIN:VEVENT
DTSTART;TZID=America/New_York:20251022T180000
DTEND;TZID=America/New_York:20251022T180000
DTSTAMP:20260424T183901
CREATED:20250507T135901Z
LAST-MODIFIED:20250507T135901Z
UID:10011140-1761156000-1761156000@hhsociety.org
SUMMARY:Crafters in the Hills
DESCRIPTION:For information and to register email: craftclubhh@gmail.com
URL:https://hhsociety.org/event/crafters-in-the-hills-2-2/2025-10-22/
LOCATION:Art Room B
END:VEVENT
BEGIN:VEVENT
DTSTART;TZID=America/New_York:20251022T180000
DTEND;TZID=America/New_York:20251022T200000
DTSTAMP:20260424T183901
CREATED:20250701T195059Z
LAST-MODIFIED:20250701T195059Z
UID:10013154-1761156000-1761163200@hhsociety.org
SUMMARY:Crafters in the Hills
DESCRIPTION:Each week we explore new crafts or work on current projects.  The Monthly crafts are open to club members first\, and when space is available\, we open the session up to non-members. Some crafting sessions are free (you supply your own materials)\, and other sessions have a fee based on materials.  For more information and to register\, email craftclubhh@gmail.com
URL:https://hhsociety.org/event/crafters-in-the-hills-2-4/2025-10-22/
LOCATION:Room B
END:VEVENT
BEGIN:VEVENT
DTSTART;TZID=America/New_York:20251023T133000
DTEND;TZID=America/New_York:20251023T133000
DTSTAMP:20260424T183901
CREATED:20250930T204429Z
LAST-MODIFIED:20250930T204429Z
UID:10013329-1761226200-1761226200@hhsociety.org
SUMMARY:Health & Safety Committee
DESCRIPTION:What is Acupuncture?
URL:https://hhsociety.org/event/health-safety-committee-4/
LOCATION:Game Room
END:VEVENT
BEGIN:VEVENT
DTSTART;TZID=America/New_York:20251024T110000
DTEND;TZID=America/New_York:20251024T110000
DTSTAMP:20260424T183901
CREATED:20241023T181829Z
LAST-MODIFIED:20241023T181829Z
UID:10005212-1761303600-1761303600@hhsociety.org
SUMMARY:French Conversation
DESCRIPTION:Meets the 2nd and 4th Friday of the month at Lake Lodge in Room 1\nfrom 11 am to noon. Members should have a basic knowledge of French conversation but need not be\nfluent. Refresh your French language skills and laugh and learn with us. If you have any questions\, call\nCarole Ellis 914-260-9182 or email her at carellis14@yahoo.com.
URL:https://hhsociety.org/event/french-conversation/2025-10-24/
LOCATION:Lake Lodge Room 1
END:VEVENT
BEGIN:VEVENT
DTSTART;TZID=America/New_York:20251024T130000
DTEND;TZID=America/New_York:20251024T130000
DTSTAMP:20260424T183901
CREATED:20251001T160119Z
LAST-MODIFIED:20251001T160119Z
UID:10013344-1761310800-1761310800@hhsociety.org
SUMMARY:Independent and Foreign Film Club
DESCRIPTION:The Duke – United Kingdom\, 90 Minutes\, 2020
URL:https://hhsociety.org/event/independent-and-foreign-film-club-4/
LOCATION:Heritage Room
END:VEVENT
BEGIN:VEVENT
DTSTART;TZID=America/New_York:20251024T161500
DTEND;TZID=America/New_York:20251024T161500
DTSTAMP:20260424T183901
CREATED:20250507T143816Z
LAST-MODIFIED:20250507T143816Z
UID:10011583-1761322500-1761322500@hhsociety.org
SUMMARY:Environmental Club
DESCRIPTION:This Club’s primary objective is to foster a culture of environmental responsibility within Heritage Hills.  All are welcome\, including teens.  Watch for announcements and postings about special events and field trips.  No fee. \nFor more information\, contact Carrie Sears at carolynnsears@me.com or (914) 522-3111
URL:https://hhsociety.org/event/environmental-club-2-2/2025-10-24/
LOCATION:Room 2/3
END:VEVENT
BEGIN:VEVENT
DTSTART;TZID=America/New_York:20251024T163000
DTEND;TZID=America/New_York:20251024T163000
DTSTAMP:20260424T183901
CREATED:20251001T155505Z
LAST-MODIFIED:20251001T155505Z
UID:10013340-1761323400-1761323400@hhsociety.org
SUMMARY:Environmental Club
DESCRIPTION:Plastics Are Everywhere\, Including In Our Brains.  How Do We Get Off Plastics?
URL:https://hhsociety.org/event/environmental-club-2-4/
LOCATION:Room 2/3
END:VEVENT
BEGIN:VEVENT
DTSTART;TZID=America/New_York:20251025T093000
DTEND;TZID=America/New_York:20251025T093000
DTSTAMP:20260424T183901
CREATED:20251001T145502Z
LAST-MODIFIED:20251001T145502Z
UID:10013337-1761384600-1761384600@hhsociety.org
SUMMARY:Hikers & Walkers
DESCRIPTION:Hardscrabble Wilderness Pleasantville – Rating B \nLeader Barry Tuch – (516) 458-5321
URL:https://hhsociety.org/event/hikers-walkers-21/
LOCATION:Activities Parking Lot
END:VEVENT
BEGIN:VEVENT
DTSTART;TZID=America/New_York:20251026T093000
DTEND;TZID=America/New_York:20251026T093000
DTSTAMP:20260424T183901
CREATED:20251001T145620Z
LAST-MODIFIED:20251001T145620Z
UID:10013338-1761471000-1761471000@hhsociety.org
SUMMARY:Hikers & Walkers
DESCRIPTION:Croton Lake Road Katonah Rating D \nLeader Kristie Repepi – (914) 275-7029
URL:https://hhsociety.org/event/hikers-walkers-22/
LOCATION:Activities Parking Lot
END:VEVENT
BEGIN:VEVENT
DTSTART;TZID=America/New_York:20251026T150000
DTEND;TZID=America/New_York:20251026T150000
DTSTAMP:20260424T183901
CREATED:20251001T161324Z
LAST-MODIFIED:20251001T161324Z
UID:10013346-1761490800-1761490800@hhsociety.org
SUMMARY:Concert Society
DESCRIPTION:Violinist Nathan Meltzer
URL:https://hhsociety.org/event/concert-society-2/
LOCATION:Heritage Room
END:VEVENT
BEGIN:VEVENT
DTSTART;TZID=America/New_York:20251028T133000
DTEND;TZID=America/New_York:20251028T133000
DTSTAMP:20260424T183901
CREATED:20250930T190239Z
LAST-MODIFIED:20250930T190239Z
UID:10013326-1761658200-1761658200@hhsociety.org
SUMMARY:Continuing Education
DESCRIPTION:A lecture by Christopher Malone\, PhD; Associate Provost & Professor of Political Science – SUNY Farmingdale \nTrump 2.0 and Reading Tea leaves in 2025 \n$10 admission paid at door \nCall Ann with questions (914) 617-9434
URL:https://hhsociety.org/event/continuing-education-12/2025-10-28/2/
LOCATION:Heritage Room
END:VEVENT
BEGIN:VEVENT
DTSTART;TZID=America/New_York:20251101T093000
DTEND;TZID=America/New_York:20251101T093000
DTSTAMP:20260424T183901
CREATED:20251031T150323Z
LAST-MODIFIED:20251031T150323Z
UID:10013347-1761989400-1761989400@hhsociety.org
SUMMARY:Hikers & Walkers
DESCRIPTION:Leader’s Choice – Barry Tuch (516) 458-5321 Rating B
URL:https://hhsociety.org/event/hikers-walkers-23/
LOCATION:Activities Parking Lot
END:VEVENT
BEGIN:VEVENT
DTSTART;TZID=America/New_York:20251102T093000
DTEND;TZID=America/New_York:20251102T093000
DTSTAMP:20260424T183901
CREATED:20251031T150827Z
LAST-MODIFIED:20251031T152850Z
UID:10013348-1762075800-1762075800@hhsociety.org
SUMMARY:Hikers & Walkers
DESCRIPTION:202 Spillway – Brewster  Rating D \nLeader: Kristie Ripepi (914) 275-7029 \n 
URL:https://hhsociety.org/event/hikers-walkers-24/
LOCATION:Activities Parking Lot
END:VEVENT
BEGIN:VEVENT
DTSTART;TZID=America/New_York:20251105T190000
DTEND;TZID=America/New_York:20251105T190000
DTSTAMP:20260424T183901
CREATED:20250514T144427Z
LAST-MODIFIED:20250514T144427Z
UID:10011903-1762369200-1762369200@hhsociety.org
SUMMARY:Energy Healing for Self\, Family\, Friends and Pets with Melanie Gambino
DESCRIPTION:Pre-registration required.  $20 per class \nFor more information and to reserve your place\, call\, text or email Melanie at (914) 588-2450 or melaniegambino1@gmail.com$20 per \n 
URL:https://hhsociety.org/event/energy-healing-for-self-family-friends-and-pets-with-melanie-gambino/2025-11-05/
LOCATION:Lake Lodge Room 3
END:VEVENT
BEGIN:VEVENT
DTSTART;TZID=America/New_York:20251106T110000
DTEND;TZID=America/New_York:20251106T110000
DTSTAMP:20260424T183901
CREATED:20241023T182146Z
LAST-MODIFIED:20241023T182146Z
UID:10005332-1762426800-1762426800@hhsociety.org
SUMMARY:Spanish Conversation
DESCRIPTION:Meets the 1st Thursday of the month in Lake Lodge’s\nRoom 1 at 11 am. Group is open to intermediate through fluent Spanish speakers. ¡Vengan!
URL:https://hhsociety.org/event/spanish-conversation/2025-11-06/
LOCATION:Lake Lodge Room 1
END:VEVENT
BEGIN:VEVENT
DTSTART;TZID=America/New_York:20251106T123000
DTEND;TZID=America/New_York:20251106T123000
DTSTAMP:20260424T183901
CREATED:20241029T175246Z
LAST-MODIFIED:20241029T175246Z
UID:10008381-1762432200-1762432200@hhsociety.org
SUMMARY:Alzheimer's/Dementia Caregivers Support Group
DESCRIPTION:Caring for someone with Alzheimer&#39;s/Dementia is\na difficult and painful challenge. A support group can help. Meetings take place the first Thursday of the\nmonth at 12:30 pm in Lake Lodge’s Room 1. Fee: $20 per session. Facilitated by Linda Ludwig\, Ph.D. To\nregister\, call 914-617-9328 or email ludwiglr@aol.com.
URL:https://hhsociety.org/event/alzheimers-dementia-caregivers-support-group-2/2025-11-06/
LOCATION:Lake Lodge Room 1
END:VEVENT
BEGIN:VEVENT
DTSTART;TZID=America/New_York:20251106T170000
DTEND;TZID=America/New_York:20251106T170000
DTSTAMP:20260424T183901
CREATED:20241029T181105Z
LAST-MODIFIED:20241029T181105Z
UID:10008702-1762448400-1762448400@hhsociety.org
SUMMARY:Rainbow Connection Club
DESCRIPTION:A group for LGBTQ members and their families\, friends\, and\nneighbors. All are welcome. We meet the first Thursday of each month at Lake Lodge from 5 to 7 pm.\nFor more information contact Joanne at 914-450-5609.
URL:https://hhsociety.org/event/rainbow-connection-club-2/2025-11-06/
LOCATION:Lake Lodge Room 3
END:VEVENT
BEGIN:VEVENT
DTSTART;TZID=America/New_York:20251107T150000
DTEND;TZID=America/New_York:20251107T150000
DTSTAMP:20260424T183901
CREATED:20250514T160458Z
LAST-MODIFIED:20250514T160458Z
UID:10012737-1762527600-1762527600@hhsociety.org
SUMMARY:Yacht Club ("HHYC")
DESCRIPTION:The HHYC is a fee-free social club of past and present water fans (swimmers\, boaters\, fishers\, cruisers\, surfers\, whatever). At our monthly pot luck “dock parties” on the first Friday of the month in the Lobby at Lake Lodge\, we share our experiences and plan future ones (theme parties\, day trips/activities\, or even cruises). For more information contact Susan at ciwhitestar@comcast.net or (914) 617-9228
URL:https://hhsociety.org/event/yacht-club-hhyc/2025-11-07/
LOCATION:Lake Lodge Lobby
END:VEVENT
BEGIN:VEVENT
DTSTART;TZID=America/New_York:20251107T180000
DTEND;TZID=America/New_York:20251107T200000
DTSTAMP:20260424T183901
CREATED:20250702T135118Z
LAST-MODIFIED:20250702T135118Z
UID:10013215-1762538400-1762545600@hhsociety.org
SUMMARY:Paint & Sip with Judika
DESCRIPTION:Fee is $40 per class. \nAll supplies included. \nContact Judika Lieberman to register at (914) 483-6750 or Judika266@gmail.com
URL:https://hhsociety.org/event/paint-sip-with-judika-5/2025-11-07/
LOCATION:Art Room A
END:VEVENT
BEGIN:VEVENT
DTSTART;TZID=America/New_York:20251107T190000
DTEND;TZID=America/New_York:20251107T190000
DTSTAMP:20260424T183901
CREATED:20241023T153853Z
LAST-MODIFIED:20241023T153853Z
UID:10000976-1762542000-1762542000@hhsociety.org
SUMMARY:Friday Night Social Dance
DESCRIPTION:The first Friday of every month from 7-10pm in the Activities Center’s Heritage Room.  $10 per person includes coffee and cake.  BYOB.  For more information\, call Angela Viscogliosi at (914) 393-8736
URL:https://hhsociety.org/event/friday-night-social-dance-2/2025-11-07/
LOCATION:Heritage Room
END:VEVENT
BEGIN:VEVENT
DTSTART;TZID=America/New_York:20251108T093000
DTEND;TZID=America/New_York:20251108T093000
DTSTAMP:20260424T183901
CREATED:20251031T153115Z
LAST-MODIFIED:20251031T153115Z
UID:10013349-1762594200-1762594200@hhsociety.org
SUMMARY:Hikers & Walkers
DESCRIPTION:Teatown Lake Reservation – Blinn Road \nRating B \nLeader Cheryl Hochenberg (516) 220-0965
URL:https://hhsociety.org/event/hikers-walkers-25/
LOCATION:Activities Parking Lot
END:VEVENT
BEGIN:VEVENT
DTSTART;TZID=America/New_York:20251109T093000
DTEND;TZID=America/New_York:20251109T093000
DTSTAMP:20260424T183901
CREATED:20251031T153254Z
LAST-MODIFIED:20251031T153254Z
UID:10013350-1762680600-1762680600@hhsociety.org
SUMMARY:Hikers & Walkers
DESCRIPTION:Lasdon Park & Trails Rating C \nLeader: Bette Heben (914) 424-1046
URL:https://hhsociety.org/event/hikers-walkers-26/
LOCATION:Activities Parking Lot
END:VEVENT
BEGIN:VEVENT
DTSTART;TZID=America/New_York:20251111T133000
DTEND;TZID=America/New_York:20251111T133000
DTSTAMP:20260424T183901
CREATED:20250930T191759Z
LAST-MODIFIED:20250930T191759Z
UID:10013327-1762867800-1762867800@hhsociety.org
SUMMARY:Continuing Education
DESCRIPTION:A lecture by Christopher Malone\, PhD; Associate Provost & Professor of Political Science – SUNY Farmingdale \nThe 2025 and 2026 Elections: Looking Back and Looking Forward \n$10 admission paid at door \nCall Ann with questions (914) 617-9434
URL:https://hhsociety.org/event/continuing-education-14/
LOCATION:Heritage Room
END:VEVENT
BEGIN:VEVENT
DTSTART;TZID=America/New_York:20251114T183000
DTEND;TZID=America/New_York:20251114T183000
DTSTAMP:20260424T183901
CREATED:20251103T145208Z
LAST-MODIFIED:20251103T145208Z
UID:10013358-1763145000-1763145000@hhsociety.org
SUMMARY:Ciao Italia
DESCRIPTION:Thanksgiving Gathering
URL:https://hhsociety.org/event/ciao-italia-2/
LOCATION:Heritage Room
END:VEVENT
BEGIN:VEVENT
DTSTART;TZID=America/New_York:20251115T093000
DTEND;TZID=America/New_York:20251115T093000
DTSTAMP:20260424T183901
CREATED:20251031T153448Z
LAST-MODIFIED:20251031T153448Z
UID:10013352-1763199000-1763199000@hhsociety.org
SUMMARY:Hikers & Walkers
DESCRIPTION:Wonder Lake State Park Holmes; Rating B \nLeader: Kelly Doherty (914) 715-8956
URL:https://hhsociety.org/event/hikers-walkers-27/2025-11-15/2/
LOCATION:Activities Parking Lot
END:VEVENT
BEGIN:VEVENT
DTSTART;TZID=America/New_York:20251116T093000
DTEND;TZID=America/New_York:20251116T093000
DTSTAMP:20260424T183901
CREATED:20251031T153626Z
LAST-MODIFIED:20251031T153626Z
UID:10013353-1763285400-1763285400@hhsociety.org
SUMMARY:Hikers & Walkers
DESCRIPTION:Mt. Holly Road – Rating D \nLeader: Kristie Ripepi (914) 275-7029
URL:https://hhsociety.org/event/hikers-walkers-29/
LOCATION:Activities Parking Lot
END:VEVENT
BEGIN:VEVENT
DTSTART;TZID=America/New_York:20251120T140000
DTEND;TZID=America/New_York:20251120T140000
DTSTAMP:20260424T183901
CREATED:20251103T154831Z
LAST-MODIFIED:20251103T154831Z
UID:10013359-1763647200-1763647200@hhsociety.org
SUMMARY:Free Concert!
DESCRIPTION:Co-Sponsored by Continuing Education and the Concert Society. \nPoiesis Quartet – Caramoor’s 2025-26 String Quartet-in-Residence
URL:https://hhsociety.org/event/free-concert/
LOCATION:Lake Lodge Room 3
END:VEVENT
END:VCALENDAR