BEGIN:VCALENDAR
VERSION:2.0
PRODID:-//Heritage Hills Society - ECPv6.15.20//NONSGML v1.0//EN
CALSCALE:GREGORIAN
METHOD:PUBLISH
X-ORIGINAL-URL:https://hhsociety.org
X-WR-CALDESC:Events for Heritage Hills Society
REFRESH-INTERVAL;VALUE=DURATION:PT1H
X-Robots-Tag:noindex
X-PUBLISHED-TTL:PT1H
BEGIN:VTIMEZONE
TZID:America/New_York
BEGIN:DAYLIGHT
TZOFFSETFROM:-0500
TZOFFSETTO:-0400
TZNAME:EDT
DTSTART:20240310T070000
END:DAYLIGHT
BEGIN:STANDARD
TZOFFSETFROM:-0400
TZOFFSETTO:-0500
TZNAME:EST
DTSTART:20241103T060000
END:STANDARD
BEGIN:DAYLIGHT
TZOFFSETFROM:-0500
TZOFFSETTO:-0400
TZNAME:EDT
DTSTART:20250309T070000
END:DAYLIGHT
BEGIN:STANDARD
TZOFFSETFROM:-0400
TZOFFSETTO:-0500
TZNAME:EST
DTSTART:20251102T060000
END:STANDARD
BEGIN:DAYLIGHT
TZOFFSETFROM:-0500
TZOFFSETTO:-0400
TZNAME:EDT
DTSTART:20260308T070000
END:DAYLIGHT
BEGIN:STANDARD
TZOFFSETFROM:-0400
TZOFFSETTO:-0500
TZNAME:EST
DTSTART:20261101T060000
END:STANDARD
END:VTIMEZONE
BEGIN:VEVENT
DTSTART;TZID=America/New_York:20250725T110000
DTEND;TZID=America/New_York:20250725T110000
DTSTAMP:20260425T001707
CREATED:20241023T181829Z
LAST-MODIFIED:20241023T181829Z
UID:10005209-1753441200-1753441200@hhsociety.org
SUMMARY:French Conversation
DESCRIPTION:Meets the 2nd and 4th Friday of the month at Lake Lodge in Room 1\nfrom 11 am to noon. Members should have a basic knowledge of French conversation but need not be\nfluent. Refresh your French language skills and laugh and learn with us. If you have any questions\, call\nCarole Ellis 914-260-9182 or email her at carellis14@yahoo.com.
URL:https://hhsociety.org/event/french-conversation/2025-07-25/
LOCATION:Lake Lodge Room 1
END:VEVENT
BEGIN:VEVENT
DTSTART;TZID=America/New_York:20250725T133000
DTEND;TZID=America/New_York:20250725T133000
DTSTAMP:20260425T001707
CREATED:20250702T155623Z
LAST-MODIFIED:20250702T155623Z
UID:10013230-1753450200-1753450200@hhsociety.org
SUMMARY:Health & Safety Committee - Oh\, My Aching Hands
DESCRIPTION:If you often say “Oh\, my aching hands”\, come hear Dr. Michael Fitzgerald\, an orthopedic hand surgeon from Northwell\, discuss various hand ailments\, the causes\, and treatments.
URL:https://hhsociety.org/event/health-safety-committee-oh-my-aching-hands/
LOCATION:Heritage Room
END:VEVENT
BEGIN:VEVENT
DTSTART;TZID=America/New_York:20250725T140000
DTEND;TZID=America/New_York:20250725T153000
DTSTAMP:20260425T001707
CREATED:20250702T142737Z
LAST-MODIFIED:20250702T142737Z
UID:10013222-1753452000-1753457400@hhsociety.org
SUMMARY:Photo Club
DESCRIPTION:Critique and Review of Workshop Attendees’ Photos \nAll residents are welcome\, but space is limited\, and you must sign up 5 days before the workshop. Sign-up sheets are outside the Activities Office. $5 for members\, $10 for non-members \nFor more information\, contact Linda Carpentieri at lindacarp16@gmail.com or (914) 227-3854 or Bill Ablondi at ablondi@marketmaps.net or (203) 984-2955.
URL:https://hhsociety.org/event/photo-club-5/
LOCATION:Game Room
END:VEVENT
BEGIN:VEVENT
DTSTART;TZID=America/New_York:20250725T161500
DTEND;TZID=America/New_York:20250725T161500
DTSTAMP:20260425T001707
CREATED:20250507T143816Z
LAST-MODIFIED:20250507T143816Z
UID:10011580-1753460100-1753460100@hhsociety.org
SUMMARY:Environmental Club
DESCRIPTION:This Club’s primary objective is to foster a culture of environmental responsibility within Heritage Hills.  All are welcome\, including teens.  Watch for announcements and postings about special events and field trips.  No fee. \nFor more information\, contact Carrie Sears at carolynnsears@me.com or (914) 522-3111
URL:https://hhsociety.org/event/environmental-club-2-2/2025-07-25/
LOCATION:Room 2/3
END:VEVENT
BEGIN:VEVENT
DTSTART;TZID=America/New_York:20250730T173000
DTEND;TZID=America/New_York:20250730T190000
DTSTAMP:20260425T001707
CREATED:20250725T183256Z
LAST-MODIFIED:20250725T183256Z
UID:10013292-1753896600-1753902000@hhsociety.org
SUMMARY:Pickleball Whirl
DESCRIPTION:Pickleball Whirl – for 3.0 players and lower! \nThe first 16 players go on the courts.  The balance put their paddles in the holder. The whirl:  game winners stay on the court\, and split up\, and the next two players from the paddler holder join them! Once you’ve played twice – win or lose – you come off the courts and put your paddle in the paddle holder. This will switch out players via rotation and encourages teamwork with different partners!
URL:https://hhsociety.org/event/pickleball-whirl/
LOCATION:Pickleball Courts
END:VEVENT
BEGIN:VEVENT
DTSTART;TZID=America/New_York:20250731T173000
DTEND;TZID=America/New_York:20250731T190000
DTSTAMP:20260425T001707
CREATED:20250701T191730Z
LAST-MODIFIED:20250701T191730Z
UID:10012887-1753983000-1753988400@hhsociety.org
SUMMARY:Pickleball - ACES - Intermediate
DESCRIPTION:–competitive leveled play to see who is the winner on the Ace court! \nAll the sign ups will be on team reach. \nPeople need to email us so we can give them the team reach info once they’ve provided us with their resident info. \nOur email is PickleballHH@outlook.com
URL:https://hhsociety.org/event/pickleball-aces-intermediate/
LOCATION:Pickleball Courts
END:VEVENT
BEGIN:VEVENT
DTSTART;TZID=America/New_York:20250801T150000
DTEND;TZID=America/New_York:20250801T150000
DTSTAMP:20260425T001707
CREATED:20250514T160458Z
LAST-MODIFIED:20250514T160458Z
UID:10012734-1754060400-1754060400@hhsociety.org
SUMMARY:Yacht Club ("HHYC")
DESCRIPTION:The HHYC is a fee-free social club of past and present water fans (swimmers\, boaters\, fishers\, cruisers\, surfers\, whatever). At our monthly pot luck “dock parties” on the first Friday of the month in the Lobby at Lake Lodge\, we share our experiences and plan future ones (theme parties\, day trips/activities\, or even cruises). For more information contact Susan at ciwhitestar@comcast.net or (914) 617-9228
URL:https://hhsociety.org/event/yacht-club-hhyc/2025-08-01/
LOCATION:Lake Lodge Lobby
END:VEVENT
BEGIN:VEVENT
DTSTART;TZID=America/New_York:20250801T190000
DTEND;TZID=America/New_York:20250801T190000
DTSTAMP:20260425T001707
CREATED:20241023T153853Z
LAST-MODIFIED:20241023T153853Z
UID:10000973-1754074800-1754074800@hhsociety.org
SUMMARY:Friday Night Social Dance
DESCRIPTION:The first Friday of every month from 7-10pm in the Activities Center’s Heritage Room.  $10 per person includes coffee and cake.  BYOB.  For more information\, call Angela Viscogliosi at (914) 393-8736
URL:https://hhsociety.org/event/friday-night-social-dance-2/2025-08-01/
LOCATION:Heritage Room
END:VEVENT
BEGIN:VEVENT
DTSTART;TZID=America/New_York:20250805T133000
DTEND;TZID=America/New_York:20250805T133000
DTSTAMP:20260425T001707
CREATED:20250702T160245Z
LAST-MODIFIED:20250702T160245Z
UID:10013231-1754400600-1754400600@hhsociety.org
SUMMARY:Health & Safety Committee - Savor the Summer
DESCRIPTION:A free plant based cooking demonstration. \nThe Committee continues our highlight on nutrition at this demonstration where you will elevate your summer menu with fresh\, plant-based inspiration!  Amy Rosenfeld\, Registered Dietician\, Senior Manager on the Northwell/Northern Westchester Hospital’s Community Health Team\, offers a dynamic cooking demonstration to discover simple yet delicious plant-based recipes perfect for warm-weather dining. \nLimited to 10 participants.  Preregister\, only by email\, at flo613@comcast.net
URL:https://hhsociety.org/event/health-safety-committee-savor-the-summer/
LOCATION:Activities Center Kitchen
END:VEVENT
BEGIN:VEVENT
DTSTART;TZID=America/New_York:20250805T140000
DTEND;TZID=America/New_York:20250805T140000
DTSTAMP:20260425T001707
CREATED:20241023T182339Z
LAST-MODIFIED:20241023T182339Z
UID:10005389-1754402400-1754402400@hhsociety.org
SUMMARY:Contemporary Fiction Book Club
DESCRIPTION:Openings are available for residents interested in\njoining The Contemporary Fiction Book Club. The club meets on the first Tuesday of each month\nfrom 2:00-3:30. Contact Myra Hopper at 520 390-5523 or myrahopper@gmail.com.
URL:https://hhsociety.org/event/contemporary-fiction-book-club-2/2025-08-05/
LOCATION:Game Room
END:VEVENT
BEGIN:VEVENT
DTSTART;TZID=America/New_York:20250806T190000
DTEND;TZID=America/New_York:20250806T190000
DTSTAMP:20260425T001707
CREATED:20250514T144427Z
LAST-MODIFIED:20250514T144427Z
UID:10011900-1754506800-1754506800@hhsociety.org
SUMMARY:Energy Healing for Self\, Family\, Friends and Pets with Melanie Gambino
DESCRIPTION:Pre-registration required.  $20 per class \nFor more information and to reserve your place\, call\, text or email Melanie at (914) 588-2450 or melaniegambino1@gmail.com$20 per \n 
URL:https://hhsociety.org/event/energy-healing-for-self-family-friends-and-pets-with-melanie-gambino/2025-08-06/
LOCATION:Lake Lodge Room 3
END:VEVENT
BEGIN:VEVENT
DTSTART;TZID=America/New_York:20250807T110000
DTEND;TZID=America/New_York:20250807T110000
DTSTAMP:20260425T001707
CREATED:20241023T182146Z
LAST-MODIFIED:20241023T182146Z
UID:10005329-1754564400-1754564400@hhsociety.org
SUMMARY:Spanish Conversation
DESCRIPTION:Meets the 1st Thursday of the month in Lake Lodge’s\nRoom 1 at 11 am. Group is open to intermediate through fluent Spanish speakers. ¡Vengan!
URL:https://hhsociety.org/event/spanish-conversation/2025-08-07/
LOCATION:Lake Lodge Room 1
END:VEVENT
BEGIN:VEVENT
DTSTART;TZID=America/New_York:20250807T123000
DTEND;TZID=America/New_York:20250807T123000
DTSTAMP:20260425T001707
CREATED:20241029T175246Z
LAST-MODIFIED:20241029T175246Z
UID:10008378-1754569800-1754569800@hhsociety.org
SUMMARY:Alzheimer's/Dementia Caregivers Support Group
DESCRIPTION:Caring for someone with Alzheimer&#39;s/Dementia is\na difficult and painful challenge. A support group can help. Meetings take place the first Thursday of the\nmonth at 12:30 pm in Lake Lodge’s Room 1. Fee: $20 per session. Facilitated by Linda Ludwig\, Ph.D. To\nregister\, call 914-617-9328 or email ludwiglr@aol.com.
URL:https://hhsociety.org/event/alzheimers-dementia-caregivers-support-group-2/2025-08-07/
LOCATION:Lake Lodge Room 1
END:VEVENT
BEGIN:VEVENT
DTSTART;TZID=America/New_York:20250807T170000
DTEND;TZID=America/New_York:20250807T170000
DTSTAMP:20260425T001707
CREATED:20241029T181105Z
LAST-MODIFIED:20241029T181105Z
UID:10008699-1754586000-1754586000@hhsociety.org
SUMMARY:Rainbow Connection Club
DESCRIPTION:A group for LGBTQ members and their families\, friends\, and\nneighbors. All are welcome. We meet the first Thursday of each month at Lake Lodge from 5 to 7 pm.\nFor more information contact Joanne at 914-450-5609.
URL:https://hhsociety.org/event/rainbow-connection-club-2/2025-08-07/
LOCATION:Lake Lodge Room 3
END:VEVENT
BEGIN:VEVENT
DTSTART;TZID=America/New_York:20250807T170000
DTEND;TZID=America/New_York:20250807T193000
DTSTAMP:20260425T001707
CREATED:20250702T141459Z
LAST-MODIFIED:20250702T141459Z
UID:10013219-1754586000-1754595000@hhsociety.org
SUMMARY:The Big Fez - Free Concert
DESCRIPTION:Free Concert. \nFood Trucks will be available
URL:https://hhsociety.org/event/the-big-fez-free-concert/
LOCATION:Meadowlark Park
END:VEVENT
BEGIN:VEVENT
DTSTART;TZID=America/New_York:20250810T190000
DTEND;TZID=America/New_York:20250810T190000
DTSTAMP:20260425T001707
CREATED:20250804T143230Z
LAST-MODIFIED:20250804T143230Z
UID:10013293-1754852400-1754852400@hhsociety.org
SUMMARY:Independent and Foreign Film Club
DESCRIPTION:Whale Rider – New Zealand\, 101 minutes\, 2022
URL:https://hhsociety.org/event/independent-and-foreign-film-club-3/
LOCATION:Heritage Room
END:VEVENT
BEGIN:VEVENT
DTSTART;TZID=America/New_York:20250818T133000
DTEND;TZID=America/New_York:20250818T133000
DTSTAMP:20260425T001707
CREATED:20250804T144401Z
LAST-MODIFIED:20250804T144433Z
UID:10013295-1755523800-1755523800@hhsociety.org
SUMMARY:Health & Safety Committee - Pelvic Floor Health Challenges & Treatments
DESCRIPTION:Member Rosemary Glassman hosts this important program\, given by a physical therapist who specializes in pelvic floor dysfunctions.
URL:https://hhsociety.org/event/health-safety-committee-pelvic-floor-health-challenges-treatments/
LOCATION:Room 2/3
END:VEVENT
BEGIN:VEVENT
DTSTART;TZID=America/New_York:20250823T190000
DTEND;TZID=America/New_York:20250823T190000
DTSTAMP:20260425T001707
CREATED:20250804T143443Z
LAST-MODIFIED:20250804T143443Z
UID:10013294-1755975600-1755975600@hhsociety.org
SUMMARY:Club Shalom - Irving Berlin Songbook with Peter Muir
DESCRIPTION:
URL:https://hhsociety.org/event/club-shalom-irving-berlin-songbook-with-peter-muir/
LOCATION:Heritage Room
END:VEVENT
BEGIN:VEVENT
DTSTART;TZID=America/New_York:20250824T140000
DTEND;TZID=America/New_York:20250824T153000
DTSTAMP:20260425T001707
CREATED:20250804T145055Z
LAST-MODIFIED:20250804T145055Z
UID:10013296-1756044000-1756049400@hhsociety.org
SUMMARY:Welcome to Heritage Hills Event
DESCRIPTION:All newcomers and residents are invited to this informational event where you can meet Society and Condo Board members.  You will learn about our many activities and social events that might interest you. Representatives of Clubs and Activities will be present to showcase and answer questions.  Heritage Hills maps and brochures will be available.
URL:https://hhsociety.org/event/welcome-to-heritage-hills-event/
LOCATION:Heritage Room
END:VEVENT
BEGIN:VEVENT
DTSTART;TZID=America/New_York:20250901T100000
DTEND;TZID=America/New_York:20250901T100000
DTSTAMP:20260425T001707
CREATED:20250701T191943Z
LAST-MODIFIED:20250701T191943Z
UID:10012888-1756720800-1756720800@hhsociety.org
SUMMARY:Pickleball - Labor Day Group Photo
DESCRIPTION:All the sign ups will be on team reach. \nPeople need to email us so we can give them the team reach info once they’ve provided us with their resident info. \nOur email is PickleballHH@outlook.com
URL:https://hhsociety.org/event/pickleball-labor-day-group-photo/
LOCATION:Pickleball Courts
END:VEVENT
BEGIN:VEVENT
DTSTART;TZID=America/New_York:20250906T093000
DTEND;TZID=America/New_York:20250906T093000
DTSTAMP:20260425T001707
CREATED:20250829T134907Z
LAST-MODIFIED:20250829T134907Z
UID:10013308-1757151000-1757151000@hhsociety.org
SUMMARY:Hikers & Walkers
DESCRIPTION:Meyer Preserve – Armonk \nLeader Misha Lef (914) 272-5601 \nRating B
URL:https://hhsociety.org/event/hikers-walkers-12/
LOCATION:Activities Parking Lot
END:VEVENT
BEGIN:VEVENT
DTSTART;TZID=America/New_York:20250906T190000
DTEND;TZID=America/New_York:20250906T190000
DTSTAMP:20260425T001707
CREATED:20250804T163633Z
LAST-MODIFIED:20250804T163633Z
UID:10013300-1757185200-1757185200@hhsociety.org
SUMMARY:Club Shalom - In The Tradition of Houdini
DESCRIPTION:
URL:https://hhsociety.org/event/club-shalom-in-the-tradition-of-houdini/
LOCATION:Heritage Room
END:VEVENT
BEGIN:VEVENT
DTSTART;TZID=America/New_York:20250907T093000
DTEND;TZID=America/New_York:20250907T093000
DTSTAMP:20260425T001707
CREATED:20250829T135039Z
LAST-MODIFIED:20250829T135039Z
UID:10013309-1757237400-1757237400@hhsociety.org
SUMMARY:Hikers & Walkers
DESCRIPTION:Pepsico Sculpture Garden – Purchase \nLeader Kristie Ripepi (914) 275-7029 \nRating D
URL:https://hhsociety.org/event/hikers-walkers-13/
LOCATION:Activities Parking Lot
END:VEVENT
BEGIN:VEVENT
DTSTART;TZID=America/New_York:20250907T150000
DTEND;TZID=America/New_York:20250907T150000
DTSTAMP:20260425T001707
CREATED:20250804T163827Z
LAST-MODIFIED:20250804T163827Z
UID:10013301-1757257200-1757257200@hhsociety.org
SUMMARY:Concert Society - Cellist Raman Ramakrishnan accompanied by Pianist Helen Huang
DESCRIPTION:
URL:https://hhsociety.org/event/concert-society-cellist-raman-ramakrishnan-accompanied-by-pianist-helen-huang/
LOCATION:Heritage Room
END:VEVENT
BEGIN:VEVENT
DTSTART;TZID=America/New_York:20250908T190000
DTEND;TZID=America/New_York:20250908T210000
DTSTAMP:20260425T001707
CREATED:20250804T165446Z
LAST-MODIFIED:20250804T165446Z
UID:10013302-1757358000-1757365200@hhsociety.org
SUMMARY:Community Theatre
DESCRIPTION:Cabaret Auditions
URL:https://hhsociety.org/event/community-theatre-2/
LOCATION:Heritage Room
END:VEVENT
BEGIN:VEVENT
DTSTART;TZID=America/New_York:20250909T133000
DTEND;TZID=America/New_York:20250909T133000
DTSTAMP:20260425T001707
CREATED:20250806T132541Z
LAST-MODIFIED:20250806T132541Z
UID:10013304-1757424600-1757424600@hhsociety.org
SUMMARY:Continuing Education
DESCRIPTION:The Newspapers That Made New York \nA lecture by Dr. Thorin Tritter\, former history professor at Princeton University and expert in the United States and New York City History.
URL:https://hhsociety.org/event/continuing-education-6/
LOCATION:Heritage Room
END:VEVENT
BEGIN:VEVENT
DTSTART;TZID=America/New_York:20250909T190000
DTEND;TZID=America/New_York:20250909T210000
DTSTAMP:20260425T001707
CREATED:20250804T165604Z
LAST-MODIFIED:20250804T165604Z
UID:10013303-1757444400-1757451600@hhsociety.org
SUMMARY:Community Theatre
DESCRIPTION:Cabaret Auditions
URL:https://hhsociety.org/event/community-theatre-3/
LOCATION:Heritage Room
END:VEVENT
BEGIN:VEVENT
DTSTART;TZID=America/New_York:20250910T133000
DTEND;TZID=America/New_York:20250910T133000
DTSTAMP:20260425T001707
CREATED:20250829T144343Z
LAST-MODIFIED:20250829T144343Z
UID:10013318-1757511000-1757511000@hhsociety.org
SUMMARY:Women's Club
DESCRIPTION:Blue Path Service Dogs\, Inc. Presentation
URL:https://hhsociety.org/event/womens-club-2/
LOCATION:Lake Lodge Room 3
END:VEVENT
BEGIN:VEVENT
DTSTART;TZID=America/New_York:20250913T093000
DTEND;TZID=America/New_York:20250913T093000
DTSTAMP:20260425T001707
CREATED:20250829T135418Z
LAST-MODIFIED:20250829T135418Z
UID:10013310-1757755800-1757755800@hhsociety.org
SUMMARY:Hikers & Walkers
DESCRIPTION:Muscoot River Trails – Somers \nLeader Jane Smalley – (914) 263-8146 \nRating B
URL:https://hhsociety.org/event/hikers-walkers-14/
LOCATION:Activities Parking Lot
END:VEVENT
BEGIN:VEVENT
DTSTART;TZID=America/New_York:20250913T100000
DTEND;TZID=America/New_York:20250913T160000
DTSTAMP:20260425T001707
CREATED:20250804T163358Z
LAST-MODIFIED:20250804T163358Z
UID:10013298-1757757600-1757779200@hhsociety.org
SUMMARY:Resident Art Show
DESCRIPTION:
URL:https://hhsociety.org/event/resident-art-show/
LOCATION:Heritage Room
END:VEVENT
END:VCALENDAR