BEGIN:VCALENDAR
VERSION:2.0
PRODID:-//Heritage Hills Society - ECPv6.15.20//NONSGML v1.0//EN
CALSCALE:GREGORIAN
METHOD:PUBLISH
X-ORIGINAL-URL:https://hhsociety.org
X-WR-CALDESC:Events for Heritage Hills Society
REFRESH-INTERVAL;VALUE=DURATION:PT1H
X-Robots-Tag:noindex
X-PUBLISHED-TTL:PT1H
BEGIN:VTIMEZONE
TZID:America/New_York
BEGIN:DAYLIGHT
TZOFFSETFROM:-0500
TZOFFSETTO:-0400
TZNAME:EDT
DTSTART:20250309T070000
END:DAYLIGHT
BEGIN:STANDARD
TZOFFSETFROM:-0400
TZOFFSETTO:-0500
TZNAME:EST
DTSTART:20251102T060000
END:STANDARD
BEGIN:DAYLIGHT
TZOFFSETFROM:-0500
TZOFFSETTO:-0400
TZNAME:EDT
DTSTART:20260308T070000
END:DAYLIGHT
BEGIN:STANDARD
TZOFFSETFROM:-0400
TZOFFSETTO:-0500
TZNAME:EST
DTSTART:20261101T060000
END:STANDARD
BEGIN:DAYLIGHT
TZOFFSETFROM:-0500
TZOFFSETTO:-0400
TZNAME:EDT
DTSTART:20270314T070000
END:DAYLIGHT
BEGIN:STANDARD
TZOFFSETFROM:-0400
TZOFFSETTO:-0500
TZNAME:EST
DTSTART:20271107T060000
END:STANDARD
END:VTIMEZONE
BEGIN:VEVENT
DTSTART;TZID=America/New_York:20260508T150000
DTEND;TZID=America/New_York:20260508T150000
DTSTAMP:20260423T211724
CREATED:20250507T143510Z
LAST-MODIFIED:20251202T162235Z
UID:10013378-1778252400-1778252400@hhsociety.org
SUMMARY:Environmental Club
DESCRIPTION:This Club’s primary objective is to foster a culture of environmental responsibility within Heritage Hills.  All are welcome\, including teens.  Watch for announcements and postings about special events and field trips.  No fee. \nFor more information contact Carrie Sears at carolynnsears@me.com  or (914) 522-3111
URL:https://hhsociety.org/event/environmental-club/2026-05-08/
LOCATION:Room 2/3
END:VEVENT
BEGIN:VEVENT
DTSTART;TZID=America/New_York:20260514T123000
DTEND;TZID=America/New_York:20260514T123000
DTSTAMP:20260423T211724
CREATED:20241113T161414Z
LAST-MODIFIED:20241113T161414Z
UID:10009791-1778761800-1778761800@hhsociety.org
SUMMARY:Spousal Bereavement Group
DESCRIPTION:Led by Linda Ludwig\, PsD (NotPhD) on the second Thursday of the month at 12:30 pm in Lake Lodge Room 1.  The fee is $20 per session.  For more information\, call 914-617-9328.
URL:https://hhsociety.org/event/spousal-bereavement-group/2026-05-14/
LOCATION:Lake Lodge Room 1
END:VEVENT
END:VCALENDAR