BEGIN:VCALENDAR
VERSION:2.0
PRODID:-//Heritage Hills Society - ECPv6.15.20//NONSGML v1.0//EN
CALSCALE:GREGORIAN
METHOD:PUBLISH
X-ORIGINAL-URL:https://hhsociety.org
X-WR-CALDESC:Events for Heritage Hills Society
REFRESH-INTERVAL;VALUE=DURATION:PT1H
X-Robots-Tag:noindex
X-PUBLISHED-TTL:PT1H
BEGIN:VTIMEZONE
TZID:America/New_York
BEGIN:DAYLIGHT
TZOFFSETFROM:-0500
TZOFFSETTO:-0400
TZNAME:EDT
DTSTART:20240310T070000
END:DAYLIGHT
BEGIN:STANDARD
TZOFFSETFROM:-0400
TZOFFSETTO:-0500
TZNAME:EST
DTSTART:20241103T060000
END:STANDARD
BEGIN:DAYLIGHT
TZOFFSETFROM:-0500
TZOFFSETTO:-0400
TZNAME:EDT
DTSTART:20250309T070000
END:DAYLIGHT
BEGIN:STANDARD
TZOFFSETFROM:-0400
TZOFFSETTO:-0500
TZNAME:EST
DTSTART:20251102T060000
END:STANDARD
BEGIN:DAYLIGHT
TZOFFSETFROM:-0500
TZOFFSETTO:-0400
TZNAME:EDT
DTSTART:20260308T070000
END:DAYLIGHT
BEGIN:STANDARD
TZOFFSETFROM:-0400
TZOFFSETTO:-0500
TZNAME:EST
DTSTART:20261101T060000
END:STANDARD
BEGIN:DAYLIGHT
TZOFFSETFROM:-0500
TZOFFSETTO:-0400
TZNAME:EDT
DTSTART:20270314T070000
END:DAYLIGHT
BEGIN:STANDARD
TZOFFSETFROM:-0400
TZOFFSETTO:-0500
TZNAME:EST
DTSTART:20271107T060000
END:STANDARD
END:VTIMEZONE
BEGIN:VEVENT
DTSTART;TZID=America/New_York:20251129T093000
DTEND;TZID=America/New_York:20251129T093000
DTSTAMP:20260425T071804
CREATED:20251031T154928Z
LAST-MODIFIED:20251031T154928Z
UID:10013356-1764408600-1764408600@hhsociety.org
SUMMARY:Hikers & Walkers
DESCRIPTION:George’s Island Park – Montrose ; Rating B \nLeader: Cheryl Hochenberg (516) 220-0965
URL:https://hhsociety.org/event/hikers-walkers-32/
LOCATION:Activities Parking Lot
END:VEVENT
BEGIN:VEVENT
DTSTART;TZID=America/New_York:20251130T093000
DTEND;TZID=America/New_York:20251130T093000
DTSTAMP:20260425T071804
CREATED:20251031T155722Z
LAST-MODIFIED:20251031T155722Z
UID:10013357-1764495000-1764495000@hhsociety.org
SUMMARY:Hikers & Walkers
DESCRIPTION:Meadowlark Park – HH: Rating C \nLeader Kristie Ripepi (914) 275-7029
URL:https://hhsociety.org/event/hikers-walkers-33/
LOCATION:Activities Parking Lot
END:VEVENT
BEGIN:VEVENT
DTSTART;TZID=America/New_York:20251202T130000
DTEND;TZID=America/New_York:20251202T130000
DTSTAMP:20260425T071804
CREATED:20251202T173558Z
LAST-MODIFIED:20251202T173558Z
UID:10013435-1764680400-1764680400@hhsociety.org
SUMMARY:Club Shalom
DESCRIPTION:Annual Chanukah Celebration
URL:https://hhsociety.org/event/club-shalom-3/
LOCATION:Heritage Room
END:VEVENT
BEGIN:VEVENT
DTSTART;TZID=America/New_York:20251206T093000
DTEND;TZID=America/New_York:20251206T093000
DTSTAMP:20260425T071804
CREATED:20251204T191121Z
LAST-MODIFIED:20251204T191121Z
UID:10013437-1765013400-1765013400@hhsociety.org
SUMMARY:Hikers and Walkers
DESCRIPTION:St. Matthews Church Woodlands – Bedford \nRating B – Leader: Cheryl Hochenberg (516) 220-0965
URL:https://hhsociety.org/event/hikers-and-walkers-7/
LOCATION:Activities Parking Lot
END:VEVENT
BEGIN:VEVENT
DTSTART;TZID=America/New_York:20251206T140000
DTEND;TZID=America/New_York:20251206T160000
DTSTAMP:20260425T071804
CREATED:20251103T160638Z
LAST-MODIFIED:20251103T160638Z
UID:10013363-1765029600-1765036800@hhsociety.org
SUMMARY:Toys for Tots - Holiday Extravaganza
DESCRIPTION:
URL:https://hhsociety.org/event/toys-for-tots-holiday-extravaganza/
LOCATION:Heritage Room
END:VEVENT
BEGIN:VEVENT
DTSTART;TZID=America/New_York:20251207T093000
DTEND;TZID=America/New_York:20251207T093000
DTSTAMP:20260425T071804
CREATED:20251204T191513Z
LAST-MODIFIED:20251204T191513Z
UID:10013438-1765099800-1765099800@hhsociety.org
SUMMARY:Hikers and Walkers
DESCRIPTION:Old Putnam RR – Somers \nRating D+; Leader: Cheryl Hochenberg (516) 220-0965
URL:https://hhsociety.org/event/hikers-and-walkers-8/
LOCATION:Activities Parking Lot
END:VEVENT
BEGIN:VEVENT
DTSTART;TZID=America/New_York:20251207T160000
DTEND;TZID=America/New_York:20251207T160000
DTSTAMP:20260425T071804
CREATED:20251202T163914Z
LAST-MODIFIED:20251202T163914Z
UID:10013433-1765123200-1765123200@hhsociety.org
SUMMARY:Ciao Italia
DESCRIPTION:Members Only Christmas Celebration
URL:https://hhsociety.org/event/ciao-italia-3/
LOCATION:Heritage Room
END:VEVENT
BEGIN:VEVENT
DTSTART;TZID=America/New_York:20251209T133000
DTEND;TZID=America/New_York:20251209T133000
DTSTAMP:20260425T071804
CREATED:20251202T160748Z
LAST-MODIFIED:20251202T160748Z
UID:10013364-1765287000-1765287000@hhsociety.org
SUMMARY:Continuing Education
DESCRIPTION:“An Afternoon With The Great American Songbook” : A musical performance by jazz pianist\, composer and arranger Ron Drotos accompanied by acclaimed jazz and cabaret artist Leslee Warren. \n$10 per event\, paid at the door \nCall Ann with questions: (914) 617-9434
URL:https://hhsociety.org/event/continuing-education-15/
LOCATION:Heritage Room
END:VEVENT
BEGIN:VEVENT
DTSTART;TZID=America/New_York:20251213T093000
DTEND;TZID=America/New_York:20251213T093000
DTSTAMP:20260425T071804
CREATED:20251204T191928Z
LAST-MODIFIED:20251204T191928Z
UID:10013439-1765618200-1765618200@hhsociety.org
SUMMARY:Hikers and Walkers
DESCRIPTION:Angle Fly Preserve – Somers \nRating B; Leader: Kelly Doherty (914) 714-8956
URL:https://hhsociety.org/event/hikers-and-walkers-9/
LOCATION:Activities Parking Lot
END:VEVENT
BEGIN:VEVENT
DTSTART;TZID=America/New_York:20251214T093000
DTEND;TZID=America/New_York:20251214T093000
DTSTAMP:20260425T071804
CREATED:20251204T192406Z
LAST-MODIFIED:20251204T192406Z
UID:10013440-1765704600-1765704600@hhsociety.org
SUMMARY:Hikers and Walkers
DESCRIPTION:Rockwood Hall State Park – Sleepy Hollow \nRating C; Leader: Kristie Ripepi (914) 275-7029
URL:https://hhsociety.org/event/hikers-and-walkers-10/
LOCATION:Activities Parking Lot
END:VEVENT
BEGIN:VEVENT
DTSTART;TZID=America/New_York:20251214T130000
DTEND;TZID=America/New_York:20251214T130000
DTSTAMP:20260425T071804
CREATED:20251202T164222Z
LAST-MODIFIED:20251202T164222Z
UID:10013434-1765717200-1765717200@hhsociety.org
SUMMARY:Independent and Foreign Film Club
DESCRIPTION:“The Mad Adventures of “Rabbi” Jacob”: France\, 100 Minutes\, 1973
URL:https://hhsociety.org/event/independent-and-foreign-film-club-6/
LOCATION:Heritage Room
END:VEVENT
BEGIN:VEVENT
DTSTART;TZID=America/New_York:20251216T133000
DTEND;TZID=America/New_York:20251216T133000
DTSTAMP:20260425T071804
CREATED:20251202T161815Z
LAST-MODIFIED:20251202T161815Z
UID:10013365-1765891800-1765891800@hhsociety.org
SUMMARY:Continuing Education
DESCRIPTION:“Journalism\, Frank Lloyd Wright\, And The Power Of The Local Story”: A lecture by Toby Rosewater\, writer\, editor and journalist who spent the summer of 2025 reporting for The Examiner News\, an independent Westchester newspaper. \n$10 per event\, paid at door \nCall Ann with questions (914) 617-9434
URL:https://hhsociety.org/event/continuing-education-16/
LOCATION:Heritage Room
END:VEVENT
BEGIN:VEVENT
DTSTART;TZID=America/New_York:20251220T093000
DTEND;TZID=America/New_York:20251220T093000
DTSTAMP:20260425T071804
CREATED:20251204T193413Z
LAST-MODIFIED:20251204T193413Z
UID:10013441-1766223000-1766223000@hhsociety.org
SUMMARY:Hikers and Walkers
DESCRIPTION:Leon Levy Preserve – Vista \nRating B; Leader: Kelly Doherty (914) 714-8956
URL:https://hhsociety.org/event/hikers-and-walkers-11/
LOCATION:Activities Parking Lot
END:VEVENT
BEGIN:VEVENT
DTSTART;TZID=America/New_York:20251220T140000
DTEND;TZID=America/New_York:20251220T140000
DTSTAMP:20260425T071804
CREATED:20251202T174144Z
LAST-MODIFIED:20251202T174144Z
UID:10013436-1766239200-1766239200@hhsociety.org
SUMMARY:Rumpelstiltskin in Space
DESCRIPTION:A brand new science fiction adventure musical! \n 
URL:https://hhsociety.org/event/rumpelstiltskin-in-space/
LOCATION:Heritage Room
END:VEVENT
BEGIN:VEVENT
DTSTART;TZID=America/New_York:20251221T093000
DTEND;TZID=America/New_York:20251221T093000
DTSTAMP:20260425T071804
CREATED:20251204T193846Z
LAST-MODIFIED:20251204T193846Z
UID:10013442-1766309400-1766309400@hhsociety.org
SUMMARY:Hikers and Walkers
DESCRIPTION:Reis Park – Somers \nRating D; Leader: Kristie Ripepi (914) 275-7029
URL:https://hhsociety.org/event/hikers-and-walkers-12/
LOCATION:Activities Parking Lot
END:VEVENT
BEGIN:VEVENT
DTSTART;TZID=America/New_York:20251227T093000
DTEND;TZID=America/New_York:20251227T093000
DTSTAMP:20260425T071804
CREATED:20251204T194120Z
LAST-MODIFIED:20251204T194120Z
UID:10013443-1766827800-1766827800@hhsociety.org
SUMMARY:Hikers and Walkers
DESCRIPTION:Leader’s Choice \nRating B; Leader: Barry Tuch (516) 458-5321
URL:https://hhsociety.org/event/hikers-and-walkers-13/
LOCATION:Activities Parking Lot
END:VEVENT
BEGIN:VEVENT
DTSTART;TZID=America/New_York:20251228T093000
DTEND;TZID=America/New_York:20251228T093000
DTSTAMP:20260425T071804
CREATED:20251204T194453Z
LAST-MODIFIED:20251204T194453Z
UID:10013444-1766914200-1766914200@hhsociety.org
SUMMARY:Hikers and Walkers
DESCRIPTION:Old Goldens Bridge Trail \nRating C; Leader: Jane Smalley (914) 263-8146
URL:https://hhsociety.org/event/hikers-and-walkers-14/
LOCATION:Activities Parking Lot
END:VEVENT
BEGIN:VEVENT
DTSTART;TZID=America/New_York:20260105T093000
DTEND;TZID=America/New_York:20260105T093000
DTSTAMP:20260425T071804
CREATED:20260105T184148Z
LAST-MODIFIED:20260105T184148Z
UID:10013449-1767605400-1767605400@hhsociety.org
SUMMARY:Hikers & Walkers
DESCRIPTION:Armstrong – Richards Preserve – Pound Ridge \nRating B \nLeader: Cheryl Hochenberg (516) 220-0965
URL:https://hhsociety.org/event/hikers-walkers-38/
LOCATION:Activities Parking Lot
END:VEVENT
BEGIN:VEVENT
DTSTART;TZID=America/New_York:20260110T093000
DTEND;TZID=America/New_York:20260110T093000
DTSTAMP:20260425T071804
CREATED:20260105T183353Z
LAST-MODIFIED:20260105T183353Z
UID:10013445-1768037400-1768037400@hhsociety.org
SUMMARY:Hikers & Walkers
DESCRIPTION:Leon Levy Preserve – Vista \nRating – B \nLeader: Kelly Doherty (914) 715-8956
URL:https://hhsociety.org/event/hikers-walkers-34/
LOCATION:Activities Parking Lot
END:VEVENT
BEGIN:VEVENT
DTSTART;TZID=America/New_York:20260111T093000
DTEND;TZID=America/New_York:20260111T093000
DTSTAMP:20260425T071804
CREATED:20260105T183549Z
LAST-MODIFIED:20260105T183549Z
UID:10013446-1768123800-1768123800@hhsociety.org
SUMMARY:Hikers & Walkers
DESCRIPTION:Reiss Park – Somers \nRating D \nLeader: Kristie Ripepi (914) 275-7029
URL:https://hhsociety.org/event/hikers-walkers-35/
LOCATION:Activities Parking Lot
END:VEVENT
BEGIN:VEVENT
DTSTART;TZID=America/New_York:20260117T093000
DTEND;TZID=America/New_York:20260117T093000
DTSTAMP:20260425T071804
CREATED:20260105T183748Z
LAST-MODIFIED:20260105T183748Z
UID:10013447-1768642200-1768642200@hhsociety.org
SUMMARY:Hikers & Walkers
DESCRIPTION:Meyer Preserve – Armonk \nRating B \nLeader Kelly Doherty (914) 715-8956
URL:https://hhsociety.org/event/hikers-walkers-36/
LOCATION:Activities Parking Lot
END:VEVENT
BEGIN:VEVENT
DTSTART;TZID=America/New_York:20260118T093000
DTEND;TZID=America/New_York:20260118T093000
DTSTAMP:20260425T071804
CREATED:20260105T184019Z
LAST-MODIFIED:20260105T184019Z
UID:10013448-1768728600-1768728600@hhsociety.org
SUMMARY:Hikers & Walkers
DESCRIPTION:202 Spillway – Brewster \nRating D \nLeader: Cheryl Hochenberg (516) 220-0965
URL:https://hhsociety.org/event/hikers-walkers-37/
LOCATION:Activities Parking Lot
END:VEVENT
BEGIN:VEVENT
DTSTART;TZID=America/New_York:20260118T130000
DTEND;TZID=America/New_York:20260118T130000
DTSTAMP:20260425T071804
CREATED:20260105T184746Z
LAST-MODIFIED:20260105T184746Z
UID:10013451-1768741200-1768741200@hhsociety.org
SUMMARY:Club Shalom
DESCRIPTION:Trivia
URL:https://hhsociety.org/event/club-shalom-4/
LOCATION:Heritage Room
END:VEVENT
BEGIN:VEVENT
DTSTART;TZID=America/New_York:20260125T093000
DTEND;TZID=America/New_York:20260125T093000
DTSTAMP:20260425T071804
CREATED:20260105T184408Z
LAST-MODIFIED:20260105T184408Z
UID:10013450-1769333400-1769333400@hhsociety.org
SUMMARY:Hikers & Walkers
DESCRIPTION:FDR State Park – Crom Pond Trail \nRating C \nLeader: Jane Smalley (914) 263-8146
URL:https://hhsociety.org/event/hikers-walkers-39/
LOCATION:Activities Parking Lot
END:VEVENT
BEGIN:VEVENT
DTSTART;TZID=America/New_York:20260131T090000
DTEND;TZID=America/New_York:20260131T160000
DTSTAMP:20260425T071804
CREATED:20260105T184927Z
LAST-MODIFIED:20260105T184927Z
UID:10013452-1769850000-1769875200@hhsociety.org
SUMMARY:AAA Driver Safety Course
DESCRIPTION:
URL:https://hhsociety.org/event/aaa-driver-safety-course/
LOCATION:Heritage Room
END:VEVENT
BEGIN:VEVENT
DTSTART;TZID=America/New_York:20260131T093000
DTEND;TZID=America/New_York:20260131T093000
DTSTAMP:20260425T071804
CREATED:20260129T202048Z
LAST-MODIFIED:20260129T202048Z
UID:10013453-1769851800-1769851800@hhsociety.org
SUMMARY:Hikers & Walkers
DESCRIPTION:Mystery Walk/Hike – Rating C \nLeader: Cheryl Hochenberg (516) 220-0965
URL:https://hhsociety.org/event/hikers-walkers-40/
LOCATION:Activities Parking Lot
END:VEVENT
BEGIN:VEVENT
DTSTART;TZID=America/New_York:20260201T093000
DTEND;TZID=America/New_York:20260201T093000
DTSTAMP:20260425T071804
CREATED:20260129T202217Z
LAST-MODIFIED:20260129T202217Z
UID:10013454-1769938200-1769938200@hhsociety.org
SUMMARY:Hikers & Walkers
DESCRIPTION:202 Spillway – Brewster \nRating D \nLeader: Cheryl Hochenberg (516) 220-0965
URL:https://hhsociety.org/event/hikers-walkers-41/
LOCATION:Activities Parking Lot
END:VEVENT
BEGIN:VEVENT
DTSTART;TZID=America/New_York:20260207T093000
DTEND;TZID=America/New_York:20260207T093000
DTSTAMP:20260425T071804
CREATED:20260129T202733Z
LAST-MODIFIED:20260129T202733Z
UID:10013455-1770456600-1770456600@hhsociety.org
SUMMARY:Hikers & Walkers
DESCRIPTION:Halle Ravine Nature Preserve – Pound Ridge \nRating B \nLeader: Kelly Doherty (914) 715-8956
URL:https://hhsociety.org/event/hikers-walkers-42/
LOCATION:Activities Parking Lot
END:VEVENT
BEGIN:VEVENT
DTSTART;TZID=America/New_York:20260208T093000
DTEND;TZID=America/New_York:20260208T093000
DTSTAMP:20260425T071804
CREATED:20260129T202924Z
LAST-MODIFIED:20260129T202924Z
UID:10013456-1770543000-1770543000@hhsociety.org
SUMMARY:Hikers & Walkers
DESCRIPTION:Reiss Park – Somers \nRating D \nLeader: Kristie Ripepi (914) 275-7029
URL:https://hhsociety.org/event/hikers-walkers-43/
LOCATION:Activities Parking Lot
END:VEVENT
BEGIN:VEVENT
DTSTART;TZID=America/New_York:20260211T133000
DTEND;TZID=America/New_York:20260211T133000
DTSTAMP:20260425T071804
CREATED:20260130T151109Z
LAST-MODIFIED:20260130T151109Z
UID:10013463-1770816600-1770816600@hhsociety.org
SUMMARY:Women's Club
DESCRIPTION:Members Only wine and cheese party \nCall Joan Jendras with questions (914) 276-0488
URL:https://hhsociety.org/event/womens-club-3/
LOCATION:Heritage Room
END:VEVENT
END:VCALENDAR