BEGIN:VCALENDAR
VERSION:2.0
PRODID:-//Heritage Hills Society - ECPv6.15.20//NONSGML v1.0//EN
CALSCALE:GREGORIAN
METHOD:PUBLISH
X-ORIGINAL-URL:https://hhsociety.org
X-WR-CALDESC:Events for Heritage Hills Society
REFRESH-INTERVAL;VALUE=DURATION:PT1H
X-Robots-Tag:noindex
X-PUBLISHED-TTL:PT1H
BEGIN:VTIMEZONE
TZID:America/New_York
BEGIN:DAYLIGHT
TZOFFSETFROM:-0500
TZOFFSETTO:-0400
TZNAME:EDT
DTSTART:20240310T070000
END:DAYLIGHT
BEGIN:STANDARD
TZOFFSETFROM:-0400
TZOFFSETTO:-0500
TZNAME:EST
DTSTART:20241103T060000
END:STANDARD
BEGIN:DAYLIGHT
TZOFFSETFROM:-0500
TZOFFSETTO:-0400
TZNAME:EDT
DTSTART:20250309T070000
END:DAYLIGHT
BEGIN:STANDARD
TZOFFSETFROM:-0400
TZOFFSETTO:-0500
TZNAME:EST
DTSTART:20251102T060000
END:STANDARD
BEGIN:DAYLIGHT
TZOFFSETFROM:-0500
TZOFFSETTO:-0400
TZNAME:EDT
DTSTART:20260308T070000
END:DAYLIGHT
BEGIN:STANDARD
TZOFFSETFROM:-0400
TZOFFSETTO:-0500
TZNAME:EST
DTSTART:20261101T060000
END:STANDARD
END:VTIMEZONE
BEGIN:VEVENT
DTSTART;TZID=America/New_York:20250725T133000
DTEND;TZID=America/New_York:20250725T133000
DTSTAMP:20260424T171539
CREATED:20250702T155623Z
LAST-MODIFIED:20250702T155623Z
UID:10013230-1753450200-1753450200@hhsociety.org
SUMMARY:Health & Safety Committee - Oh\, My Aching Hands
DESCRIPTION:If you often say “Oh\, my aching hands”\, come hear Dr. Michael Fitzgerald\, an orthopedic hand surgeon from Northwell\, discuss various hand ailments\, the causes\, and treatments.
URL:https://hhsociety.org/event/health-safety-committee-oh-my-aching-hands/
LOCATION:Heritage Room
END:VEVENT
BEGIN:VEVENT
DTSTART;TZID=America/New_York:20250722T173000
DTEND;TZID=America/New_York:20250722T190000
DTSTAMP:20260424T171539
CREATED:20250701T191530Z
LAST-MODIFIED:20250701T191530Z
UID:10012886-1753205400-1753210800@hhsociety.org
SUMMARY:Pickleball - ACES Advanced Play
DESCRIPTION:Competitive leveled play to see who is the winner on the Ace court! \nAll the sign ups will be on team reach. \nPeople need to email us so we can give them the team reach info once they’ve provided us with their resident info. \nOur email is PickleballHH@outlook.com
URL:https://hhsociety.org/event/pickleball-aces-advanced-play/
LOCATION:Pickleball Courts
END:VEVENT
BEGIN:VEVENT
DTSTART;TZID=America/New_York:20250719T190000
DTEND;TZID=America/New_York:20250719T190000
DTSTAMP:20260424T171539
CREATED:20250702T143132Z
LAST-MODIFIED:20250702T143132Z
UID:10013223-1752951600-1752951600@hhsociety.org
SUMMARY:Club Shalom - An Evening of Steven Sondheim
DESCRIPTION:An Evening of Steven Sondheim with Alli West and Howard Kilik \nAdmission $15 per person. Cabaret Seating \nReturn flyer no later than July 16
URL:https://hhsociety.org/event/club-shalom-an-evening-of-steven-sondheim/
LOCATION:Heritage Room
END:VEVENT
BEGIN:VEVENT
DTSTART;TZID=America/New_York:20250718T140000
DTEND;TZID=America/New_York:20250718T153000
DTSTAMP:20260424T171539
CREATED:20250702T142447Z
LAST-MODIFIED:20250702T142447Z
UID:10013221-1752847200-1752852600@hhsociety.org
SUMMARY:Photo Club - Mastering Smartphone Photography Workshops
DESCRIPTION:Retouching\, Printing and Emailing Photos \nAll residents are welcome\, but space is limited\, and you must sign up 5 days before the workshop. Sign-up sheets are outside the Activities Office. $5 for members\, $10 for non-members \nFor more information\, contact Linda Carpentieri at lindacarp16@gmail.com or (914) 227-3854 or Bill Ablondi at ablondi@marketmaps.net or (203) 984-2955. \n 
URL:https://hhsociety.org/event/photo-club-mastering-smartphone-photography-workshops/
LOCATION:Game Room
END:VEVENT
BEGIN:VEVENT
DTSTART;TZID=America/New_York:20250713T190000
DTEND;TZID=America/New_York:20250713T190000
DTSTAMP:20260424T171539
CREATED:20250702T141810Z
LAST-MODIFIED:20250702T141810Z
UID:10013220-1752433200-1752433200@hhsociety.org
SUMMARY:Independent and Foreign Film Club
DESCRIPTION:Small Things Like These – Ireland\, Belgium\, 98 minutes\, 2024
URL:https://hhsociety.org/event/independent-and-foreign-film-club-2/
LOCATION:Heritage Room
END:VEVENT
BEGIN:VEVENT
DTSTART;TZID=America/New_York:20250711T183000
DTEND;TZID=America/New_York:20250711T183000
DTSTAMP:20260424T171539
CREATED:20250702T140225Z
LAST-MODIFIED:20250702T140225Z
UID:10013217-1752258600-1752258600@hhsociety.org
SUMMARY:Ciao Italia - Sock Hop BBQ
DESCRIPTION:Members: $30 members; $35 non-members.
URL:https://hhsociety.org/event/ciao-italia-sock-hop-bbq/
LOCATION:Heritage Room
END:VEVENT
BEGIN:VEVENT
DTSTART;TZID=America/New_York:20250710T170000
DTEND;TZID=America/New_York:20250710T200000
DTSTAMP:20260424T171539
CREATED:20250702T140554Z
LAST-MODIFIED:20250702T140554Z
UID:10013218-1752166800-1752177600@hhsociety.org
SUMMARY:The Independence Band - Free Concert
DESCRIPTION:Free concert. \nFood Trucks will be available. \nRain Date: Saturday July 20
URL:https://hhsociety.org/event/the-independence-band-free-concert/
LOCATION:Meadowlark Park
END:VEVENT
BEGIN:VEVENT
DTSTART;TZID=America/New_York:20250702T080000
DTEND;TZID=America/New_York:20250702T170000
DTSTAMP:20260424T171539
CREATED:20250702T150612Z
LAST-MODIFIED:20250702T150612Z
UID:10013224-1751443200-1751475600@hhsociety.org
SUMMARY:Club Shalom - Irving Berlin Songbook
DESCRIPTION:with Peter Muir \nAdmission $15 per person. Cabaret seating.  Watch your email for a flyer…return no later than August 20.
URL:https://hhsociety.org/event/club-shalom-irving-berlin-songbook/
END:VEVENT
BEGIN:VEVENT
DTSTART;TZID=America/New_York:20250629T093000
DTEND;TZID=America/New_York:20250629T093000
DTSTAMP:20260424T171539
CREATED:20250611T142344Z
LAST-MODIFIED:20250611T142344Z
UID:10012872-1751189400-1751189400@hhsociety.org
SUMMARY:Hikers & Walkers
DESCRIPTION:Muscoot River Trails – Somers \nRating C \nLeader Jane Smalley (914) 263-8146
URL:https://hhsociety.org/event/hikers-walkers-11/
LOCATION:Activities Parking Lot
END:VEVENT
BEGIN:VEVENT
DTSTART;TZID=America/New_York:20250628T093000
DTEND;TZID=America/New_York:20250628T093000
DTSTAMP:20260424T171540
CREATED:20250611T142202Z
LAST-MODIFIED:20250611T142202Z
UID:10012871-1751103000-1751103000@hhsociety.org
SUMMARY:Hikers & Walkers
DESCRIPTION:Mianus River Gorge Preserve – Bedford \nRating B \nLeader Cheryl Hochenberg (516) 220-0965
URL:https://hhsociety.org/event/hikers-walkers-10/
LOCATION:Activities Parking Lot
END:VEVENT
BEGIN:VEVENT
DTSTART;TZID=America/New_York:20250626T170000
DTEND;TZID=America/New_York:20250626T190000
DTSTAMP:20260424T171540
CREATED:20250603T143157Z
LAST-MODIFIED:20250603T143157Z
UID:10012862-1750957200-1750964400@hhsociety.org
SUMMARY:Food Truck Thursdays
DESCRIPTION:Gyro Uno – Greek
URL:https://hhsociety.org/event/food-truck-thursdays-2/
LOCATION:Meadowlark Park
END:VEVENT
BEGIN:VEVENT
DTSTART;TZID=America/New_York:20250622T093000
DTEND;TZID=America/New_York:20250622T093000
DTSTAMP:20260424T171540
CREATED:20250611T142024Z
LAST-MODIFIED:20250611T142024Z
UID:10012870-1750584600-1750584600@hhsociety.org
SUMMARY:Hikers & Walkers
DESCRIPTION:Mystery Hike \nRating C \nLeader Misha Lef (914) 272-5601
URL:https://hhsociety.org/event/hikers-walkers-9/
LOCATION:Activities Parking Lot
END:VEVENT
BEGIN:VEVENT
DTSTART;TZID=America/New_York:20250621T093000
DTEND;TZID=America/New_York:20250621T093000
DTSTAMP:20260424T171540
CREATED:20250611T141042Z
LAST-MODIFIED:20250611T141042Z
UID:10012869-1750498200-1750498200@hhsociety.org
SUMMARY:Hikers & Walkers
DESCRIPTION:Westmoreland Sanctuary – Mt. Kisco \nRating B \nLeader Barry Tuch (516)488-5321
URL:https://hhsociety.org/event/hikers-walkers-8/
LOCATION:Activities Parking Lot
END:VEVENT
BEGIN:VEVENT
DTSTART;TZID=America/New_York:20250618T170000
DTEND;TZID=America/New_York:20250618T170000
DTSTAMP:20260424T171540
CREATED:20250603T154113Z
LAST-MODIFIED:20250603T162540Z
UID:10012866-1750266000-1750266000@hhsociety.org
SUMMARY:Singles Club - Pizza & Games
DESCRIPTION:BYOB and bring the game of your choice – UNO\, cards\, Rummikub etc. – and join with friends for some good\, old fashioned fun. \n$5 for members / $8 non-members \nLeave check in Singles Club mail slot no later than June 12. Contact Pat Caruso at 914-649-3232
URL:https://hhsociety.org/event/singles-club-pizza-games/
LOCATION:Heritage Room
END:VEVENT
BEGIN:VEVENT
DTSTART;TZID=America/New_York:20250618T133000
DTEND;TZID=America/New_York:20250618T133000
DTSTAMP:20260424T171540
CREATED:20250603T134621Z
LAST-MODIFIED:20250603T134621Z
UID:10012853-1750253400-1750253400@hhsociety.org
SUMMARY:Society Board Meeting
DESCRIPTION:Back-to-Back Monthly and Annual Board Meeting.
URL:https://hhsociety.org/event/society-board-meeting-2/
LOCATION:Heritage Room
END:VEVENT
BEGIN:VEVENT
DTSTART;TZID=America/New_York:20250617T080000
DTEND;TZID=America/New_York:20250617T170000
DTSTAMP:20260424T171540
CREATED:20250603T135942Z
LAST-MODIFIED:20250603T140239Z
UID:10012856-1750147200-1750179600@hhsociety.org
SUMMARY:Continuing Education - A Short History of Fashion Photography
DESCRIPTION:A lecture by David Little\, museum curator\, educator\, and senior advisor to the Board of Trustees at the International Center of Photography \n$10 per event\, paid at the door. If you have any questions\, call Ann at (914) 617-9434 \n  \n 
URL:https://hhsociety.org/event/continuing-education-a-short-history-of-fashion-photography/2025-06-17/1/
LOCATION:Heritage Room
END:VEVENT
BEGIN:VEVENT
DTSTART;TZID=America/New_York:20250615T093000
DTEND;TZID=America/New_York:20250615T093000
DTSTAMP:20260424T171540
CREATED:20250611T140653Z
LAST-MODIFIED:20250611T140653Z
UID:10012868-1749979800-1749979800@hhsociety.org
SUMMARY:Hikers & Walkers
DESCRIPTION:Sylvan Glen Preserve – Mohican Lake \nRating C \nLeader: Misha Lef (914) 272-5601
URL:https://hhsociety.org/event/hikers-walkers-7/
LOCATION:Activities Parking Lot
END:VEVENT
BEGIN:VEVENT
DTSTART;TZID=America/New_York:20250614T120000
DTEND;TZID=America/New_York:20250614T120000
DTSTAMP:20260424T171540
CREATED:20250611T135653Z
LAST-MODIFIED:20250611T135653Z
UID:10012867-1749902400-1749902400@hhsociety.org
SUMMARY:Hikers & Walkers
DESCRIPTION:H & W Picnic at Lake Lodge \nContact Cheryl Hochenberg with questions (516) 220-0965
URL:https://hhsociety.org/event/hikers-walkers-6/
LOCATION:Lake Lodge Room 3
END:VEVENT
BEGIN:VEVENT
DTSTART;TZID=America/New_York:20250613T190000
DTEND;TZID=America/New_York:20250613T190000
DTSTAMP:20260424T171540
CREATED:20250603T144732Z
LAST-MODIFIED:20250603T144732Z
UID:10012863-1749841200-1749841200@hhsociety.org
SUMMARY:Ciao Italia - Pete Custode
DESCRIPTION:Singer  / Entertainer
URL:https://hhsociety.org/event/ciao-italia-pete-custode/
LOCATION:Heritage Room
END:VEVENT
BEGIN:VEVENT
DTSTART;TZID=America/New_York:20250612T170000
DTEND;TZID=America/New_York:20250612T190000
DTSTAMP:20260424T171540
CREATED:20250603T142932Z
LAST-MODIFIED:20250603T142932Z
UID:10012861-1749747600-1749754800@hhsociety.org
SUMMARY:Food Truck Thursdays
DESCRIPTION:Graziella’s – Italian
URL:https://hhsociety.org/event/food-truck-thursdays/
LOCATION:Meadowlark Park
END:VEVENT
BEGIN:VEVENT
DTSTART;TZID=America/New_York:20250610T133000
DTEND;TZID=America/New_York:20250610T133000
DTSTAMP:20260424T171540
CREATED:20250603T134959Z
LAST-MODIFIED:20250603T134959Z
UID:10012854-1749562200-1749562200@hhsociety.org
SUMMARY:Continuing Education - The Rise of Artificial Intelligence and Bitcoin
DESCRIPTION:A lecture by John Patrick – former Vice President for Internet Technology\, IBM \n$10 per event\, paid at the door \nContact Ann at (914) 617-9434 with questions
URL:https://hhsociety.org/event/continuing-education-the-rise-of-artificial-intelligence-and-bitcoin/
LOCATION:Heritage Room
END:VEVENT
BEGIN:VEVENT
DTSTART;TZID=America/New_York:20250608T190000
DTEND;TZID=America/New_York:20250608T190000
DTSTAMP:20260424T171540
CREATED:20250603T153442Z
LAST-MODIFIED:20250603T153442Z
UID:10012865-1749409200-1749409200@hhsociety.org
SUMMARY:Independent Film Club - Amelie
DESCRIPTION:
URL:https://hhsociety.org/event/independent-film-club-amelie/
LOCATION:Heritage Room
END:VEVENT
BEGIN:VEVENT
DTSTART;TZID=America/New_York:20250608T150000
DTEND;TZID=America/New_York:20250608T150000
DTSTAMP:20260424T171540
CREATED:20250603T145050Z
LAST-MODIFIED:20250603T145429Z
UID:10012864-1749394800-1749394800@hhsociety.org
SUMMARY:Concert Society - Pianist Llewellyn Sanchez-Werner
DESCRIPTION:$26.00 per person at the door for non-subscribers \nCall Teddi Meltzer at (914) 277-1418 with questions
URL:https://hhsociety.org/event/concert-society-pianist-llewellyn-sanchez-werner/
LOCATION:Heritage Room
END:VEVENT
BEGIN:VEVENT
DTSTART;TZID=America/New_York:20250605T170000
DTEND;TZID=America/New_York:20250605T190000
DTSTAMP:20260424T171540
CREATED:20250603T142749Z
LAST-MODIFIED:20250603T142749Z
UID:10012860-1749142800-1749150000@hhsociety.org
SUMMARY:Food Truck Thursday
DESCRIPTION:Sayit’s – Greek
URL:https://hhsociety.org/event/food-truck-thursday/
LOCATION:Meadowlark Park
END:VEVENT
BEGIN:VEVENT
DTSTART;TZID=America/New_York:20250604T180000
DTEND;TZID=America/New_York:20250604T200000
DTSTAMP:20260424T171540
CREATED:20250603T141246Z
LAST-MODIFIED:20250603T141246Z
UID:10012859-1749060000-1749067200@hhsociety.org
SUMMARY:CPR & AED Demonstrations
DESCRIPTION:
URL:https://hhsociety.org/event/cpr-aed-demonstrations/
LOCATION:Heritage Room
END:VEVENT
BEGIN:VEVENT
DTSTART;TZID=America/New_York:20250603T183000
DTEND;TZID=America/New_York:20250603T183000
DTSTAMP:20260424T171540
CREATED:20250603T140624Z
LAST-MODIFIED:20250603T140624Z
UID:10012858-1748975400-1748975400@hhsociety.org
SUMMARY:Health & Safety Committee
DESCRIPTION:Health\, Safety & your Pet
URL:https://hhsociety.org/event/health-safety-committee-2/
LOCATION:Heritage Room
END:VEVENT
BEGIN:VEVENT
DTSTART;TZID=America/New_York:20250603T133000
DTEND;TZID=America/New_York:20250603T133000
DTSTAMP:20260424T171540
CREATED:20250505T164733Z
LAST-MODIFIED:20250505T164733Z
UID:10011015-1748957400-1748957400@hhsociety.org
SUMMARY:Continuing Education - Theatre Music & the Influence of Leonard Bernstein
DESCRIPTION:A lecture-recital by Howard Kilik\, pianist\, composer and conductor \nAdmission is $10 per event\, paid at the door. \nIf you have any questions\, call Ann (914) 617-9434.
URL:https://hhsociety.org/event/continuing-education-theatre-music-the-influence-of-leonard-bernstein/
LOCATION:Heritage Room
END:VEVENT
BEGIN:VEVENT
DTSTART;TZID=America/New_York:20250531T183000
DTEND;TZID=America/New_York:20250531T183000
DTSTAMP:20260424T171540
CREATED:20250507T133057Z
LAST-MODIFIED:20250507T133057Z
UID:10011019-1748716200-1748716200@hhsociety.org
SUMMARY:Friends in the Hills - Bingo Night
DESCRIPTION:Members only \n$10 per person –
URL:https://hhsociety.org/event/friends-in-the-hills-bingo-night/
LOCATION:Heritage Room
END:VEVENT
BEGIN:VEVENT
DTSTART;TZID=America/New_York:20250531T091500
DTEND;TZID=America/New_York:20250531T091500
DTSTAMP:20260424T171540
CREATED:20250514T155447Z
LAST-MODIFIED:20250514T155447Z
UID:10012731-1748682900-1748682900@hhsociety.org
SUMMARY:Hikers & Walkers
DESCRIPTION:Marx Preserve – Goldens Bridge (B) \nCheryl Hochenberg (516) 220-0965
URL:https://hhsociety.org/event/hikers-walkers-5/
LOCATION:Activities Parking Lot
END:VEVENT
BEGIN:VEVENT
DTSTART;TZID=America/New_York:20250528T133000
DTEND;TZID=America/New_York:20250528T143000
DTSTAMP:20260424T171540
CREATED:20250507T131749Z
LAST-MODIFIED:20250507T131749Z
UID:10011017-1748439000-1748442600@hhsociety.org
SUMMARY:Gardening And Your Well Being
DESCRIPTION:Health & Safety Committee and Garden Club Co-Sponsored event. \nSpeaker: Carolyn Ramsey\, Master Gardener Volunteer\, Westchester County Cornell Cooperative Extension
URL:https://hhsociety.org/event/gardening-and-your-well-being/
LOCATION:Heritage Room
END:VEVENT
END:VCALENDAR