BEGIN:VCALENDAR
VERSION:2.0
PRODID:-//Heritage Hills Society - ECPv6.15.20//NONSGML v1.0//EN
CALSCALE:GREGORIAN
METHOD:PUBLISH
X-WR-CALNAME:Heritage Hills Society
X-ORIGINAL-URL:https://hhsociety.org
X-WR-CALDESC:Events for Heritage Hills Society
REFRESH-INTERVAL;VALUE=DURATION:PT1H
X-Robots-Tag:noindex
X-PUBLISHED-TTL:PT1H
BEGIN:VTIMEZONE
TZID:America/New_York
BEGIN:DAYLIGHT
TZOFFSETFROM:-0500
TZOFFSETTO:-0400
TZNAME:EDT
DTSTART:20250309T070000
END:DAYLIGHT
BEGIN:STANDARD
TZOFFSETFROM:-0400
TZOFFSETTO:-0500
TZNAME:EST
DTSTART:20251102T060000
END:STANDARD
BEGIN:DAYLIGHT
TZOFFSETFROM:-0500
TZOFFSETTO:-0400
TZNAME:EDT
DTSTART:20260308T070000
END:DAYLIGHT
BEGIN:STANDARD
TZOFFSETFROM:-0400
TZOFFSETTO:-0500
TZNAME:EST
DTSTART:20261101T060000
END:STANDARD
BEGIN:DAYLIGHT
TZOFFSETFROM:-0500
TZOFFSETTO:-0400
TZNAME:EDT
DTSTART:20270314T070000
END:DAYLIGHT
BEGIN:STANDARD
TZOFFSETFROM:-0400
TZOFFSETTO:-0500
TZNAME:EST
DTSTART:20271107T060000
END:STANDARD
END:VTIMEZONE
BEGIN:VEVENT
DTSTART;TZID=America/New_York:20260429T123000
DTEND;TZID=America/New_York:20260429T123000
DTSTAMP:20260423T145930
CREATED:20241023T152857Z
LAST-MODIFIED:20241023T152857Z
UID:10000462-1777465800-1777465800@hhsociety.org
SUMMARY:Needlecraft Goup
DESCRIPTION:Charitable needlecraft group meets Wednesdays at 12:30pm in the Game Room.  All skill levels are welcome.  $20 Annual dues. For questions\, or to register\, call Linda at (914) 277-2776 or Ginger at (914) 617-9058
URL:https://hhsociety.org/event/needlecraft-goup/2026-04-29/
LOCATION:Game Room
END:VEVENT
BEGIN:VEVENT
DTSTART;TZID=America/New_York:20260506T123000
DTEND;TZID=America/New_York:20260506T123000
DTSTAMP:20260423T145930
CREATED:20241023T152857Z
LAST-MODIFIED:20241023T152857Z
UID:10000463-1778070600-1778070600@hhsociety.org
SUMMARY:Needlecraft Goup
DESCRIPTION:Charitable needlecraft group meets Wednesdays at 12:30pm in the Game Room.  All skill levels are welcome.  $20 Annual dues. For questions\, or to register\, call Linda at (914) 277-2776 or Ginger at (914) 617-9058
URL:https://hhsociety.org/event/needlecraft-goup/2026-05-06/
LOCATION:Game Room
END:VEVENT
BEGIN:VEVENT
DTSTART;TZID=America/New_York:20260513T123000
DTEND;TZID=America/New_York:20260513T123000
DTSTAMP:20260423T145930
CREATED:20241023T152857Z
LAST-MODIFIED:20241023T152857Z
UID:10000464-1778675400-1778675400@hhsociety.org
SUMMARY:Needlecraft Goup
DESCRIPTION:Charitable needlecraft group meets Wednesdays at 12:30pm in the Game Room.  All skill levels are welcome.  $20 Annual dues. For questions\, or to register\, call Linda at (914) 277-2776 or Ginger at (914) 617-9058
URL:https://hhsociety.org/event/needlecraft-goup/2026-05-13/
LOCATION:Game Room
END:VEVENT
BEGIN:VEVENT
DTSTART;TZID=America/New_York:20260520T123000
DTEND;TZID=America/New_York:20260520T123000
DTSTAMP:20260423T145930
CREATED:20241023T152857Z
LAST-MODIFIED:20241023T152857Z
UID:10000465-1779280200-1779280200@hhsociety.org
SUMMARY:Needlecraft Goup
DESCRIPTION:Charitable needlecraft group meets Wednesdays at 12:30pm in the Game Room.  All skill levels are welcome.  $20 Annual dues. For questions\, or to register\, call Linda at (914) 277-2776 or Ginger at (914) 617-9058
URL:https://hhsociety.org/event/needlecraft-goup/2026-05-20/
LOCATION:Game Room
END:VEVENT
BEGIN:VEVENT
DTSTART;TZID=America/New_York:20260527T123000
DTEND;TZID=America/New_York:20260527T123000
DTSTAMP:20260423T145930
CREATED:20241023T152857Z
LAST-MODIFIED:20241023T152857Z
UID:10000466-1779885000-1779885000@hhsociety.org
SUMMARY:Needlecraft Goup
DESCRIPTION:Charitable needlecraft group meets Wednesdays at 12:30pm in the Game Room.  All skill levels are welcome.  $20 Annual dues. For questions\, or to register\, call Linda at (914) 277-2776 or Ginger at (914) 617-9058
URL:https://hhsociety.org/event/needlecraft-goup/2026-05-27/
LOCATION:Game Room
END:VEVENT
BEGIN:VEVENT
DTSTART;TZID=America/New_York:20260603T123000
DTEND;TZID=America/New_York:20260603T123000
DTSTAMP:20260423T145930
CREATED:20241023T152857Z
LAST-MODIFIED:20241023T152857Z
UID:10000467-1780489800-1780489800@hhsociety.org
SUMMARY:Needlecraft Goup
DESCRIPTION:Charitable needlecraft group meets Wednesdays at 12:30pm in the Game Room.  All skill levels are welcome.  $20 Annual dues. For questions\, or to register\, call Linda at (914) 277-2776 or Ginger at (914) 617-9058
URL:https://hhsociety.org/event/needlecraft-goup/2026-06-03/
LOCATION:Game Room
END:VEVENT
BEGIN:VEVENT
DTSTART;TZID=America/New_York:20260610T123000
DTEND;TZID=America/New_York:20260610T123000
DTSTAMP:20260423T145930
CREATED:20241023T152857Z
LAST-MODIFIED:20241023T152857Z
UID:10000468-1781094600-1781094600@hhsociety.org
SUMMARY:Needlecraft Goup
DESCRIPTION:Charitable needlecraft group meets Wednesdays at 12:30pm in the Game Room.  All skill levels are welcome.  $20 Annual dues. For questions\, or to register\, call Linda at (914) 277-2776 or Ginger at (914) 617-9058
URL:https://hhsociety.org/event/needlecraft-goup/2026-06-10/
LOCATION:Game Room
END:VEVENT
BEGIN:VEVENT
DTSTART;TZID=America/New_York:20260617T123000
DTEND;TZID=America/New_York:20260617T123000
DTSTAMP:20260423T145930
CREATED:20241023T152857Z
LAST-MODIFIED:20241023T152857Z
UID:10000469-1781699400-1781699400@hhsociety.org
SUMMARY:Needlecraft Goup
DESCRIPTION:Charitable needlecraft group meets Wednesdays at 12:30pm in the Game Room.  All skill levels are welcome.  $20 Annual dues. For questions\, or to register\, call Linda at (914) 277-2776 or Ginger at (914) 617-9058
URL:https://hhsociety.org/event/needlecraft-goup/2026-06-17/
LOCATION:Game Room
END:VEVENT
BEGIN:VEVENT
DTSTART;TZID=America/New_York:20260624T123000
DTEND;TZID=America/New_York:20260624T123000
DTSTAMP:20260423T145930
CREATED:20241023T152857Z
LAST-MODIFIED:20241023T152857Z
UID:10000470-1782304200-1782304200@hhsociety.org
SUMMARY:Needlecraft Goup
DESCRIPTION:Charitable needlecraft group meets Wednesdays at 12:30pm in the Game Room.  All skill levels are welcome.  $20 Annual dues. For questions\, or to register\, call Linda at (914) 277-2776 or Ginger at (914) 617-9058
URL:https://hhsociety.org/event/needlecraft-goup/2026-06-24/
LOCATION:Game Room
END:VEVENT
BEGIN:VEVENT
DTSTART;TZID=America/New_York:20260701T123000
DTEND;TZID=America/New_York:20260701T123000
DTSTAMP:20260423T145930
CREATED:20241023T152857Z
LAST-MODIFIED:20241023T152857Z
UID:10000471-1782909000-1782909000@hhsociety.org
SUMMARY:Needlecraft Goup
DESCRIPTION:Charitable needlecraft group meets Wednesdays at 12:30pm in the Game Room.  All skill levels are welcome.  $20 Annual dues. For questions\, or to register\, call Linda at (914) 277-2776 or Ginger at (914) 617-9058
URL:https://hhsociety.org/event/needlecraft-goup/2026-07-01/
LOCATION:Game Room
END:VEVENT
BEGIN:VEVENT
DTSTART;TZID=America/New_York:20260708T123000
DTEND;TZID=America/New_York:20260708T123000
DTSTAMP:20260423T145930
CREATED:20241023T152857Z
LAST-MODIFIED:20241023T152857Z
UID:10000472-1783513800-1783513800@hhsociety.org
SUMMARY:Needlecraft Goup
DESCRIPTION:Charitable needlecraft group meets Wednesdays at 12:30pm in the Game Room.  All skill levels are welcome.  $20 Annual dues. For questions\, or to register\, call Linda at (914) 277-2776 or Ginger at (914) 617-9058
URL:https://hhsociety.org/event/needlecraft-goup/2026-07-08/
LOCATION:Game Room
END:VEVENT
BEGIN:VEVENT
DTSTART;TZID=America/New_York:20260715T123000
DTEND;TZID=America/New_York:20260715T123000
DTSTAMP:20260423T145930
CREATED:20241023T152857Z
LAST-MODIFIED:20241023T152857Z
UID:10000473-1784118600-1784118600@hhsociety.org
SUMMARY:Needlecraft Goup
DESCRIPTION:Charitable needlecraft group meets Wednesdays at 12:30pm in the Game Room.  All skill levels are welcome.  $20 Annual dues. For questions\, or to register\, call Linda at (914) 277-2776 or Ginger at (914) 617-9058
URL:https://hhsociety.org/event/needlecraft-goup/2026-07-15/
LOCATION:Game Room
END:VEVENT
BEGIN:VEVENT
DTSTART;TZID=America/New_York:20260722T123000
DTEND;TZID=America/New_York:20260722T123000
DTSTAMP:20260423T145930
CREATED:20241023T152857Z
LAST-MODIFIED:20241023T152857Z
UID:10000474-1784723400-1784723400@hhsociety.org
SUMMARY:Needlecraft Goup
DESCRIPTION:Charitable needlecraft group meets Wednesdays at 12:30pm in the Game Room.  All skill levels are welcome.  $20 Annual dues. For questions\, or to register\, call Linda at (914) 277-2776 or Ginger at (914) 617-9058
URL:https://hhsociety.org/event/needlecraft-goup/2026-07-22/
LOCATION:Game Room
END:VEVENT
BEGIN:VEVENT
DTSTART;TZID=America/New_York:20260729T123000
DTEND;TZID=America/New_York:20260729T123000
DTSTAMP:20260423T145930
CREATED:20241023T152857Z
LAST-MODIFIED:20241023T152857Z
UID:10000475-1785328200-1785328200@hhsociety.org
SUMMARY:Needlecraft Goup
DESCRIPTION:Charitable needlecraft group meets Wednesdays at 12:30pm in the Game Room.  All skill levels are welcome.  $20 Annual dues. For questions\, or to register\, call Linda at (914) 277-2776 or Ginger at (914) 617-9058
URL:https://hhsociety.org/event/needlecraft-goup/2026-07-29/
LOCATION:Game Room
END:VEVENT
BEGIN:VEVENT
DTSTART;TZID=America/New_York:20260805T123000
DTEND;TZID=America/New_York:20260805T123000
DTSTAMP:20260423T145930
CREATED:20241023T152857Z
LAST-MODIFIED:20241023T152857Z
UID:10000476-1785933000-1785933000@hhsociety.org
SUMMARY:Needlecraft Goup
DESCRIPTION:Charitable needlecraft group meets Wednesdays at 12:30pm in the Game Room.  All skill levels are welcome.  $20 Annual dues. For questions\, or to register\, call Linda at (914) 277-2776 or Ginger at (914) 617-9058
URL:https://hhsociety.org/event/needlecraft-goup/2026-08-05/
LOCATION:Game Room
END:VEVENT
BEGIN:VEVENT
DTSTART;TZID=America/New_York:20260812T123000
DTEND;TZID=America/New_York:20260812T123000
DTSTAMP:20260423T145930
CREATED:20241023T152857Z
LAST-MODIFIED:20241023T152857Z
UID:10000477-1786537800-1786537800@hhsociety.org
SUMMARY:Needlecraft Goup
DESCRIPTION:Charitable needlecraft group meets Wednesdays at 12:30pm in the Game Room.  All skill levels are welcome.  $20 Annual dues. For questions\, or to register\, call Linda at (914) 277-2776 or Ginger at (914) 617-9058
URL:https://hhsociety.org/event/needlecraft-goup/2026-08-12/
LOCATION:Game Room
END:VEVENT
BEGIN:VEVENT
DTSTART;TZID=America/New_York:20260819T123000
DTEND;TZID=America/New_York:20260819T123000
DTSTAMP:20260423T145930
CREATED:20241023T152857Z
LAST-MODIFIED:20241023T152857Z
UID:10000478-1787142600-1787142600@hhsociety.org
SUMMARY:Needlecraft Goup
DESCRIPTION:Charitable needlecraft group meets Wednesdays at 12:30pm in the Game Room.  All skill levels are welcome.  $20 Annual dues. For questions\, or to register\, call Linda at (914) 277-2776 or Ginger at (914) 617-9058
URL:https://hhsociety.org/event/needlecraft-goup/2026-08-19/
LOCATION:Game Room
END:VEVENT
BEGIN:VEVENT
DTSTART;TZID=America/New_York:20260826T123000
DTEND;TZID=America/New_York:20260826T123000
DTSTAMP:20260423T145930
CREATED:20241023T152857Z
LAST-MODIFIED:20241023T152857Z
UID:10000479-1787747400-1787747400@hhsociety.org
SUMMARY:Needlecraft Goup
DESCRIPTION:Charitable needlecraft group meets Wednesdays at 12:30pm in the Game Room.  All skill levels are welcome.  $20 Annual dues. For questions\, or to register\, call Linda at (914) 277-2776 or Ginger at (914) 617-9058
URL:https://hhsociety.org/event/needlecraft-goup/2026-08-26/
LOCATION:Game Room
END:VEVENT
BEGIN:VEVENT
DTSTART;TZID=America/New_York:20260902T123000
DTEND;TZID=America/New_York:20260902T123000
DTSTAMP:20260423T145930
CREATED:20241023T152857Z
LAST-MODIFIED:20241023T152857Z
UID:10000480-1788352200-1788352200@hhsociety.org
SUMMARY:Needlecraft Goup
DESCRIPTION:Charitable needlecraft group meets Wednesdays at 12:30pm in the Game Room.  All skill levels are welcome.  $20 Annual dues. For questions\, or to register\, call Linda at (914) 277-2776 or Ginger at (914) 617-9058
URL:https://hhsociety.org/event/needlecraft-goup/2026-09-02/
LOCATION:Game Room
END:VEVENT
BEGIN:VEVENT
DTSTART;TZID=America/New_York:20260909T123000
DTEND;TZID=America/New_York:20260909T123000
DTSTAMP:20260423T145930
CREATED:20241023T152857Z
LAST-MODIFIED:20241023T152857Z
UID:10000481-1788957000-1788957000@hhsociety.org
SUMMARY:Needlecraft Goup
DESCRIPTION:Charitable needlecraft group meets Wednesdays at 12:30pm in the Game Room.  All skill levels are welcome.  $20 Annual dues. For questions\, or to register\, call Linda at (914) 277-2776 or Ginger at (914) 617-9058
URL:https://hhsociety.org/event/needlecraft-goup/2026-09-09/
LOCATION:Game Room
END:VEVENT
BEGIN:VEVENT
DTSTART;TZID=America/New_York:20260916T123000
DTEND;TZID=America/New_York:20260916T123000
DTSTAMP:20260423T145930
CREATED:20241023T152857Z
LAST-MODIFIED:20241023T152857Z
UID:10000482-1789561800-1789561800@hhsociety.org
SUMMARY:Needlecraft Goup
DESCRIPTION:Charitable needlecraft group meets Wednesdays at 12:30pm in the Game Room.  All skill levels are welcome.  $20 Annual dues. For questions\, or to register\, call Linda at (914) 277-2776 or Ginger at (914) 617-9058
URL:https://hhsociety.org/event/needlecraft-goup/2026-09-16/
LOCATION:Game Room
END:VEVENT
BEGIN:VEVENT
DTSTART;TZID=America/New_York:20260923T123000
DTEND;TZID=America/New_York:20260923T123000
DTSTAMP:20260423T145930
CREATED:20241023T152857Z
LAST-MODIFIED:20241023T152857Z
UID:10000483-1790166600-1790166600@hhsociety.org
SUMMARY:Needlecraft Goup
DESCRIPTION:Charitable needlecraft group meets Wednesdays at 12:30pm in the Game Room.  All skill levels are welcome.  $20 Annual dues. For questions\, or to register\, call Linda at (914) 277-2776 or Ginger at (914) 617-9058
URL:https://hhsociety.org/event/needlecraft-goup/2026-09-23/
LOCATION:Game Room
END:VEVENT
BEGIN:VEVENT
DTSTART;TZID=America/New_York:20260930T123000
DTEND;TZID=America/New_York:20260930T123000
DTSTAMP:20260423T145930
CREATED:20241023T152857Z
LAST-MODIFIED:20241023T152857Z
UID:10000484-1790771400-1790771400@hhsociety.org
SUMMARY:Needlecraft Goup
DESCRIPTION:Charitable needlecraft group meets Wednesdays at 12:30pm in the Game Room.  All skill levels are welcome.  $20 Annual dues. For questions\, or to register\, call Linda at (914) 277-2776 or Ginger at (914) 617-9058
URL:https://hhsociety.org/event/needlecraft-goup/2026-09-30/
LOCATION:Game Room
END:VEVENT
BEGIN:VEVENT
DTSTART;TZID=America/New_York:20261007T123000
DTEND;TZID=America/New_York:20261007T123000
DTSTAMP:20260423T145930
CREATED:20241023T152857Z
LAST-MODIFIED:20241023T152857Z
UID:10000485-1791376200-1791376200@hhsociety.org
SUMMARY:Needlecraft Goup
DESCRIPTION:Charitable needlecraft group meets Wednesdays at 12:30pm in the Game Room.  All skill levels are welcome.  $20 Annual dues. For questions\, or to register\, call Linda at (914) 277-2776 or Ginger at (914) 617-9058
URL:https://hhsociety.org/event/needlecraft-goup/2026-10-07/
LOCATION:Game Room
END:VEVENT
BEGIN:VEVENT
DTSTART;TZID=America/New_York:20261014T123000
DTEND;TZID=America/New_York:20261014T123000
DTSTAMP:20260423T145930
CREATED:20241023T152857Z
LAST-MODIFIED:20241023T152857Z
UID:10000486-1791981000-1791981000@hhsociety.org
SUMMARY:Needlecraft Goup
DESCRIPTION:Charitable needlecraft group meets Wednesdays at 12:30pm in the Game Room.  All skill levels are welcome.  $20 Annual dues. For questions\, or to register\, call Linda at (914) 277-2776 or Ginger at (914) 617-9058
URL:https://hhsociety.org/event/needlecraft-goup/2026-10-14/
LOCATION:Game Room
END:VEVENT
BEGIN:VEVENT
DTSTART;TZID=America/New_York:20261021T123000
DTEND;TZID=America/New_York:20261021T123000
DTSTAMP:20260423T145930
CREATED:20241023T152857Z
LAST-MODIFIED:20241023T152857Z
UID:10000487-1792585800-1792585800@hhsociety.org
SUMMARY:Needlecraft Goup
DESCRIPTION:Charitable needlecraft group meets Wednesdays at 12:30pm in the Game Room.  All skill levels are welcome.  $20 Annual dues. For questions\, or to register\, call Linda at (914) 277-2776 or Ginger at (914) 617-9058
URL:https://hhsociety.org/event/needlecraft-goup/2026-10-21/
LOCATION:Game Room
END:VEVENT
BEGIN:VEVENT
DTSTART;TZID=America/New_York:20261028T123000
DTEND;TZID=America/New_York:20261028T123000
DTSTAMP:20260423T145930
CREATED:20241023T152857Z
LAST-MODIFIED:20241023T152857Z
UID:10000488-1793190600-1793190600@hhsociety.org
SUMMARY:Needlecraft Goup
DESCRIPTION:Charitable needlecraft group meets Wednesdays at 12:30pm in the Game Room.  All skill levels are welcome.  $20 Annual dues. For questions\, or to register\, call Linda at (914) 277-2776 or Ginger at (914) 617-9058
URL:https://hhsociety.org/event/needlecraft-goup/2026-10-28/
LOCATION:Game Room
END:VEVENT
BEGIN:VEVENT
DTSTART;TZID=America/New_York:20261104T123000
DTEND;TZID=America/New_York:20261104T123000
DTSTAMP:20260423T145930
CREATED:20241023T152857Z
LAST-MODIFIED:20241023T152857Z
UID:10000489-1793795400-1793795400@hhsociety.org
SUMMARY:Needlecraft Goup
DESCRIPTION:Charitable needlecraft group meets Wednesdays at 12:30pm in the Game Room.  All skill levels are welcome.  $20 Annual dues. For questions\, or to register\, call Linda at (914) 277-2776 or Ginger at (914) 617-9058
URL:https://hhsociety.org/event/needlecraft-goup/2026-11-04/
LOCATION:Game Room
END:VEVENT
BEGIN:VEVENT
DTSTART;TZID=America/New_York:20261111T123000
DTEND;TZID=America/New_York:20261111T123000
DTSTAMP:20260423T145930
CREATED:20241023T152857Z
LAST-MODIFIED:20241023T152857Z
UID:10000490-1794400200-1794400200@hhsociety.org
SUMMARY:Needlecraft Goup
DESCRIPTION:Charitable needlecraft group meets Wednesdays at 12:30pm in the Game Room.  All skill levels are welcome.  $20 Annual dues. For questions\, or to register\, call Linda at (914) 277-2776 or Ginger at (914) 617-9058
URL:https://hhsociety.org/event/needlecraft-goup/2026-11-11/
LOCATION:Game Room
END:VEVENT
BEGIN:VEVENT
DTSTART;TZID=America/New_York:20261118T123000
DTEND;TZID=America/New_York:20261118T123000
DTSTAMP:20260423T145930
CREATED:20241023T152857Z
LAST-MODIFIED:20241023T152857Z
UID:10000491-1795005000-1795005000@hhsociety.org
SUMMARY:Needlecraft Goup
DESCRIPTION:Charitable needlecraft group meets Wednesdays at 12:30pm in the Game Room.  All skill levels are welcome.  $20 Annual dues. For questions\, or to register\, call Linda at (914) 277-2776 or Ginger at (914) 617-9058
URL:https://hhsociety.org/event/needlecraft-goup/2026-11-18/
LOCATION:Game Room
END:VEVENT
END:VCALENDAR