BEGIN:VCALENDAR
VERSION:2.0
PRODID:-//Heritage Hills Society - ECPv6.15.20//NONSGML v1.0//EN
CALSCALE:GREGORIAN
METHOD:PUBLISH
X-WR-CALNAME:Heritage Hills Society
X-ORIGINAL-URL:https://hhsociety.org
X-WR-CALDESC:Events for Heritage Hills Society
REFRESH-INTERVAL;VALUE=DURATION:PT1H
X-Robots-Tag:noindex
X-PUBLISHED-TTL:PT1H
BEGIN:VTIMEZONE
TZID:America/New_York
BEGIN:DAYLIGHT
TZOFFSETFROM:-0500
TZOFFSETTO:-0400
TZNAME:EDT
DTSTART:20250309T070000
END:DAYLIGHT
BEGIN:STANDARD
TZOFFSETFROM:-0400
TZOFFSETTO:-0500
TZNAME:EST
DTSTART:20251102T060000
END:STANDARD
BEGIN:DAYLIGHT
TZOFFSETFROM:-0500
TZOFFSETTO:-0400
TZNAME:EDT
DTSTART:20260308T070000
END:DAYLIGHT
BEGIN:STANDARD
TZOFFSETFROM:-0400
TZOFFSETTO:-0500
TZNAME:EST
DTSTART:20261101T060000
END:STANDARD
BEGIN:DAYLIGHT
TZOFFSETFROM:-0500
TZOFFSETTO:-0400
TZNAME:EDT
DTSTART:20270314T070000
END:DAYLIGHT
BEGIN:STANDARD
TZOFFSETFROM:-0400
TZOFFSETTO:-0500
TZNAME:EST
DTSTART:20271107T060000
END:STANDARD
BEGIN:DAYLIGHT
TZOFFSETFROM:-0500
TZOFFSETTO:-0400
TZNAME:EDT
DTSTART:20280312T070000
END:DAYLIGHT
BEGIN:STANDARD
TZOFFSETFROM:-0400
TZOFFSETTO:-0500
TZNAME:EST
DTSTART:20281105T060000
END:STANDARD
BEGIN:DAYLIGHT
TZOFFSETFROM:-0500
TZOFFSETTO:-0400
TZNAME:EDT
DTSTART:20290311T070000
END:DAYLIGHT
BEGIN:STANDARD
TZOFFSETFROM:-0400
TZOFFSETTO:-0500
TZNAME:EST
DTSTART:20291104T060000
END:STANDARD
END:VTIMEZONE
BEGIN:VEVENT
DTSTART;TZID=America/New_York:20260507T110000
DTEND;TZID=America/New_York:20260507T110000
DTSTAMP:20260423T131154
CREATED:20241023T182146Z
LAST-MODIFIED:20241023T182146Z
UID:10005338-1778151600-1778151600@hhsociety.org
SUMMARY:Spanish Conversation
DESCRIPTION:Meets the 1st Thursday of the month in Lake Lodge’s\nRoom 1 at 11 am. Group is open to intermediate through fluent Spanish speakers. ¡Vengan!
URL:https://hhsociety.org/event/spanish-conversation/2026-05-07/
LOCATION:Lake Lodge Room 1
END:VEVENT
BEGIN:VEVENT
DTSTART;TZID=America/New_York:20260604T110000
DTEND;TZID=America/New_York:20260604T110000
DTSTAMP:20260423T131154
CREATED:20241023T182146Z
LAST-MODIFIED:20241023T182146Z
UID:10005339-1780570800-1780570800@hhsociety.org
SUMMARY:Spanish Conversation
DESCRIPTION:Meets the 1st Thursday of the month in Lake Lodge’s\nRoom 1 at 11 am. Group is open to intermediate through fluent Spanish speakers. ¡Vengan!
URL:https://hhsociety.org/event/spanish-conversation/2026-06-04/
LOCATION:Lake Lodge Room 1
END:VEVENT
BEGIN:VEVENT
DTSTART;TZID=America/New_York:20260702T110000
DTEND;TZID=America/New_York:20260702T110000
DTSTAMP:20260423T131154
CREATED:20241023T182146Z
LAST-MODIFIED:20241023T182146Z
UID:10005340-1782990000-1782990000@hhsociety.org
SUMMARY:Spanish Conversation
DESCRIPTION:Meets the 1st Thursday of the month in Lake Lodge’s\nRoom 1 at 11 am. Group is open to intermediate through fluent Spanish speakers. ¡Vengan!
URL:https://hhsociety.org/event/spanish-conversation/2026-07-02/
LOCATION:Lake Lodge Room 1
END:VEVENT
BEGIN:VEVENT
DTSTART;TZID=America/New_York:20260806T110000
DTEND;TZID=America/New_York:20260806T110000
DTSTAMP:20260423T131154
CREATED:20241023T182146Z
LAST-MODIFIED:20241023T182146Z
UID:10005341-1786014000-1786014000@hhsociety.org
SUMMARY:Spanish Conversation
DESCRIPTION:Meets the 1st Thursday of the month in Lake Lodge’s\nRoom 1 at 11 am. Group is open to intermediate through fluent Spanish speakers. ¡Vengan!
URL:https://hhsociety.org/event/spanish-conversation/2026-08-06/
LOCATION:Lake Lodge Room 1
END:VEVENT
BEGIN:VEVENT
DTSTART;TZID=America/New_York:20260903T110000
DTEND;TZID=America/New_York:20260903T110000
DTSTAMP:20260423T131154
CREATED:20241023T182146Z
LAST-MODIFIED:20241023T182146Z
UID:10005342-1788433200-1788433200@hhsociety.org
SUMMARY:Spanish Conversation
DESCRIPTION:Meets the 1st Thursday of the month in Lake Lodge’s\nRoom 1 at 11 am. Group is open to intermediate through fluent Spanish speakers. ¡Vengan!
URL:https://hhsociety.org/event/spanish-conversation/2026-09-03/
LOCATION:Lake Lodge Room 1
END:VEVENT
BEGIN:VEVENT
DTSTART;TZID=America/New_York:20261001T110000
DTEND;TZID=America/New_York:20261001T110000
DTSTAMP:20260423T131154
CREATED:20241023T182146Z
LAST-MODIFIED:20241023T182146Z
UID:10005343-1790852400-1790852400@hhsociety.org
SUMMARY:Spanish Conversation
DESCRIPTION:Meets the 1st Thursday of the month in Lake Lodge’s\nRoom 1 at 11 am. Group is open to intermediate through fluent Spanish speakers. ¡Vengan!
URL:https://hhsociety.org/event/spanish-conversation/2026-10-01/
LOCATION:Lake Lodge Room 1
END:VEVENT
BEGIN:VEVENT
DTSTART;TZID=America/New_York:20261105T110000
DTEND;TZID=America/New_York:20261105T110000
DTSTAMP:20260423T131154
CREATED:20241023T182146Z
LAST-MODIFIED:20241023T182146Z
UID:10005344-1793876400-1793876400@hhsociety.org
SUMMARY:Spanish Conversation
DESCRIPTION:Meets the 1st Thursday of the month in Lake Lodge’s\nRoom 1 at 11 am. Group is open to intermediate through fluent Spanish speakers. ¡Vengan!
URL:https://hhsociety.org/event/spanish-conversation/2026-11-05/
LOCATION:Lake Lodge Room 1
END:VEVENT
BEGIN:VEVENT
DTSTART;TZID=America/New_York:20261203T110000
DTEND;TZID=America/New_York:20261203T110000
DTSTAMP:20260423T131154
CREATED:20241023T182146Z
LAST-MODIFIED:20241023T182146Z
UID:10005345-1796295600-1796295600@hhsociety.org
SUMMARY:Spanish Conversation
DESCRIPTION:Meets the 1st Thursday of the month in Lake Lodge’s\nRoom 1 at 11 am. Group is open to intermediate through fluent Spanish speakers. ¡Vengan!
URL:https://hhsociety.org/event/spanish-conversation/2026-12-03/
LOCATION:Lake Lodge Room 1
END:VEVENT
BEGIN:VEVENT
DTSTART;TZID=America/New_York:20270107T110000
DTEND;TZID=America/New_York:20270107T110000
DTSTAMP:20260423T131154
CREATED:20241023T182146Z
LAST-MODIFIED:20241023T182146Z
UID:10005346-1799319600-1799319600@hhsociety.org
SUMMARY:Spanish Conversation
DESCRIPTION:Meets the 1st Thursday of the month in Lake Lodge’s\nRoom 1 at 11 am. Group is open to intermediate through fluent Spanish speakers. ¡Vengan!
URL:https://hhsociety.org/event/spanish-conversation/2027-01-07/
LOCATION:Lake Lodge Room 1
END:VEVENT
BEGIN:VEVENT
DTSTART;TZID=America/New_York:20270204T110000
DTEND;TZID=America/New_York:20270204T110000
DTSTAMP:20260423T131154
CREATED:20241023T182146Z
LAST-MODIFIED:20241023T182146Z
UID:10005347-1801738800-1801738800@hhsociety.org
SUMMARY:Spanish Conversation
DESCRIPTION:Meets the 1st Thursday of the month in Lake Lodge’s\nRoom 1 at 11 am. Group is open to intermediate through fluent Spanish speakers. ¡Vengan!
URL:https://hhsociety.org/event/spanish-conversation/2027-02-04/
LOCATION:Lake Lodge Room 1
END:VEVENT
BEGIN:VEVENT
DTSTART;TZID=America/New_York:20270304T110000
DTEND;TZID=America/New_York:20270304T110000
DTSTAMP:20260423T131154
CREATED:20241023T182146Z
LAST-MODIFIED:20241023T182146Z
UID:10005348-1804158000-1804158000@hhsociety.org
SUMMARY:Spanish Conversation
DESCRIPTION:Meets the 1st Thursday of the month in Lake Lodge’s\nRoom 1 at 11 am. Group is open to intermediate through fluent Spanish speakers. ¡Vengan!
URL:https://hhsociety.org/event/spanish-conversation/2027-03-04/
LOCATION:Lake Lodge Room 1
END:VEVENT
BEGIN:VEVENT
DTSTART;TZID=America/New_York:20270401T110000
DTEND;TZID=America/New_York:20270401T110000
DTSTAMP:20260423T131154
CREATED:20241023T182146Z
LAST-MODIFIED:20241023T182146Z
UID:10005349-1806577200-1806577200@hhsociety.org
SUMMARY:Spanish Conversation
DESCRIPTION:Meets the 1st Thursday of the month in Lake Lodge’s\nRoom 1 at 11 am. Group is open to intermediate through fluent Spanish speakers. ¡Vengan!
URL:https://hhsociety.org/event/spanish-conversation/2027-04-01/
LOCATION:Lake Lodge Room 1
END:VEVENT
BEGIN:VEVENT
DTSTART;TZID=America/New_York:20270506T110000
DTEND;TZID=America/New_York:20270506T110000
DTSTAMP:20260423T131154
CREATED:20241023T182146Z
LAST-MODIFIED:20241023T182146Z
UID:10005350-1809601200-1809601200@hhsociety.org
SUMMARY:Spanish Conversation
DESCRIPTION:Meets the 1st Thursday of the month in Lake Lodge’s\nRoom 1 at 11 am. Group is open to intermediate through fluent Spanish speakers. ¡Vengan!
URL:https://hhsociety.org/event/spanish-conversation/2027-05-06/
LOCATION:Lake Lodge Room 1
END:VEVENT
BEGIN:VEVENT
DTSTART;TZID=America/New_York:20270603T110000
DTEND;TZID=America/New_York:20270603T110000
DTSTAMP:20260423T131154
CREATED:20241023T182146Z
LAST-MODIFIED:20241023T182146Z
UID:10005351-1812020400-1812020400@hhsociety.org
SUMMARY:Spanish Conversation
DESCRIPTION:Meets the 1st Thursday of the month in Lake Lodge’s\nRoom 1 at 11 am. Group is open to intermediate through fluent Spanish speakers. ¡Vengan!
URL:https://hhsociety.org/event/spanish-conversation/2027-06-03/
LOCATION:Lake Lodge Room 1
END:VEVENT
BEGIN:VEVENT
DTSTART;TZID=America/New_York:20270701T110000
DTEND;TZID=America/New_York:20270701T110000
DTSTAMP:20260423T131154
CREATED:20241023T182146Z
LAST-MODIFIED:20241023T182146Z
UID:10005352-1814439600-1814439600@hhsociety.org
SUMMARY:Spanish Conversation
DESCRIPTION:Meets the 1st Thursday of the month in Lake Lodge’s\nRoom 1 at 11 am. Group is open to intermediate through fluent Spanish speakers. ¡Vengan!
URL:https://hhsociety.org/event/spanish-conversation/2027-07-01/
LOCATION:Lake Lodge Room 1
END:VEVENT
BEGIN:VEVENT
DTSTART;TZID=America/New_York:20270805T110000
DTEND;TZID=America/New_York:20270805T110000
DTSTAMP:20260423T131154
CREATED:20241023T182146Z
LAST-MODIFIED:20241023T182146Z
UID:10005353-1817463600-1817463600@hhsociety.org
SUMMARY:Spanish Conversation
DESCRIPTION:Meets the 1st Thursday of the month in Lake Lodge’s\nRoom 1 at 11 am. Group is open to intermediate through fluent Spanish speakers. ¡Vengan!
URL:https://hhsociety.org/event/spanish-conversation/2027-08-05/
LOCATION:Lake Lodge Room 1
END:VEVENT
BEGIN:VEVENT
DTSTART;TZID=America/New_York:20270902T110000
DTEND;TZID=America/New_York:20270902T110000
DTSTAMP:20260423T131154
CREATED:20241023T182146Z
LAST-MODIFIED:20241023T182146Z
UID:10005354-1819882800-1819882800@hhsociety.org
SUMMARY:Spanish Conversation
DESCRIPTION:Meets the 1st Thursday of the month in Lake Lodge’s\nRoom 1 at 11 am. Group is open to intermediate through fluent Spanish speakers. ¡Vengan!
URL:https://hhsociety.org/event/spanish-conversation/2027-09-02/
LOCATION:Lake Lodge Room 1
END:VEVENT
BEGIN:VEVENT
DTSTART;TZID=America/New_York:20271007T110000
DTEND;TZID=America/New_York:20271007T110000
DTSTAMP:20260423T131154
CREATED:20241023T182146Z
LAST-MODIFIED:20241023T182146Z
UID:10005355-1822906800-1822906800@hhsociety.org
SUMMARY:Spanish Conversation
DESCRIPTION:Meets the 1st Thursday of the month in Lake Lodge’s\nRoom 1 at 11 am. Group is open to intermediate through fluent Spanish speakers. ¡Vengan!
URL:https://hhsociety.org/event/spanish-conversation/2027-10-07/
LOCATION:Lake Lodge Room 1
END:VEVENT
BEGIN:VEVENT
DTSTART;TZID=America/New_York:20271104T110000
DTEND;TZID=America/New_York:20271104T110000
DTSTAMP:20260423T131154
CREATED:20241023T182146Z
LAST-MODIFIED:20241023T182146Z
UID:10005356-1825326000-1825326000@hhsociety.org
SUMMARY:Spanish Conversation
DESCRIPTION:Meets the 1st Thursday of the month in Lake Lodge’s\nRoom 1 at 11 am. Group is open to intermediate through fluent Spanish speakers. ¡Vengan!
URL:https://hhsociety.org/event/spanish-conversation/2027-11-04/
LOCATION:Lake Lodge Room 1
END:VEVENT
BEGIN:VEVENT
DTSTART;TZID=America/New_York:20271202T110000
DTEND;TZID=America/New_York:20271202T110000
DTSTAMP:20260423T131154
CREATED:20241023T182146Z
LAST-MODIFIED:20241023T182146Z
UID:10005357-1827745200-1827745200@hhsociety.org
SUMMARY:Spanish Conversation
DESCRIPTION:Meets the 1st Thursday of the month in Lake Lodge’s\nRoom 1 at 11 am. Group is open to intermediate through fluent Spanish speakers. ¡Vengan!
URL:https://hhsociety.org/event/spanish-conversation/2027-12-02/
LOCATION:Lake Lodge Room 1
END:VEVENT
BEGIN:VEVENT
DTSTART;TZID=America/New_York:20280106T110000
DTEND;TZID=America/New_York:20280106T110000
DTSTAMP:20260423T131154
CREATED:20241023T182146Z
LAST-MODIFIED:20241023T182146Z
UID:10005358-1830769200-1830769200@hhsociety.org
SUMMARY:Spanish Conversation
DESCRIPTION:Meets the 1st Thursday of the month in Lake Lodge’s\nRoom 1 at 11 am. Group is open to intermediate through fluent Spanish speakers. ¡Vengan!
URL:https://hhsociety.org/event/spanish-conversation/2028-01-06/
LOCATION:Lake Lodge Room 1
END:VEVENT
BEGIN:VEVENT
DTSTART;TZID=America/New_York:20280203T110000
DTEND;TZID=America/New_York:20280203T110000
DTSTAMP:20260423T131154
CREATED:20241023T182146Z
LAST-MODIFIED:20241023T182146Z
UID:10005359-1833188400-1833188400@hhsociety.org
SUMMARY:Spanish Conversation
DESCRIPTION:Meets the 1st Thursday of the month in Lake Lodge’s\nRoom 1 at 11 am. Group is open to intermediate through fluent Spanish speakers. ¡Vengan!
URL:https://hhsociety.org/event/spanish-conversation/2028-02-03/
LOCATION:Lake Lodge Room 1
END:VEVENT
BEGIN:VEVENT
DTSTART;TZID=America/New_York:20280302T110000
DTEND;TZID=America/New_York:20280302T110000
DTSTAMP:20260423T131154
CREATED:20241023T182146Z
LAST-MODIFIED:20241023T182146Z
UID:10005360-1835607600-1835607600@hhsociety.org
SUMMARY:Spanish Conversation
DESCRIPTION:Meets the 1st Thursday of the month in Lake Lodge’s\nRoom 1 at 11 am. Group is open to intermediate through fluent Spanish speakers. ¡Vengan!
URL:https://hhsociety.org/event/spanish-conversation/2028-03-02/
LOCATION:Lake Lodge Room 1
END:VEVENT
BEGIN:VEVENT
DTSTART;TZID=America/New_York:20280406T110000
DTEND;TZID=America/New_York:20280406T110000
DTSTAMP:20260423T131154
CREATED:20241023T182146Z
LAST-MODIFIED:20241023T182146Z
UID:10005361-1838631600-1838631600@hhsociety.org
SUMMARY:Spanish Conversation
DESCRIPTION:Meets the 1st Thursday of the month in Lake Lodge’s\nRoom 1 at 11 am. Group is open to intermediate through fluent Spanish speakers. ¡Vengan!
URL:https://hhsociety.org/event/spanish-conversation/2028-04-06/
LOCATION:Lake Lodge Room 1
END:VEVENT
BEGIN:VEVENT
DTSTART;TZID=America/New_York:20280504T110000
DTEND;TZID=America/New_York:20280504T110000
DTSTAMP:20260423T131154
CREATED:20241023T182146Z
LAST-MODIFIED:20241023T182146Z
UID:10005362-1841050800-1841050800@hhsociety.org
SUMMARY:Spanish Conversation
DESCRIPTION:Meets the 1st Thursday of the month in Lake Lodge’s\nRoom 1 at 11 am. Group is open to intermediate through fluent Spanish speakers. ¡Vengan!
URL:https://hhsociety.org/event/spanish-conversation/2028-05-04/
LOCATION:Lake Lodge Room 1
END:VEVENT
BEGIN:VEVENT
DTSTART;TZID=America/New_York:20280601T110000
DTEND;TZID=America/New_York:20280601T110000
DTSTAMP:20260423T131154
CREATED:20241023T182146Z
LAST-MODIFIED:20241023T182146Z
UID:10005363-1843470000-1843470000@hhsociety.org
SUMMARY:Spanish Conversation
DESCRIPTION:Meets the 1st Thursday of the month in Lake Lodge’s\nRoom 1 at 11 am. Group is open to intermediate through fluent Spanish speakers. ¡Vengan!
URL:https://hhsociety.org/event/spanish-conversation/2028-06-01/
LOCATION:Lake Lodge Room 1
END:VEVENT
BEGIN:VEVENT
DTSTART;TZID=America/New_York:20280706T110000
DTEND;TZID=America/New_York:20280706T110000
DTSTAMP:20260423T131154
CREATED:20241023T182146Z
LAST-MODIFIED:20241023T182146Z
UID:10005364-1846494000-1846494000@hhsociety.org
SUMMARY:Spanish Conversation
DESCRIPTION:Meets the 1st Thursday of the month in Lake Lodge’s\nRoom 1 at 11 am. Group is open to intermediate through fluent Spanish speakers. ¡Vengan!
URL:https://hhsociety.org/event/spanish-conversation/2028-07-06/
LOCATION:Lake Lodge Room 1
END:VEVENT
BEGIN:VEVENT
DTSTART;TZID=America/New_York:20280803T110000
DTEND;TZID=America/New_York:20280803T110000
DTSTAMP:20260423T131154
CREATED:20241023T182146Z
LAST-MODIFIED:20241023T182146Z
UID:10005365-1848913200-1848913200@hhsociety.org
SUMMARY:Spanish Conversation
DESCRIPTION:Meets the 1st Thursday of the month in Lake Lodge’s\nRoom 1 at 11 am. Group is open to intermediate through fluent Spanish speakers. ¡Vengan!
URL:https://hhsociety.org/event/spanish-conversation/2028-08-03/
LOCATION:Lake Lodge Room 1
END:VEVENT
BEGIN:VEVENT
DTSTART;TZID=America/New_York:20280907T110000
DTEND;TZID=America/New_York:20280907T110000
DTSTAMP:20260423T131154
CREATED:20241023T182146Z
LAST-MODIFIED:20241023T182146Z
UID:10005366-1851937200-1851937200@hhsociety.org
SUMMARY:Spanish Conversation
DESCRIPTION:Meets the 1st Thursday of the month in Lake Lodge’s\nRoom 1 at 11 am. Group is open to intermediate through fluent Spanish speakers. ¡Vengan!
URL:https://hhsociety.org/event/spanish-conversation/2028-09-07/
LOCATION:Lake Lodge Room 1
END:VEVENT
BEGIN:VEVENT
DTSTART;TZID=America/New_York:20281005T110000
DTEND;TZID=America/New_York:20281005T110000
DTSTAMP:20260423T131154
CREATED:20241023T182146Z
LAST-MODIFIED:20241023T182146Z
UID:10005367-1854356400-1854356400@hhsociety.org
SUMMARY:Spanish Conversation
DESCRIPTION:Meets the 1st Thursday of the month in Lake Lodge’s\nRoom 1 at 11 am. Group is open to intermediate through fluent Spanish speakers. ¡Vengan!
URL:https://hhsociety.org/event/spanish-conversation/2028-10-05/
LOCATION:Lake Lodge Room 1
END:VEVENT
END:VCALENDAR