BEGIN:VCALENDAR
VERSION:2.0
PRODID:-//Heritage Hills Society - ECPv6.15.20//NONSGML v1.0//EN
CALSCALE:GREGORIAN
METHOD:PUBLISH
X-WR-CALNAME:Heritage Hills Society
X-ORIGINAL-URL:https://hhsociety.org
X-WR-CALDESC:Events for Heritage Hills Society
REFRESH-INTERVAL;VALUE=DURATION:PT1H
X-Robots-Tag:noindex
X-PUBLISHED-TTL:PT1H
BEGIN:VTIMEZONE
TZID:America/New_York
BEGIN:DAYLIGHT
TZOFFSETFROM:-0500
TZOFFSETTO:-0400
TZNAME:EDT
DTSTART:20250309T070000
END:DAYLIGHT
BEGIN:STANDARD
TZOFFSETFROM:-0400
TZOFFSETTO:-0500
TZNAME:EST
DTSTART:20251102T060000
END:STANDARD
BEGIN:DAYLIGHT
TZOFFSETFROM:-0500
TZOFFSETTO:-0400
TZNAME:EDT
DTSTART:20260308T070000
END:DAYLIGHT
BEGIN:STANDARD
TZOFFSETFROM:-0400
TZOFFSETTO:-0500
TZNAME:EST
DTSTART:20261101T060000
END:STANDARD
BEGIN:DAYLIGHT
TZOFFSETFROM:-0500
TZOFFSETTO:-0400
TZNAME:EDT
DTSTART:20270314T070000
END:DAYLIGHT
BEGIN:STANDARD
TZOFFSETFROM:-0400
TZOFFSETTO:-0500
TZNAME:EST
DTSTART:20271107T060000
END:STANDARD
END:VTIMEZONE
BEGIN:VEVENT
DTSTART;TZID=America/New_York:20260425T123000
DTEND;TZID=America/New_York:20260425T123000
DTSTAMP:20260424T235158
CREATED:20241023T183621Z
LAST-MODIFIED:20241023T183729Z
UID:10006300-1777120200-1777120200@hhsociety.org
SUMMARY:Canasta Club
DESCRIPTION:Saturdays 12:30pm to 4pm. Contact Doris Simon 914-276-0111 or\nDoris1121@me.com or Nancy Heilman 914-224-7180 or Nancy.C.Heilman@gmail.com
URL:https://hhsociety.org/event/canasta-club-3/2026-04-25/
LOCATION:Room 2/3
END:VEVENT
BEGIN:VEVENT
DTSTART;TZID=America/New_York:20260502T123000
DTEND;TZID=America/New_York:20260502T123000
DTSTAMP:20260424T235158
CREATED:20241023T183621Z
LAST-MODIFIED:20241023T183729Z
UID:10006301-1777725000-1777725000@hhsociety.org
SUMMARY:Canasta Club
DESCRIPTION:Saturdays 12:30pm to 4pm. Contact Doris Simon 914-276-0111 or\nDoris1121@me.com or Nancy Heilman 914-224-7180 or Nancy.C.Heilman@gmail.com
URL:https://hhsociety.org/event/canasta-club-3/2026-05-02/
LOCATION:Room 2/3
END:VEVENT
BEGIN:VEVENT
DTSTART;TZID=America/New_York:20260509T123000
DTEND;TZID=America/New_York:20260509T123000
DTSTAMP:20260424T235158
CREATED:20241023T183621Z
LAST-MODIFIED:20241023T183729Z
UID:10006302-1778329800-1778329800@hhsociety.org
SUMMARY:Canasta Club
DESCRIPTION:Saturdays 12:30pm to 4pm. Contact Doris Simon 914-276-0111 or\nDoris1121@me.com or Nancy Heilman 914-224-7180 or Nancy.C.Heilman@gmail.com
URL:https://hhsociety.org/event/canasta-club-3/2026-05-09/
LOCATION:Room 2/3
END:VEVENT
BEGIN:VEVENT
DTSTART;TZID=America/New_York:20260516T123000
DTEND;TZID=America/New_York:20260516T123000
DTSTAMP:20260424T235158
CREATED:20241023T183621Z
LAST-MODIFIED:20241023T183729Z
UID:10006303-1778934600-1778934600@hhsociety.org
SUMMARY:Canasta Club
DESCRIPTION:Saturdays 12:30pm to 4pm. Contact Doris Simon 914-276-0111 or\nDoris1121@me.com or Nancy Heilman 914-224-7180 or Nancy.C.Heilman@gmail.com
URL:https://hhsociety.org/event/canasta-club-3/2026-05-16/
LOCATION:Room 2/3
END:VEVENT
BEGIN:VEVENT
DTSTART;TZID=America/New_York:20260523T123000
DTEND;TZID=America/New_York:20260523T123000
DTSTAMP:20260424T235158
CREATED:20241023T183621Z
LAST-MODIFIED:20241023T183729Z
UID:10006304-1779539400-1779539400@hhsociety.org
SUMMARY:Canasta Club
DESCRIPTION:Saturdays 12:30pm to 4pm. Contact Doris Simon 914-276-0111 or\nDoris1121@me.com or Nancy Heilman 914-224-7180 or Nancy.C.Heilman@gmail.com
URL:https://hhsociety.org/event/canasta-club-3/2026-05-23/
LOCATION:Room 2/3
END:VEVENT
BEGIN:VEVENT
DTSTART;TZID=America/New_York:20260530T123000
DTEND;TZID=America/New_York:20260530T123000
DTSTAMP:20260424T235158
CREATED:20241023T183621Z
LAST-MODIFIED:20241023T183729Z
UID:10006305-1780144200-1780144200@hhsociety.org
SUMMARY:Canasta Club
DESCRIPTION:Saturdays 12:30pm to 4pm. Contact Doris Simon 914-276-0111 or\nDoris1121@me.com or Nancy Heilman 914-224-7180 or Nancy.C.Heilman@gmail.com
URL:https://hhsociety.org/event/canasta-club-3/2026-05-30/
LOCATION:Room 2/3
END:VEVENT
BEGIN:VEVENT
DTSTART;TZID=America/New_York:20260606T123000
DTEND;TZID=America/New_York:20260606T123000
DTSTAMP:20260424T235158
CREATED:20241023T183621Z
LAST-MODIFIED:20241023T183729Z
UID:10006306-1780749000-1780749000@hhsociety.org
SUMMARY:Canasta Club
DESCRIPTION:Saturdays 12:30pm to 4pm. Contact Doris Simon 914-276-0111 or\nDoris1121@me.com or Nancy Heilman 914-224-7180 or Nancy.C.Heilman@gmail.com
URL:https://hhsociety.org/event/canasta-club-3/2026-06-06/
LOCATION:Room 2/3
END:VEVENT
BEGIN:VEVENT
DTSTART;TZID=America/New_York:20260613T123000
DTEND;TZID=America/New_York:20260613T123000
DTSTAMP:20260424T235158
CREATED:20241023T183621Z
LAST-MODIFIED:20241023T183729Z
UID:10006307-1781353800-1781353800@hhsociety.org
SUMMARY:Canasta Club
DESCRIPTION:Saturdays 12:30pm to 4pm. Contact Doris Simon 914-276-0111 or\nDoris1121@me.com or Nancy Heilman 914-224-7180 or Nancy.C.Heilman@gmail.com
URL:https://hhsociety.org/event/canasta-club-3/2026-06-13/
LOCATION:Room 2/3
END:VEVENT
BEGIN:VEVENT
DTSTART;TZID=America/New_York:20260620T123000
DTEND;TZID=America/New_York:20260620T123000
DTSTAMP:20260424T235158
CREATED:20241023T183621Z
LAST-MODIFIED:20241023T183729Z
UID:10006308-1781958600-1781958600@hhsociety.org
SUMMARY:Canasta Club
DESCRIPTION:Saturdays 12:30pm to 4pm. Contact Doris Simon 914-276-0111 or\nDoris1121@me.com or Nancy Heilman 914-224-7180 or Nancy.C.Heilman@gmail.com
URL:https://hhsociety.org/event/canasta-club-3/2026-06-20/
LOCATION:Room 2/3
END:VEVENT
BEGIN:VEVENT
DTSTART;TZID=America/New_York:20260627T123000
DTEND;TZID=America/New_York:20260627T123000
DTSTAMP:20260424T235158
CREATED:20241023T183621Z
LAST-MODIFIED:20241023T183729Z
UID:10006309-1782563400-1782563400@hhsociety.org
SUMMARY:Canasta Club
DESCRIPTION:Saturdays 12:30pm to 4pm. Contact Doris Simon 914-276-0111 or\nDoris1121@me.com or Nancy Heilman 914-224-7180 or Nancy.C.Heilman@gmail.com
URL:https://hhsociety.org/event/canasta-club-3/2026-06-27/
LOCATION:Room 2/3
END:VEVENT
BEGIN:VEVENT
DTSTART;TZID=America/New_York:20260704T123000
DTEND;TZID=America/New_York:20260704T123000
DTSTAMP:20260424T235158
CREATED:20241023T183621Z
LAST-MODIFIED:20241023T183729Z
UID:10006310-1783168200-1783168200@hhsociety.org
SUMMARY:Canasta Club
DESCRIPTION:Saturdays 12:30pm to 4pm. Contact Doris Simon 914-276-0111 or\nDoris1121@me.com or Nancy Heilman 914-224-7180 or Nancy.C.Heilman@gmail.com
URL:https://hhsociety.org/event/canasta-club-3/2026-07-04/
LOCATION:Room 2/3
END:VEVENT
BEGIN:VEVENT
DTSTART;TZID=America/New_York:20260711T123000
DTEND;TZID=America/New_York:20260711T123000
DTSTAMP:20260424T235158
CREATED:20241023T183621Z
LAST-MODIFIED:20241023T183729Z
UID:10006311-1783773000-1783773000@hhsociety.org
SUMMARY:Canasta Club
DESCRIPTION:Saturdays 12:30pm to 4pm. Contact Doris Simon 914-276-0111 or\nDoris1121@me.com or Nancy Heilman 914-224-7180 or Nancy.C.Heilman@gmail.com
URL:https://hhsociety.org/event/canasta-club-3/2026-07-11/
LOCATION:Room 2/3
END:VEVENT
BEGIN:VEVENT
DTSTART;TZID=America/New_York:20260718T123000
DTEND;TZID=America/New_York:20260718T123000
DTSTAMP:20260424T235158
CREATED:20241023T183621Z
LAST-MODIFIED:20241023T183729Z
UID:10006312-1784377800-1784377800@hhsociety.org
SUMMARY:Canasta Club
DESCRIPTION:Saturdays 12:30pm to 4pm. Contact Doris Simon 914-276-0111 or\nDoris1121@me.com or Nancy Heilman 914-224-7180 or Nancy.C.Heilman@gmail.com
URL:https://hhsociety.org/event/canasta-club-3/2026-07-18/
LOCATION:Room 2/3
END:VEVENT
BEGIN:VEVENT
DTSTART;TZID=America/New_York:20260725T123000
DTEND;TZID=America/New_York:20260725T123000
DTSTAMP:20260424T235158
CREATED:20241023T183621Z
LAST-MODIFIED:20241023T183729Z
UID:10006313-1784982600-1784982600@hhsociety.org
SUMMARY:Canasta Club
DESCRIPTION:Saturdays 12:30pm to 4pm. Contact Doris Simon 914-276-0111 or\nDoris1121@me.com or Nancy Heilman 914-224-7180 or Nancy.C.Heilman@gmail.com
URL:https://hhsociety.org/event/canasta-club-3/2026-07-25/
LOCATION:Room 2/3
END:VEVENT
BEGIN:VEVENT
DTSTART;TZID=America/New_York:20260801T123000
DTEND;TZID=America/New_York:20260801T123000
DTSTAMP:20260424T235158
CREATED:20241023T183621Z
LAST-MODIFIED:20241023T183729Z
UID:10006314-1785587400-1785587400@hhsociety.org
SUMMARY:Canasta Club
DESCRIPTION:Saturdays 12:30pm to 4pm. Contact Doris Simon 914-276-0111 or\nDoris1121@me.com or Nancy Heilman 914-224-7180 or Nancy.C.Heilman@gmail.com
URL:https://hhsociety.org/event/canasta-club-3/2026-08-01/
LOCATION:Room 2/3
END:VEVENT
BEGIN:VEVENT
DTSTART;TZID=America/New_York:20260808T123000
DTEND;TZID=America/New_York:20260808T123000
DTSTAMP:20260424T235158
CREATED:20241023T183621Z
LAST-MODIFIED:20241023T183729Z
UID:10006315-1786192200-1786192200@hhsociety.org
SUMMARY:Canasta Club
DESCRIPTION:Saturdays 12:30pm to 4pm. Contact Doris Simon 914-276-0111 or\nDoris1121@me.com or Nancy Heilman 914-224-7180 or Nancy.C.Heilman@gmail.com
URL:https://hhsociety.org/event/canasta-club-3/2026-08-08/
LOCATION:Room 2/3
END:VEVENT
BEGIN:VEVENT
DTSTART;TZID=America/New_York:20260815T123000
DTEND;TZID=America/New_York:20260815T123000
DTSTAMP:20260424T235158
CREATED:20241023T183621Z
LAST-MODIFIED:20241023T183729Z
UID:10006316-1786797000-1786797000@hhsociety.org
SUMMARY:Canasta Club
DESCRIPTION:Saturdays 12:30pm to 4pm. Contact Doris Simon 914-276-0111 or\nDoris1121@me.com or Nancy Heilman 914-224-7180 or Nancy.C.Heilman@gmail.com
URL:https://hhsociety.org/event/canasta-club-3/2026-08-15/
LOCATION:Room 2/3
END:VEVENT
BEGIN:VEVENT
DTSTART;TZID=America/New_York:20260822T123000
DTEND;TZID=America/New_York:20260822T123000
DTSTAMP:20260424T235158
CREATED:20241023T183621Z
LAST-MODIFIED:20241023T183729Z
UID:10006317-1787401800-1787401800@hhsociety.org
SUMMARY:Canasta Club
DESCRIPTION:Saturdays 12:30pm to 4pm. Contact Doris Simon 914-276-0111 or\nDoris1121@me.com or Nancy Heilman 914-224-7180 or Nancy.C.Heilman@gmail.com
URL:https://hhsociety.org/event/canasta-club-3/2026-08-22/
LOCATION:Room 2/3
END:VEVENT
BEGIN:VEVENT
DTSTART;TZID=America/New_York:20260829T123000
DTEND;TZID=America/New_York:20260829T123000
DTSTAMP:20260424T235158
CREATED:20241023T183621Z
LAST-MODIFIED:20241023T183729Z
UID:10006318-1788006600-1788006600@hhsociety.org
SUMMARY:Canasta Club
DESCRIPTION:Saturdays 12:30pm to 4pm. Contact Doris Simon 914-276-0111 or\nDoris1121@me.com or Nancy Heilman 914-224-7180 or Nancy.C.Heilman@gmail.com
URL:https://hhsociety.org/event/canasta-club-3/2026-08-29/
LOCATION:Room 2/3
END:VEVENT
BEGIN:VEVENT
DTSTART;TZID=America/New_York:20260905T123000
DTEND;TZID=America/New_York:20260905T123000
DTSTAMP:20260424T235158
CREATED:20241023T183621Z
LAST-MODIFIED:20241023T183729Z
UID:10006319-1788611400-1788611400@hhsociety.org
SUMMARY:Canasta Club
DESCRIPTION:Saturdays 12:30pm to 4pm. Contact Doris Simon 914-276-0111 or\nDoris1121@me.com or Nancy Heilman 914-224-7180 or Nancy.C.Heilman@gmail.com
URL:https://hhsociety.org/event/canasta-club-3/2026-09-05/
LOCATION:Room 2/3
END:VEVENT
BEGIN:VEVENT
DTSTART;TZID=America/New_York:20260912T123000
DTEND;TZID=America/New_York:20260912T123000
DTSTAMP:20260424T235158
CREATED:20241023T183621Z
LAST-MODIFIED:20241023T183729Z
UID:10006320-1789216200-1789216200@hhsociety.org
SUMMARY:Canasta Club
DESCRIPTION:Saturdays 12:30pm to 4pm. Contact Doris Simon 914-276-0111 or\nDoris1121@me.com or Nancy Heilman 914-224-7180 or Nancy.C.Heilman@gmail.com
URL:https://hhsociety.org/event/canasta-club-3/2026-09-12/
LOCATION:Room 2/3
END:VEVENT
BEGIN:VEVENT
DTSTART;TZID=America/New_York:20260919T123000
DTEND;TZID=America/New_York:20260919T123000
DTSTAMP:20260424T235158
CREATED:20241023T183621Z
LAST-MODIFIED:20241023T183729Z
UID:10006321-1789821000-1789821000@hhsociety.org
SUMMARY:Canasta Club
DESCRIPTION:Saturdays 12:30pm to 4pm. Contact Doris Simon 914-276-0111 or\nDoris1121@me.com or Nancy Heilman 914-224-7180 or Nancy.C.Heilman@gmail.com
URL:https://hhsociety.org/event/canasta-club-3/2026-09-19/
LOCATION:Room 2/3
END:VEVENT
BEGIN:VEVENT
DTSTART;TZID=America/New_York:20260926T123000
DTEND;TZID=America/New_York:20260926T123000
DTSTAMP:20260424T235158
CREATED:20241023T183621Z
LAST-MODIFIED:20241023T183729Z
UID:10006322-1790425800-1790425800@hhsociety.org
SUMMARY:Canasta Club
DESCRIPTION:Saturdays 12:30pm to 4pm. Contact Doris Simon 914-276-0111 or\nDoris1121@me.com or Nancy Heilman 914-224-7180 or Nancy.C.Heilman@gmail.com
URL:https://hhsociety.org/event/canasta-club-3/2026-09-26/
LOCATION:Room 2/3
END:VEVENT
BEGIN:VEVENT
DTSTART;TZID=America/New_York:20261003T123000
DTEND;TZID=America/New_York:20261003T123000
DTSTAMP:20260424T235158
CREATED:20241023T183621Z
LAST-MODIFIED:20241023T183729Z
UID:10006323-1791030600-1791030600@hhsociety.org
SUMMARY:Canasta Club
DESCRIPTION:Saturdays 12:30pm to 4pm. Contact Doris Simon 914-276-0111 or\nDoris1121@me.com or Nancy Heilman 914-224-7180 or Nancy.C.Heilman@gmail.com
URL:https://hhsociety.org/event/canasta-club-3/2026-10-03/
LOCATION:Room 2/3
END:VEVENT
BEGIN:VEVENT
DTSTART;TZID=America/New_York:20261010T123000
DTEND;TZID=America/New_York:20261010T123000
DTSTAMP:20260424T235158
CREATED:20241023T183621Z
LAST-MODIFIED:20241023T183729Z
UID:10006324-1791635400-1791635400@hhsociety.org
SUMMARY:Canasta Club
DESCRIPTION:Saturdays 12:30pm to 4pm. Contact Doris Simon 914-276-0111 or\nDoris1121@me.com or Nancy Heilman 914-224-7180 or Nancy.C.Heilman@gmail.com
URL:https://hhsociety.org/event/canasta-club-3/2026-10-10/
LOCATION:Room 2/3
END:VEVENT
BEGIN:VEVENT
DTSTART;TZID=America/New_York:20261017T123000
DTEND;TZID=America/New_York:20261017T123000
DTSTAMP:20260424T235158
CREATED:20241023T183621Z
LAST-MODIFIED:20241023T183729Z
UID:10006325-1792240200-1792240200@hhsociety.org
SUMMARY:Canasta Club
DESCRIPTION:Saturdays 12:30pm to 4pm. Contact Doris Simon 914-276-0111 or\nDoris1121@me.com or Nancy Heilman 914-224-7180 or Nancy.C.Heilman@gmail.com
URL:https://hhsociety.org/event/canasta-club-3/2026-10-17/
LOCATION:Room 2/3
END:VEVENT
BEGIN:VEVENT
DTSTART;TZID=America/New_York:20261024T123000
DTEND;TZID=America/New_York:20261024T123000
DTSTAMP:20260424T235158
CREATED:20241023T183621Z
LAST-MODIFIED:20241023T183729Z
UID:10006326-1792845000-1792845000@hhsociety.org
SUMMARY:Canasta Club
DESCRIPTION:Saturdays 12:30pm to 4pm. Contact Doris Simon 914-276-0111 or\nDoris1121@me.com or Nancy Heilman 914-224-7180 or Nancy.C.Heilman@gmail.com
URL:https://hhsociety.org/event/canasta-club-3/2026-10-24/
LOCATION:Room 2/3
END:VEVENT
BEGIN:VEVENT
DTSTART;TZID=America/New_York:20261031T123000
DTEND;TZID=America/New_York:20261031T123000
DTSTAMP:20260424T235158
CREATED:20241023T183621Z
LAST-MODIFIED:20241023T183729Z
UID:10006327-1793449800-1793449800@hhsociety.org
SUMMARY:Canasta Club
DESCRIPTION:Saturdays 12:30pm to 4pm. Contact Doris Simon 914-276-0111 or\nDoris1121@me.com or Nancy Heilman 914-224-7180 or Nancy.C.Heilman@gmail.com
URL:https://hhsociety.org/event/canasta-club-3/2026-10-31/
LOCATION:Room 2/3
END:VEVENT
BEGIN:VEVENT
DTSTART;TZID=America/New_York:20261107T123000
DTEND;TZID=America/New_York:20261107T123000
DTSTAMP:20260424T235158
CREATED:20241023T183621Z
LAST-MODIFIED:20241023T183729Z
UID:10006328-1794054600-1794054600@hhsociety.org
SUMMARY:Canasta Club
DESCRIPTION:Saturdays 12:30pm to 4pm. Contact Doris Simon 914-276-0111 or\nDoris1121@me.com or Nancy Heilman 914-224-7180 or Nancy.C.Heilman@gmail.com
URL:https://hhsociety.org/event/canasta-club-3/2026-11-07/
LOCATION:Room 2/3
END:VEVENT
BEGIN:VEVENT
DTSTART;TZID=America/New_York:20261114T123000
DTEND;TZID=America/New_York:20261114T123000
DTSTAMP:20260424T235158
CREATED:20241023T183621Z
LAST-MODIFIED:20241023T183729Z
UID:10006329-1794659400-1794659400@hhsociety.org
SUMMARY:Canasta Club
DESCRIPTION:Saturdays 12:30pm to 4pm. Contact Doris Simon 914-276-0111 or\nDoris1121@me.com or Nancy Heilman 914-224-7180 or Nancy.C.Heilman@gmail.com
URL:https://hhsociety.org/event/canasta-club-3/2026-11-14/
LOCATION:Room 2/3
END:VEVENT
END:VCALENDAR