BEGIN:VCALENDAR
VERSION:2.0
PRODID:-//Heritage Hills Society - ECPv6.15.20//NONSGML v1.0//EN
CALSCALE:GREGORIAN
METHOD:PUBLISH
X-WR-CALNAME:Heritage Hills Society
X-ORIGINAL-URL:https://hhsociety.org
X-WR-CALDESC:Events for Heritage Hills Society
REFRESH-INTERVAL;VALUE=DURATION:PT1H
X-Robots-Tag:noindex
X-PUBLISHED-TTL:PT1H
BEGIN:VTIMEZONE
TZID:America/New_York
BEGIN:DAYLIGHT
TZOFFSETFROM:-0500
TZOFFSETTO:-0400
TZNAME:EDT
DTSTART:20250309T070000
END:DAYLIGHT
BEGIN:STANDARD
TZOFFSETFROM:-0400
TZOFFSETTO:-0500
TZNAME:EST
DTSTART:20251102T060000
END:STANDARD
BEGIN:DAYLIGHT
TZOFFSETFROM:-0500
TZOFFSETTO:-0400
TZNAME:EDT
DTSTART:20260308T070000
END:DAYLIGHT
BEGIN:STANDARD
TZOFFSETFROM:-0400
TZOFFSETTO:-0500
TZNAME:EST
DTSTART:20261101T060000
END:STANDARD
BEGIN:DAYLIGHT
TZOFFSETFROM:-0500
TZOFFSETTO:-0400
TZNAME:EDT
DTSTART:20270314T070000
END:DAYLIGHT
BEGIN:STANDARD
TZOFFSETFROM:-0400
TZOFFSETTO:-0500
TZNAME:EST
DTSTART:20271107T060000
END:STANDARD
END:VTIMEZONE
BEGIN:VEVENT
DTSTART;TZID=America/New_York:20260429T090000
DTEND;TZID=America/New_York:20260429T090000
DTSTAMP:20260423T160923
CREATED:20241029T184500Z
LAST-MODIFIED:20241029T184500Z
UID:10009454-1777453200-1777453200@hhsociety.org
SUMMARY:10-A-Men Club
DESCRIPTION:Come to the Activities Center’s Heritage Room on Wednesdays at 9 am and have\ncontinental breakfast for $2. The meeting starts at 10 am.
URL:https://hhsociety.org/event/10-a-men-club/2026-04-29/
LOCATION:Heritage Room
END:VEVENT
BEGIN:VEVENT
DTSTART;TZID=America/New_York:20260506T090000
DTEND;TZID=America/New_York:20260506T090000
DTSTAMP:20260423T160923
CREATED:20241029T184500Z
LAST-MODIFIED:20241029T184500Z
UID:10009455-1778058000-1778058000@hhsociety.org
SUMMARY:10-A-Men Club
DESCRIPTION:Come to the Activities Center’s Heritage Room on Wednesdays at 9 am and have\ncontinental breakfast for $2. The meeting starts at 10 am.
URL:https://hhsociety.org/event/10-a-men-club/2026-05-06/
LOCATION:Heritage Room
END:VEVENT
BEGIN:VEVENT
DTSTART;TZID=America/New_York:20260513T090000
DTEND;TZID=America/New_York:20260513T090000
DTSTAMP:20260423T160923
CREATED:20241029T184500Z
LAST-MODIFIED:20241029T184500Z
UID:10009456-1778662800-1778662800@hhsociety.org
SUMMARY:10-A-Men Club
DESCRIPTION:Come to the Activities Center’s Heritage Room on Wednesdays at 9 am and have\ncontinental breakfast for $2. The meeting starts at 10 am.
URL:https://hhsociety.org/event/10-a-men-club/2026-05-13/
LOCATION:Heritage Room
END:VEVENT
BEGIN:VEVENT
DTSTART;TZID=America/New_York:20260520T090000
DTEND;TZID=America/New_York:20260520T090000
DTSTAMP:20260423T160923
CREATED:20241029T184500Z
LAST-MODIFIED:20241029T184500Z
UID:10009457-1779267600-1779267600@hhsociety.org
SUMMARY:10-A-Men Club
DESCRIPTION:Come to the Activities Center’s Heritage Room on Wednesdays at 9 am and have\ncontinental breakfast for $2. The meeting starts at 10 am.
URL:https://hhsociety.org/event/10-a-men-club/2026-05-20/
LOCATION:Heritage Room
END:VEVENT
BEGIN:VEVENT
DTSTART;TZID=America/New_York:20260527T090000
DTEND;TZID=America/New_York:20260527T090000
DTSTAMP:20260423T160923
CREATED:20241029T184500Z
LAST-MODIFIED:20241029T184500Z
UID:10009458-1779872400-1779872400@hhsociety.org
SUMMARY:10-A-Men Club
DESCRIPTION:Come to the Activities Center’s Heritage Room on Wednesdays at 9 am and have\ncontinental breakfast for $2. The meeting starts at 10 am.
URL:https://hhsociety.org/event/10-a-men-club/2026-05-27/
LOCATION:Heritage Room
END:VEVENT
BEGIN:VEVENT
DTSTART;TZID=America/New_York:20260603T090000
DTEND;TZID=America/New_York:20260603T090000
DTSTAMP:20260423T160923
CREATED:20241029T184500Z
LAST-MODIFIED:20241029T184500Z
UID:10009459-1780477200-1780477200@hhsociety.org
SUMMARY:10-A-Men Club
DESCRIPTION:Come to the Activities Center’s Heritage Room on Wednesdays at 9 am and have\ncontinental breakfast for $2. The meeting starts at 10 am.
URL:https://hhsociety.org/event/10-a-men-club/2026-06-03/
LOCATION:Heritage Room
END:VEVENT
BEGIN:VEVENT
DTSTART;TZID=America/New_York:20260610T090000
DTEND;TZID=America/New_York:20260610T090000
DTSTAMP:20260423T160923
CREATED:20241029T184500Z
LAST-MODIFIED:20241029T184500Z
UID:10009460-1781082000-1781082000@hhsociety.org
SUMMARY:10-A-Men Club
DESCRIPTION:Come to the Activities Center’s Heritage Room on Wednesdays at 9 am and have\ncontinental breakfast for $2. The meeting starts at 10 am.
URL:https://hhsociety.org/event/10-a-men-club/2026-06-10/
LOCATION:Heritage Room
END:VEVENT
BEGIN:VEVENT
DTSTART;TZID=America/New_York:20260617T090000
DTEND;TZID=America/New_York:20260617T090000
DTSTAMP:20260423T160923
CREATED:20241029T184500Z
LAST-MODIFIED:20241029T184500Z
UID:10009461-1781686800-1781686800@hhsociety.org
SUMMARY:10-A-Men Club
DESCRIPTION:Come to the Activities Center’s Heritage Room on Wednesdays at 9 am and have\ncontinental breakfast for $2. The meeting starts at 10 am.
URL:https://hhsociety.org/event/10-a-men-club/2026-06-17/
LOCATION:Heritage Room
END:VEVENT
BEGIN:VEVENT
DTSTART;TZID=America/New_York:20260624T090000
DTEND;TZID=America/New_York:20260624T090000
DTSTAMP:20260423T160923
CREATED:20241029T184500Z
LAST-MODIFIED:20241029T184500Z
UID:10009462-1782291600-1782291600@hhsociety.org
SUMMARY:10-A-Men Club
DESCRIPTION:Come to the Activities Center’s Heritage Room on Wednesdays at 9 am and have\ncontinental breakfast for $2. The meeting starts at 10 am.
URL:https://hhsociety.org/event/10-a-men-club/2026-06-24/
LOCATION:Heritage Room
END:VEVENT
BEGIN:VEVENT
DTSTART;TZID=America/New_York:20260701T090000
DTEND;TZID=America/New_York:20260701T090000
DTSTAMP:20260423T160923
CREATED:20241029T184500Z
LAST-MODIFIED:20241029T184500Z
UID:10009463-1782896400-1782896400@hhsociety.org
SUMMARY:10-A-Men Club
DESCRIPTION:Come to the Activities Center’s Heritage Room on Wednesdays at 9 am and have\ncontinental breakfast for $2. The meeting starts at 10 am.
URL:https://hhsociety.org/event/10-a-men-club/2026-07-01/
LOCATION:Heritage Room
END:VEVENT
BEGIN:VEVENT
DTSTART;TZID=America/New_York:20260708T090000
DTEND;TZID=America/New_York:20260708T090000
DTSTAMP:20260423T160923
CREATED:20241029T184500Z
LAST-MODIFIED:20241029T184500Z
UID:10009464-1783501200-1783501200@hhsociety.org
SUMMARY:10-A-Men Club
DESCRIPTION:Come to the Activities Center’s Heritage Room on Wednesdays at 9 am and have\ncontinental breakfast for $2. The meeting starts at 10 am.
URL:https://hhsociety.org/event/10-a-men-club/2026-07-08/
LOCATION:Heritage Room
END:VEVENT
BEGIN:VEVENT
DTSTART;TZID=America/New_York:20260715T090000
DTEND;TZID=America/New_York:20260715T090000
DTSTAMP:20260423T160923
CREATED:20241029T184500Z
LAST-MODIFIED:20241029T184500Z
UID:10009465-1784106000-1784106000@hhsociety.org
SUMMARY:10-A-Men Club
DESCRIPTION:Come to the Activities Center’s Heritage Room on Wednesdays at 9 am and have\ncontinental breakfast for $2. The meeting starts at 10 am.
URL:https://hhsociety.org/event/10-a-men-club/2026-07-15/
LOCATION:Heritage Room
END:VEVENT
BEGIN:VEVENT
DTSTART;TZID=America/New_York:20260722T090000
DTEND;TZID=America/New_York:20260722T090000
DTSTAMP:20260423T160923
CREATED:20241029T184500Z
LAST-MODIFIED:20241029T184500Z
UID:10009466-1784710800-1784710800@hhsociety.org
SUMMARY:10-A-Men Club
DESCRIPTION:Come to the Activities Center’s Heritage Room on Wednesdays at 9 am and have\ncontinental breakfast for $2. The meeting starts at 10 am.
URL:https://hhsociety.org/event/10-a-men-club/2026-07-22/
LOCATION:Heritage Room
END:VEVENT
BEGIN:VEVENT
DTSTART;TZID=America/New_York:20260729T090000
DTEND;TZID=America/New_York:20260729T090000
DTSTAMP:20260423T160923
CREATED:20241029T184500Z
LAST-MODIFIED:20241029T184500Z
UID:10009467-1785315600-1785315600@hhsociety.org
SUMMARY:10-A-Men Club
DESCRIPTION:Come to the Activities Center’s Heritage Room on Wednesdays at 9 am and have\ncontinental breakfast for $2. The meeting starts at 10 am.
URL:https://hhsociety.org/event/10-a-men-club/2026-07-29/
LOCATION:Heritage Room
END:VEVENT
BEGIN:VEVENT
DTSTART;TZID=America/New_York:20260805T090000
DTEND;TZID=America/New_York:20260805T090000
DTSTAMP:20260423T160923
CREATED:20241029T184500Z
LAST-MODIFIED:20241029T184500Z
UID:10009468-1785920400-1785920400@hhsociety.org
SUMMARY:10-A-Men Club
DESCRIPTION:Come to the Activities Center’s Heritage Room on Wednesdays at 9 am and have\ncontinental breakfast for $2. The meeting starts at 10 am.
URL:https://hhsociety.org/event/10-a-men-club/2026-08-05/
LOCATION:Heritage Room
END:VEVENT
BEGIN:VEVENT
DTSTART;TZID=America/New_York:20260812T090000
DTEND;TZID=America/New_York:20260812T090000
DTSTAMP:20260423T160923
CREATED:20241029T184500Z
LAST-MODIFIED:20241029T184500Z
UID:10009469-1786525200-1786525200@hhsociety.org
SUMMARY:10-A-Men Club
DESCRIPTION:Come to the Activities Center’s Heritage Room on Wednesdays at 9 am and have\ncontinental breakfast for $2. The meeting starts at 10 am.
URL:https://hhsociety.org/event/10-a-men-club/2026-08-12/
LOCATION:Heritage Room
END:VEVENT
BEGIN:VEVENT
DTSTART;TZID=America/New_York:20260819T090000
DTEND;TZID=America/New_York:20260819T090000
DTSTAMP:20260423T160923
CREATED:20241029T184500Z
LAST-MODIFIED:20241029T184500Z
UID:10009470-1787130000-1787130000@hhsociety.org
SUMMARY:10-A-Men Club
DESCRIPTION:Come to the Activities Center’s Heritage Room on Wednesdays at 9 am and have\ncontinental breakfast for $2. The meeting starts at 10 am.
URL:https://hhsociety.org/event/10-a-men-club/2026-08-19/
LOCATION:Heritage Room
END:VEVENT
BEGIN:VEVENT
DTSTART;TZID=America/New_York:20260826T090000
DTEND;TZID=America/New_York:20260826T090000
DTSTAMP:20260423T160923
CREATED:20241029T184500Z
LAST-MODIFIED:20241029T184500Z
UID:10009471-1787734800-1787734800@hhsociety.org
SUMMARY:10-A-Men Club
DESCRIPTION:Come to the Activities Center’s Heritage Room on Wednesdays at 9 am and have\ncontinental breakfast for $2. The meeting starts at 10 am.
URL:https://hhsociety.org/event/10-a-men-club/2026-08-26/
LOCATION:Heritage Room
END:VEVENT
BEGIN:VEVENT
DTSTART;TZID=America/New_York:20260902T090000
DTEND;TZID=America/New_York:20260902T090000
DTSTAMP:20260423T160923
CREATED:20241029T184500Z
LAST-MODIFIED:20241029T184500Z
UID:10009472-1788339600-1788339600@hhsociety.org
SUMMARY:10-A-Men Club
DESCRIPTION:Come to the Activities Center’s Heritage Room on Wednesdays at 9 am and have\ncontinental breakfast for $2. The meeting starts at 10 am.
URL:https://hhsociety.org/event/10-a-men-club/2026-09-02/
LOCATION:Heritage Room
END:VEVENT
BEGIN:VEVENT
DTSTART;TZID=America/New_York:20260909T090000
DTEND;TZID=America/New_York:20260909T090000
DTSTAMP:20260423T160923
CREATED:20241029T184500Z
LAST-MODIFIED:20241029T184500Z
UID:10009473-1788944400-1788944400@hhsociety.org
SUMMARY:10-A-Men Club
DESCRIPTION:Come to the Activities Center’s Heritage Room on Wednesdays at 9 am and have\ncontinental breakfast for $2. The meeting starts at 10 am.
URL:https://hhsociety.org/event/10-a-men-club/2026-09-09/
LOCATION:Heritage Room
END:VEVENT
BEGIN:VEVENT
DTSTART;TZID=America/New_York:20260916T090000
DTEND;TZID=America/New_York:20260916T090000
DTSTAMP:20260423T160923
CREATED:20241029T184500Z
LAST-MODIFIED:20241029T184500Z
UID:10009474-1789549200-1789549200@hhsociety.org
SUMMARY:10-A-Men Club
DESCRIPTION:Come to the Activities Center’s Heritage Room on Wednesdays at 9 am and have\ncontinental breakfast for $2. The meeting starts at 10 am.
URL:https://hhsociety.org/event/10-a-men-club/2026-09-16/
LOCATION:Heritage Room
END:VEVENT
BEGIN:VEVENT
DTSTART;TZID=America/New_York:20260923T090000
DTEND;TZID=America/New_York:20260923T090000
DTSTAMP:20260423T160923
CREATED:20241029T184500Z
LAST-MODIFIED:20241029T184500Z
UID:10009475-1790154000-1790154000@hhsociety.org
SUMMARY:10-A-Men Club
DESCRIPTION:Come to the Activities Center’s Heritage Room on Wednesdays at 9 am and have\ncontinental breakfast for $2. The meeting starts at 10 am.
URL:https://hhsociety.org/event/10-a-men-club/2026-09-23/
LOCATION:Heritage Room
END:VEVENT
BEGIN:VEVENT
DTSTART;TZID=America/New_York:20260930T090000
DTEND;TZID=America/New_York:20260930T090000
DTSTAMP:20260423T160923
CREATED:20241029T184500Z
LAST-MODIFIED:20241029T184500Z
UID:10009476-1790758800-1790758800@hhsociety.org
SUMMARY:10-A-Men Club
DESCRIPTION:Come to the Activities Center’s Heritage Room on Wednesdays at 9 am and have\ncontinental breakfast for $2. The meeting starts at 10 am.
URL:https://hhsociety.org/event/10-a-men-club/2026-09-30/
LOCATION:Heritage Room
END:VEVENT
BEGIN:VEVENT
DTSTART;TZID=America/New_York:20261007T090000
DTEND;TZID=America/New_York:20261007T090000
DTSTAMP:20260423T160923
CREATED:20241029T184500Z
LAST-MODIFIED:20241029T184500Z
UID:10009477-1791363600-1791363600@hhsociety.org
SUMMARY:10-A-Men Club
DESCRIPTION:Come to the Activities Center’s Heritage Room on Wednesdays at 9 am and have\ncontinental breakfast for $2. The meeting starts at 10 am.
URL:https://hhsociety.org/event/10-a-men-club/2026-10-07/
LOCATION:Heritage Room
END:VEVENT
BEGIN:VEVENT
DTSTART;TZID=America/New_York:20261014T090000
DTEND;TZID=America/New_York:20261014T090000
DTSTAMP:20260423T160923
CREATED:20241029T184500Z
LAST-MODIFIED:20241029T184500Z
UID:10009478-1791968400-1791968400@hhsociety.org
SUMMARY:10-A-Men Club
DESCRIPTION:Come to the Activities Center’s Heritage Room on Wednesdays at 9 am and have\ncontinental breakfast for $2. The meeting starts at 10 am.
URL:https://hhsociety.org/event/10-a-men-club/2026-10-14/
LOCATION:Heritage Room
END:VEVENT
BEGIN:VEVENT
DTSTART;TZID=America/New_York:20261021T090000
DTEND;TZID=America/New_York:20261021T090000
DTSTAMP:20260423T160923
CREATED:20241029T184500Z
LAST-MODIFIED:20241029T184500Z
UID:10009479-1792573200-1792573200@hhsociety.org
SUMMARY:10-A-Men Club
DESCRIPTION:Come to the Activities Center’s Heritage Room on Wednesdays at 9 am and have\ncontinental breakfast for $2. The meeting starts at 10 am.
URL:https://hhsociety.org/event/10-a-men-club/2026-10-21/
LOCATION:Heritage Room
END:VEVENT
BEGIN:VEVENT
DTSTART;TZID=America/New_York:20261028T090000
DTEND;TZID=America/New_York:20261028T090000
DTSTAMP:20260423T160923
CREATED:20241029T184500Z
LAST-MODIFIED:20241029T184500Z
UID:10009480-1793178000-1793178000@hhsociety.org
SUMMARY:10-A-Men Club
DESCRIPTION:Come to the Activities Center’s Heritage Room on Wednesdays at 9 am and have\ncontinental breakfast for $2. The meeting starts at 10 am.
URL:https://hhsociety.org/event/10-a-men-club/2026-10-28/
LOCATION:Heritage Room
END:VEVENT
BEGIN:VEVENT
DTSTART;TZID=America/New_York:20261104T090000
DTEND;TZID=America/New_York:20261104T090000
DTSTAMP:20260423T160923
CREATED:20241029T184500Z
LAST-MODIFIED:20241029T184500Z
UID:10009481-1793782800-1793782800@hhsociety.org
SUMMARY:10-A-Men Club
DESCRIPTION:Come to the Activities Center’s Heritage Room on Wednesdays at 9 am and have\ncontinental breakfast for $2. The meeting starts at 10 am.
URL:https://hhsociety.org/event/10-a-men-club/2026-11-04/
LOCATION:Heritage Room
END:VEVENT
BEGIN:VEVENT
DTSTART;TZID=America/New_York:20261111T090000
DTEND;TZID=America/New_York:20261111T090000
DTSTAMP:20260423T160923
CREATED:20241029T184500Z
LAST-MODIFIED:20241029T184500Z
UID:10009482-1794387600-1794387600@hhsociety.org
SUMMARY:10-A-Men Club
DESCRIPTION:Come to the Activities Center’s Heritage Room on Wednesdays at 9 am and have\ncontinental breakfast for $2. The meeting starts at 10 am.
URL:https://hhsociety.org/event/10-a-men-club/2026-11-11/
LOCATION:Heritage Room
END:VEVENT
BEGIN:VEVENT
DTSTART;TZID=America/New_York:20261118T090000
DTEND;TZID=America/New_York:20261118T090000
DTSTAMP:20260423T160923
CREATED:20241029T184500Z
LAST-MODIFIED:20241029T184500Z
UID:10009483-1794992400-1794992400@hhsociety.org
SUMMARY:10-A-Men Club
DESCRIPTION:Come to the Activities Center’s Heritage Room on Wednesdays at 9 am and have\ncontinental breakfast for $2. The meeting starts at 10 am.
URL:https://hhsociety.org/event/10-a-men-club/2026-11-18/
LOCATION:Heritage Room
END:VEVENT
END:VCALENDAR