BEGIN:VCALENDAR
VERSION:2.0
PRODID:-//Heritage Hills Society - ECPv6.15.20//NONSGML v1.0//EN
CALSCALE:GREGORIAN
METHOD:PUBLISH
X-WR-CALNAME:Heritage Hills Society
X-ORIGINAL-URL:https://hhsociety.org
X-WR-CALDESC:Events for Heritage Hills Society
REFRESH-INTERVAL;VALUE=DURATION:PT1H
X-Robots-Tag:noindex
X-PUBLISHED-TTL:PT1H
BEGIN:VTIMEZONE
TZID:America/New_York
BEGIN:DAYLIGHT
TZOFFSETFROM:-0500
TZOFFSETTO:-0400
TZNAME:EDT
DTSTART:20250309T070000
END:DAYLIGHT
BEGIN:STANDARD
TZOFFSETFROM:-0400
TZOFFSETTO:-0500
TZNAME:EST
DTSTART:20251102T060000
END:STANDARD
BEGIN:DAYLIGHT
TZOFFSETFROM:-0500
TZOFFSETTO:-0400
TZNAME:EDT
DTSTART:20260308T070000
END:DAYLIGHT
BEGIN:STANDARD
TZOFFSETFROM:-0400
TZOFFSETTO:-0500
TZNAME:EST
DTSTART:20261101T060000
END:STANDARD
BEGIN:DAYLIGHT
TZOFFSETFROM:-0500
TZOFFSETTO:-0400
TZNAME:EDT
DTSTART:20270314T070000
END:DAYLIGHT
BEGIN:STANDARD
TZOFFSETFROM:-0400
TZOFFSETTO:-0500
TZNAME:EST
DTSTART:20271107T060000
END:STANDARD
BEGIN:DAYLIGHT
TZOFFSETFROM:-0500
TZOFFSETTO:-0400
TZNAME:EDT
DTSTART:20280312T070000
END:DAYLIGHT
BEGIN:STANDARD
TZOFFSETFROM:-0400
TZOFFSETTO:-0500
TZNAME:EST
DTSTART:20281105T060000
END:STANDARD
BEGIN:DAYLIGHT
TZOFFSETFROM:-0500
TZOFFSETTO:-0400
TZNAME:EDT
DTSTART:20290311T070000
END:DAYLIGHT
BEGIN:STANDARD
TZOFFSETFROM:-0400
TZOFFSETTO:-0500
TZNAME:EST
DTSTART:20291104T060000
END:STANDARD
END:VTIMEZONE
BEGIN:VEVENT
DTSTART;TZID=America/New_York:20260527T180000
DTEND;TZID=America/New_York:20260527T180000
DTSTAMP:20260423T162646
CREATED:20250507T135901Z
LAST-MODIFIED:20250507T135901Z
UID:10011147-1779904800-1779904800@hhsociety.org
SUMMARY:Crafters in the Hills
DESCRIPTION:For information and to register email: craftclubhh@gmail.com
URL:https://hhsociety.org/event/crafters-in-the-hills-2-2/2026-05-27/
LOCATION:Art Room B
END:VEVENT
BEGIN:VEVENT
DTSTART;TZID=America/New_York:20260624T180000
DTEND;TZID=America/New_York:20260624T180000
DTSTAMP:20260423T162646
CREATED:20250507T135901Z
LAST-MODIFIED:20250507T135901Z
UID:10011148-1782324000-1782324000@hhsociety.org
SUMMARY:Crafters in the Hills
DESCRIPTION:For information and to register email: craftclubhh@gmail.com
URL:https://hhsociety.org/event/crafters-in-the-hills-2-2/2026-06-24/
LOCATION:Art Room B
END:VEVENT
BEGIN:VEVENT
DTSTART;TZID=America/New_York:20260722T180000
DTEND;TZID=America/New_York:20260722T180000
DTSTAMP:20260423T162646
CREATED:20250507T135901Z
LAST-MODIFIED:20250507T135901Z
UID:10011149-1784743200-1784743200@hhsociety.org
SUMMARY:Crafters in the Hills
DESCRIPTION:For information and to register email: craftclubhh@gmail.com
URL:https://hhsociety.org/event/crafters-in-the-hills-2-2/2026-07-22/
LOCATION:Art Room B
END:VEVENT
BEGIN:VEVENT
DTSTART;TZID=America/New_York:20260826T180000
DTEND;TZID=America/New_York:20260826T180000
DTSTAMP:20260423T162646
CREATED:20250507T135901Z
LAST-MODIFIED:20250507T135901Z
UID:10011150-1787767200-1787767200@hhsociety.org
SUMMARY:Crafters in the Hills
DESCRIPTION:For information and to register email: craftclubhh@gmail.com
URL:https://hhsociety.org/event/crafters-in-the-hills-2-2/2026-08-26/
LOCATION:Art Room B
END:VEVENT
BEGIN:VEVENT
DTSTART;TZID=America/New_York:20260923T180000
DTEND;TZID=America/New_York:20260923T180000
DTSTAMP:20260423T162646
CREATED:20250507T135901Z
LAST-MODIFIED:20250507T135901Z
UID:10011151-1790186400-1790186400@hhsociety.org
SUMMARY:Crafters in the Hills
DESCRIPTION:For information and to register email: craftclubhh@gmail.com
URL:https://hhsociety.org/event/crafters-in-the-hills-2-2/2026-09-23/
LOCATION:Art Room B
END:VEVENT
BEGIN:VEVENT
DTSTART;TZID=America/New_York:20261028T180000
DTEND;TZID=America/New_York:20261028T180000
DTSTAMP:20260423T162646
CREATED:20250507T135901Z
LAST-MODIFIED:20250507T135901Z
UID:10011152-1793210400-1793210400@hhsociety.org
SUMMARY:Crafters in the Hills
DESCRIPTION:For information and to register email: craftclubhh@gmail.com
URL:https://hhsociety.org/event/crafters-in-the-hills-2-2/2026-10-28/
LOCATION:Art Room B
END:VEVENT
BEGIN:VEVENT
DTSTART;TZID=America/New_York:20261125T180000
DTEND;TZID=America/New_York:20261125T180000
DTSTAMP:20260423T162646
CREATED:20250507T135901Z
LAST-MODIFIED:20250507T135901Z
UID:10011153-1795629600-1795629600@hhsociety.org
SUMMARY:Crafters in the Hills
DESCRIPTION:For information and to register email: craftclubhh@gmail.com
URL:https://hhsociety.org/event/crafters-in-the-hills-2-2/2026-11-25/
LOCATION:Art Room B
END:VEVENT
BEGIN:VEVENT
DTSTART;TZID=America/New_York:20261223T180000
DTEND;TZID=America/New_York:20261223T180000
DTSTAMP:20260423T162646
CREATED:20250507T135901Z
LAST-MODIFIED:20250507T135901Z
UID:10011154-1798048800-1798048800@hhsociety.org
SUMMARY:Crafters in the Hills
DESCRIPTION:For information and to register email: craftclubhh@gmail.com
URL:https://hhsociety.org/event/crafters-in-the-hills-2-2/2026-12-23/
LOCATION:Art Room B
END:VEVENT
BEGIN:VEVENT
DTSTART;TZID=America/New_York:20270127T180000
DTEND;TZID=America/New_York:20270127T180000
DTSTAMP:20260423T162646
CREATED:20250507T135901Z
LAST-MODIFIED:20250507T135901Z
UID:10011155-1801072800-1801072800@hhsociety.org
SUMMARY:Crafters in the Hills
DESCRIPTION:For information and to register email: craftclubhh@gmail.com
URL:https://hhsociety.org/event/crafters-in-the-hills-2-2/2027-01-27/
LOCATION:Art Room B
END:VEVENT
BEGIN:VEVENT
DTSTART;TZID=America/New_York:20270224T180000
DTEND;TZID=America/New_York:20270224T180000
DTSTAMP:20260423T162646
CREATED:20250507T135901Z
LAST-MODIFIED:20250507T135901Z
UID:10011156-1803492000-1803492000@hhsociety.org
SUMMARY:Crafters in the Hills
DESCRIPTION:For information and to register email: craftclubhh@gmail.com
URL:https://hhsociety.org/event/crafters-in-the-hills-2-2/2027-02-24/
LOCATION:Art Room B
END:VEVENT
BEGIN:VEVENT
DTSTART;TZID=America/New_York:20270324T180000
DTEND;TZID=America/New_York:20270324T180000
DTSTAMP:20260423T162646
CREATED:20250507T135901Z
LAST-MODIFIED:20250507T135901Z
UID:10011157-1805911200-1805911200@hhsociety.org
SUMMARY:Crafters in the Hills
DESCRIPTION:For information and to register email: craftclubhh@gmail.com
URL:https://hhsociety.org/event/crafters-in-the-hills-2-2/2027-03-24/
LOCATION:Art Room B
END:VEVENT
BEGIN:VEVENT
DTSTART;TZID=America/New_York:20270428T180000
DTEND;TZID=America/New_York:20270428T180000
DTSTAMP:20260423T162646
CREATED:20250507T135901Z
LAST-MODIFIED:20250507T135901Z
UID:10011158-1808935200-1808935200@hhsociety.org
SUMMARY:Crafters in the Hills
DESCRIPTION:For information and to register email: craftclubhh@gmail.com
URL:https://hhsociety.org/event/crafters-in-the-hills-2-2/2027-04-28/
LOCATION:Art Room B
END:VEVENT
BEGIN:VEVENT
DTSTART;TZID=America/New_York:20270526T180000
DTEND;TZID=America/New_York:20270526T180000
DTSTAMP:20260423T162646
CREATED:20250507T135901Z
LAST-MODIFIED:20250507T135901Z
UID:10011159-1811354400-1811354400@hhsociety.org
SUMMARY:Crafters in the Hills
DESCRIPTION:For information and to register email: craftclubhh@gmail.com
URL:https://hhsociety.org/event/crafters-in-the-hills-2-2/2027-05-26/
LOCATION:Art Room B
END:VEVENT
BEGIN:VEVENT
DTSTART;TZID=America/New_York:20270623T180000
DTEND;TZID=America/New_York:20270623T180000
DTSTAMP:20260423T162646
CREATED:20250507T135901Z
LAST-MODIFIED:20250507T135901Z
UID:10011160-1813773600-1813773600@hhsociety.org
SUMMARY:Crafters in the Hills
DESCRIPTION:For information and to register email: craftclubhh@gmail.com
URL:https://hhsociety.org/event/crafters-in-the-hills-2-2/2027-06-23/
LOCATION:Art Room B
END:VEVENT
BEGIN:VEVENT
DTSTART;TZID=America/New_York:20270728T180000
DTEND;TZID=America/New_York:20270728T180000
DTSTAMP:20260423T162646
CREATED:20250507T135901Z
LAST-MODIFIED:20250507T135901Z
UID:10011161-1816797600-1816797600@hhsociety.org
SUMMARY:Crafters in the Hills
DESCRIPTION:For information and to register email: craftclubhh@gmail.com
URL:https://hhsociety.org/event/crafters-in-the-hills-2-2/2027-07-28/
LOCATION:Art Room B
END:VEVENT
BEGIN:VEVENT
DTSTART;TZID=America/New_York:20270825T180000
DTEND;TZID=America/New_York:20270825T180000
DTSTAMP:20260423T162646
CREATED:20250507T135901Z
LAST-MODIFIED:20250507T135901Z
UID:10011162-1819216800-1819216800@hhsociety.org
SUMMARY:Crafters in the Hills
DESCRIPTION:For information and to register email: craftclubhh@gmail.com
URL:https://hhsociety.org/event/crafters-in-the-hills-2-2/2027-08-25/
LOCATION:Art Room B
END:VEVENT
BEGIN:VEVENT
DTSTART;TZID=America/New_York:20270922T180000
DTEND;TZID=America/New_York:20270922T180000
DTSTAMP:20260423T162646
CREATED:20250507T135901Z
LAST-MODIFIED:20250507T135901Z
UID:10011163-1821636000-1821636000@hhsociety.org
SUMMARY:Crafters in the Hills
DESCRIPTION:For information and to register email: craftclubhh@gmail.com
URL:https://hhsociety.org/event/crafters-in-the-hills-2-2/2027-09-22/
LOCATION:Art Room B
END:VEVENT
BEGIN:VEVENT
DTSTART;TZID=America/New_York:20271027T180000
DTEND;TZID=America/New_York:20271027T180000
DTSTAMP:20260423T162646
CREATED:20250507T135901Z
LAST-MODIFIED:20250507T135901Z
UID:10011164-1824660000-1824660000@hhsociety.org
SUMMARY:Crafters in the Hills
DESCRIPTION:For information and to register email: craftclubhh@gmail.com
URL:https://hhsociety.org/event/crafters-in-the-hills-2-2/2027-10-27/
LOCATION:Art Room B
END:VEVENT
BEGIN:VEVENT
DTSTART;TZID=America/New_York:20271124T180000
DTEND;TZID=America/New_York:20271124T180000
DTSTAMP:20260423T162646
CREATED:20250507T135901Z
LAST-MODIFIED:20250507T135901Z
UID:10011165-1827079200-1827079200@hhsociety.org
SUMMARY:Crafters in the Hills
DESCRIPTION:For information and to register email: craftclubhh@gmail.com
URL:https://hhsociety.org/event/crafters-in-the-hills-2-2/2027-11-24/
LOCATION:Art Room B
END:VEVENT
BEGIN:VEVENT
DTSTART;TZID=America/New_York:20271222T180000
DTEND;TZID=America/New_York:20271222T180000
DTSTAMP:20260423T162646
CREATED:20250507T135901Z
LAST-MODIFIED:20250507T135901Z
UID:10011166-1829498400-1829498400@hhsociety.org
SUMMARY:Crafters in the Hills
DESCRIPTION:For information and to register email: craftclubhh@gmail.com
URL:https://hhsociety.org/event/crafters-in-the-hills-2-2/2027-12-22/
LOCATION:Art Room B
END:VEVENT
BEGIN:VEVENT
DTSTART;TZID=America/New_York:20280126T180000
DTEND;TZID=America/New_York:20280126T180000
DTSTAMP:20260423T162646
CREATED:20250507T135901Z
LAST-MODIFIED:20250507T135901Z
UID:10011167-1832522400-1832522400@hhsociety.org
SUMMARY:Crafters in the Hills
DESCRIPTION:For information and to register email: craftclubhh@gmail.com
URL:https://hhsociety.org/event/crafters-in-the-hills-2-2/2028-01-26/
LOCATION:Art Room B
END:VEVENT
BEGIN:VEVENT
DTSTART;TZID=America/New_York:20280223T180000
DTEND;TZID=America/New_York:20280223T180000
DTSTAMP:20260423T162646
CREATED:20250507T135901Z
LAST-MODIFIED:20250507T135901Z
UID:10011168-1834941600-1834941600@hhsociety.org
SUMMARY:Crafters in the Hills
DESCRIPTION:For information and to register email: craftclubhh@gmail.com
URL:https://hhsociety.org/event/crafters-in-the-hills-2-2/2028-02-23/
LOCATION:Art Room B
END:VEVENT
BEGIN:VEVENT
DTSTART;TZID=America/New_York:20280322T180000
DTEND;TZID=America/New_York:20280322T180000
DTSTAMP:20260423T162646
CREATED:20250507T135901Z
LAST-MODIFIED:20250507T135901Z
UID:10011169-1837360800-1837360800@hhsociety.org
SUMMARY:Crafters in the Hills
DESCRIPTION:For information and to register email: craftclubhh@gmail.com
URL:https://hhsociety.org/event/crafters-in-the-hills-2-2/2028-03-22/
LOCATION:Art Room B
END:VEVENT
BEGIN:VEVENT
DTSTART;TZID=America/New_York:20280426T180000
DTEND;TZID=America/New_York:20280426T180000
DTSTAMP:20260423T162646
CREATED:20250507T135901Z
LAST-MODIFIED:20250507T135901Z
UID:10011170-1840384800-1840384800@hhsociety.org
SUMMARY:Crafters in the Hills
DESCRIPTION:For information and to register email: craftclubhh@gmail.com
URL:https://hhsociety.org/event/crafters-in-the-hills-2-2/2028-04-26/
LOCATION:Art Room B
END:VEVENT
BEGIN:VEVENT
DTSTART;TZID=America/New_York:20280524T180000
DTEND;TZID=America/New_York:20280524T180000
DTSTAMP:20260423T162646
CREATED:20250507T135901Z
LAST-MODIFIED:20250507T135901Z
UID:10011171-1842804000-1842804000@hhsociety.org
SUMMARY:Crafters in the Hills
DESCRIPTION:For information and to register email: craftclubhh@gmail.com
URL:https://hhsociety.org/event/crafters-in-the-hills-2-2/2028-05-24/
LOCATION:Art Room B
END:VEVENT
BEGIN:VEVENT
DTSTART;TZID=America/New_York:20280628T180000
DTEND;TZID=America/New_York:20280628T180000
DTSTAMP:20260423T162646
CREATED:20250507T135901Z
LAST-MODIFIED:20250507T135901Z
UID:10011172-1845828000-1845828000@hhsociety.org
SUMMARY:Crafters in the Hills
DESCRIPTION:For information and to register email: craftclubhh@gmail.com
URL:https://hhsociety.org/event/crafters-in-the-hills-2-2/2028-06-28/
LOCATION:Art Room B
END:VEVENT
BEGIN:VEVENT
DTSTART;TZID=America/New_York:20280726T180000
DTEND;TZID=America/New_York:20280726T180000
DTSTAMP:20260423T162646
CREATED:20250507T135901Z
LAST-MODIFIED:20250507T135901Z
UID:10011173-1848247200-1848247200@hhsociety.org
SUMMARY:Crafters in the Hills
DESCRIPTION:For information and to register email: craftclubhh@gmail.com
URL:https://hhsociety.org/event/crafters-in-the-hills-2-2/2028-07-26/
LOCATION:Art Room B
END:VEVENT
BEGIN:VEVENT
DTSTART;TZID=America/New_York:20280823T180000
DTEND;TZID=America/New_York:20280823T180000
DTSTAMP:20260423T162646
CREATED:20250507T135901Z
LAST-MODIFIED:20250507T135901Z
UID:10011174-1850666400-1850666400@hhsociety.org
SUMMARY:Crafters in the Hills
DESCRIPTION:For information and to register email: craftclubhh@gmail.com
URL:https://hhsociety.org/event/crafters-in-the-hills-2-2/2028-08-23/
LOCATION:Art Room B
END:VEVENT
BEGIN:VEVENT
DTSTART;TZID=America/New_York:20280927T180000
DTEND;TZID=America/New_York:20280927T180000
DTSTAMP:20260423T162646
CREATED:20250507T135901Z
LAST-MODIFIED:20250507T135901Z
UID:10011175-1853690400-1853690400@hhsociety.org
SUMMARY:Crafters in the Hills
DESCRIPTION:For information and to register email: craftclubhh@gmail.com
URL:https://hhsociety.org/event/crafters-in-the-hills-2-2/2028-09-27/
LOCATION:Art Room B
END:VEVENT
BEGIN:VEVENT
DTSTART;TZID=America/New_York:20281025T180000
DTEND;TZID=America/New_York:20281025T180000
DTSTAMP:20260423T162646
CREATED:20250507T135901Z
LAST-MODIFIED:20250507T135901Z
UID:10011176-1856109600-1856109600@hhsociety.org
SUMMARY:Crafters in the Hills
DESCRIPTION:For information and to register email: craftclubhh@gmail.com
URL:https://hhsociety.org/event/crafters-in-the-hills-2-2/2028-10-25/
LOCATION:Art Room B
END:VEVENT
END:VCALENDAR