BEGIN:VCALENDAR
VERSION:2.0
PRODID:-//Heritage Hills Society - ECPv6.15.20//NONSGML v1.0//EN
CALSCALE:GREGORIAN
METHOD:PUBLISH
X-WR-CALNAME:Heritage Hills Society
X-ORIGINAL-URL:https://hhsociety.org
X-WR-CALDESC:Events for Heritage Hills Society
REFRESH-INTERVAL;VALUE=DURATION:PT1H
X-Robots-Tag:noindex
X-PUBLISHED-TTL:PT1H
BEGIN:VTIMEZONE
TZID:America/New_York
BEGIN:DAYLIGHT
TZOFFSETFROM:-0500
TZOFFSETTO:-0400
TZNAME:EDT
DTSTART:20250309T070000
END:DAYLIGHT
BEGIN:STANDARD
TZOFFSETFROM:-0400
TZOFFSETTO:-0500
TZNAME:EST
DTSTART:20251102T060000
END:STANDARD
BEGIN:DAYLIGHT
TZOFFSETFROM:-0500
TZOFFSETTO:-0400
TZNAME:EDT
DTSTART:20260308T070000
END:DAYLIGHT
BEGIN:STANDARD
TZOFFSETFROM:-0400
TZOFFSETTO:-0500
TZNAME:EST
DTSTART:20261101T060000
END:STANDARD
BEGIN:DAYLIGHT
TZOFFSETFROM:-0500
TZOFFSETTO:-0400
TZNAME:EDT
DTSTART:20270314T070000
END:DAYLIGHT
BEGIN:STANDARD
TZOFFSETFROM:-0400
TZOFFSETTO:-0500
TZNAME:EST
DTSTART:20271107T060000
END:STANDARD
END:VTIMEZONE
BEGIN:VEVENT
DTSTART;TZID=America/New_York:20260429T133000
DTEND;TZID=America/New_York:20260429T133000
DTSTAMP:20260423T145840
CREATED:20250507T142012Z
LAST-MODIFIED:20250507T142012Z
UID:10011308-1777469400-1777469400@hhsociety.org
SUMMARY:Silk Fabric Painting Class
DESCRIPTION:Must sign up for a full four week session. Fee $135 \nContact Evey at (914) 276-0737 or email at eveymusart@comcast.net
URL:https://hhsociety.org/event/silk-fabric-painting-class-2/2026-04-29/
LOCATION:Room B
END:VEVENT
BEGIN:VEVENT
DTSTART;TZID=America/New_York:20260506T133000
DTEND;TZID=America/New_York:20260506T133000
DTSTAMP:20260423T145840
CREATED:20250507T142012Z
LAST-MODIFIED:20250507T142012Z
UID:10011309-1778074200-1778074200@hhsociety.org
SUMMARY:Silk Fabric Painting Class
DESCRIPTION:Must sign up for a full four week session. Fee $135 \nContact Evey at (914) 276-0737 or email at eveymusart@comcast.net
URL:https://hhsociety.org/event/silk-fabric-painting-class-2/2026-05-06/
LOCATION:Room B
END:VEVENT
BEGIN:VEVENT
DTSTART;TZID=America/New_York:20260513T133000
DTEND;TZID=America/New_York:20260513T133000
DTSTAMP:20260423T145840
CREATED:20250507T142012Z
LAST-MODIFIED:20250507T142012Z
UID:10011310-1778679000-1778679000@hhsociety.org
SUMMARY:Silk Fabric Painting Class
DESCRIPTION:Must sign up for a full four week session. Fee $135 \nContact Evey at (914) 276-0737 or email at eveymusart@comcast.net
URL:https://hhsociety.org/event/silk-fabric-painting-class-2/2026-05-13/
LOCATION:Room B
END:VEVENT
BEGIN:VEVENT
DTSTART;TZID=America/New_York:20260520T133000
DTEND;TZID=America/New_York:20260520T133000
DTSTAMP:20260423T145840
CREATED:20250507T142012Z
LAST-MODIFIED:20250507T142012Z
UID:10011311-1779283800-1779283800@hhsociety.org
SUMMARY:Silk Fabric Painting Class
DESCRIPTION:Must sign up for a full four week session. Fee $135 \nContact Evey at (914) 276-0737 or email at eveymusart@comcast.net
URL:https://hhsociety.org/event/silk-fabric-painting-class-2/2026-05-20/
LOCATION:Room B
END:VEVENT
BEGIN:VEVENT
DTSTART;TZID=America/New_York:20260527T133000
DTEND;TZID=America/New_York:20260527T133000
DTSTAMP:20260423T145840
CREATED:20250507T142012Z
LAST-MODIFIED:20250507T142012Z
UID:10011312-1779888600-1779888600@hhsociety.org
SUMMARY:Silk Fabric Painting Class
DESCRIPTION:Must sign up for a full four week session. Fee $135 \nContact Evey at (914) 276-0737 or email at eveymusart@comcast.net
URL:https://hhsociety.org/event/silk-fabric-painting-class-2/2026-05-27/
LOCATION:Room B
END:VEVENT
BEGIN:VEVENT
DTSTART;TZID=America/New_York:20260603T133000
DTEND;TZID=America/New_York:20260603T133000
DTSTAMP:20260423T145840
CREATED:20250507T142012Z
LAST-MODIFIED:20250507T142012Z
UID:10011313-1780493400-1780493400@hhsociety.org
SUMMARY:Silk Fabric Painting Class
DESCRIPTION:Must sign up for a full four week session. Fee $135 \nContact Evey at (914) 276-0737 or email at eveymusart@comcast.net
URL:https://hhsociety.org/event/silk-fabric-painting-class-2/2026-06-03/
LOCATION:Room B
END:VEVENT
BEGIN:VEVENT
DTSTART;TZID=America/New_York:20260610T133000
DTEND;TZID=America/New_York:20260610T133000
DTSTAMP:20260423T145840
CREATED:20250507T142012Z
LAST-MODIFIED:20250507T142012Z
UID:10011314-1781098200-1781098200@hhsociety.org
SUMMARY:Silk Fabric Painting Class
DESCRIPTION:Must sign up for a full four week session. Fee $135 \nContact Evey at (914) 276-0737 or email at eveymusart@comcast.net
URL:https://hhsociety.org/event/silk-fabric-painting-class-2/2026-06-10/
LOCATION:Room B
END:VEVENT
BEGIN:VEVENT
DTSTART;TZID=America/New_York:20260617T133000
DTEND;TZID=America/New_York:20260617T133000
DTSTAMP:20260423T145840
CREATED:20250507T142012Z
LAST-MODIFIED:20250507T142012Z
UID:10011315-1781703000-1781703000@hhsociety.org
SUMMARY:Silk Fabric Painting Class
DESCRIPTION:Must sign up for a full four week session. Fee $135 \nContact Evey at (914) 276-0737 or email at eveymusart@comcast.net
URL:https://hhsociety.org/event/silk-fabric-painting-class-2/2026-06-17/
LOCATION:Room B
END:VEVENT
BEGIN:VEVENT
DTSTART;TZID=America/New_York:20260624T133000
DTEND;TZID=America/New_York:20260624T133000
DTSTAMP:20260423T145840
CREATED:20250507T142012Z
LAST-MODIFIED:20250507T142012Z
UID:10011316-1782307800-1782307800@hhsociety.org
SUMMARY:Silk Fabric Painting Class
DESCRIPTION:Must sign up for a full four week session. Fee $135 \nContact Evey at (914) 276-0737 or email at eveymusart@comcast.net
URL:https://hhsociety.org/event/silk-fabric-painting-class-2/2026-06-24/
LOCATION:Room B
END:VEVENT
BEGIN:VEVENT
DTSTART;TZID=America/New_York:20260701T133000
DTEND;TZID=America/New_York:20260701T133000
DTSTAMP:20260423T145840
CREATED:20250507T142012Z
LAST-MODIFIED:20250507T142012Z
UID:10011317-1782912600-1782912600@hhsociety.org
SUMMARY:Silk Fabric Painting Class
DESCRIPTION:Must sign up for a full four week session. Fee $135 \nContact Evey at (914) 276-0737 or email at eveymusart@comcast.net
URL:https://hhsociety.org/event/silk-fabric-painting-class-2/2026-07-01/
LOCATION:Room B
END:VEVENT
BEGIN:VEVENT
DTSTART;TZID=America/New_York:20260708T133000
DTEND;TZID=America/New_York:20260708T133000
DTSTAMP:20260423T145840
CREATED:20250507T142012Z
LAST-MODIFIED:20250507T142012Z
UID:10011318-1783517400-1783517400@hhsociety.org
SUMMARY:Silk Fabric Painting Class
DESCRIPTION:Must sign up for a full four week session. Fee $135 \nContact Evey at (914) 276-0737 or email at eveymusart@comcast.net
URL:https://hhsociety.org/event/silk-fabric-painting-class-2/2026-07-08/
LOCATION:Room B
END:VEVENT
BEGIN:VEVENT
DTSTART;TZID=America/New_York:20260715T133000
DTEND;TZID=America/New_York:20260715T133000
DTSTAMP:20260423T145840
CREATED:20250507T142012Z
LAST-MODIFIED:20250507T142012Z
UID:10011319-1784122200-1784122200@hhsociety.org
SUMMARY:Silk Fabric Painting Class
DESCRIPTION:Must sign up for a full four week session. Fee $135 \nContact Evey at (914) 276-0737 or email at eveymusart@comcast.net
URL:https://hhsociety.org/event/silk-fabric-painting-class-2/2026-07-15/
LOCATION:Room B
END:VEVENT
BEGIN:VEVENT
DTSTART;TZID=America/New_York:20260722T133000
DTEND;TZID=America/New_York:20260722T133000
DTSTAMP:20260423T145840
CREATED:20250507T142012Z
LAST-MODIFIED:20250507T142012Z
UID:10011320-1784727000-1784727000@hhsociety.org
SUMMARY:Silk Fabric Painting Class
DESCRIPTION:Must sign up for a full four week session. Fee $135 \nContact Evey at (914) 276-0737 or email at eveymusart@comcast.net
URL:https://hhsociety.org/event/silk-fabric-painting-class-2/2026-07-22/
LOCATION:Room B
END:VEVENT
BEGIN:VEVENT
DTSTART;TZID=America/New_York:20260729T133000
DTEND;TZID=America/New_York:20260729T133000
DTSTAMP:20260423T145840
CREATED:20250507T142012Z
LAST-MODIFIED:20250507T142012Z
UID:10011321-1785331800-1785331800@hhsociety.org
SUMMARY:Silk Fabric Painting Class
DESCRIPTION:Must sign up for a full four week session. Fee $135 \nContact Evey at (914) 276-0737 or email at eveymusart@comcast.net
URL:https://hhsociety.org/event/silk-fabric-painting-class-2/2026-07-29/
LOCATION:Room B
END:VEVENT
BEGIN:VEVENT
DTSTART;TZID=America/New_York:20260805T133000
DTEND;TZID=America/New_York:20260805T133000
DTSTAMP:20260423T145840
CREATED:20250507T142012Z
LAST-MODIFIED:20250507T142012Z
UID:10011322-1785936600-1785936600@hhsociety.org
SUMMARY:Silk Fabric Painting Class
DESCRIPTION:Must sign up for a full four week session. Fee $135 \nContact Evey at (914) 276-0737 or email at eveymusart@comcast.net
URL:https://hhsociety.org/event/silk-fabric-painting-class-2/2026-08-05/
LOCATION:Room B
END:VEVENT
BEGIN:VEVENT
DTSTART;TZID=America/New_York:20260812T133000
DTEND;TZID=America/New_York:20260812T133000
DTSTAMP:20260423T145840
CREATED:20250507T142012Z
LAST-MODIFIED:20250507T142012Z
UID:10011323-1786541400-1786541400@hhsociety.org
SUMMARY:Silk Fabric Painting Class
DESCRIPTION:Must sign up for a full four week session. Fee $135 \nContact Evey at (914) 276-0737 or email at eveymusart@comcast.net
URL:https://hhsociety.org/event/silk-fabric-painting-class-2/2026-08-12/
LOCATION:Room B
END:VEVENT
BEGIN:VEVENT
DTSTART;TZID=America/New_York:20260819T133000
DTEND;TZID=America/New_York:20260819T133000
DTSTAMP:20260423T145840
CREATED:20250507T142012Z
LAST-MODIFIED:20250507T142012Z
UID:10011324-1787146200-1787146200@hhsociety.org
SUMMARY:Silk Fabric Painting Class
DESCRIPTION:Must sign up for a full four week session. Fee $135 \nContact Evey at (914) 276-0737 or email at eveymusart@comcast.net
URL:https://hhsociety.org/event/silk-fabric-painting-class-2/2026-08-19/
LOCATION:Room B
END:VEVENT
BEGIN:VEVENT
DTSTART;TZID=America/New_York:20260826T133000
DTEND;TZID=America/New_York:20260826T133000
DTSTAMP:20260423T145840
CREATED:20250507T142012Z
LAST-MODIFIED:20250507T142012Z
UID:10011325-1787751000-1787751000@hhsociety.org
SUMMARY:Silk Fabric Painting Class
DESCRIPTION:Must sign up for a full four week session. Fee $135 \nContact Evey at (914) 276-0737 or email at eveymusart@comcast.net
URL:https://hhsociety.org/event/silk-fabric-painting-class-2/2026-08-26/
LOCATION:Room B
END:VEVENT
BEGIN:VEVENT
DTSTART;TZID=America/New_York:20260902T133000
DTEND;TZID=America/New_York:20260902T133000
DTSTAMP:20260423T145840
CREATED:20250507T142012Z
LAST-MODIFIED:20250507T142012Z
UID:10011326-1788355800-1788355800@hhsociety.org
SUMMARY:Silk Fabric Painting Class
DESCRIPTION:Must sign up for a full four week session. Fee $135 \nContact Evey at (914) 276-0737 or email at eveymusart@comcast.net
URL:https://hhsociety.org/event/silk-fabric-painting-class-2/2026-09-02/
LOCATION:Room B
END:VEVENT
BEGIN:VEVENT
DTSTART;TZID=America/New_York:20260909T133000
DTEND;TZID=America/New_York:20260909T133000
DTSTAMP:20260423T145840
CREATED:20250507T142012Z
LAST-MODIFIED:20250507T142012Z
UID:10011327-1788960600-1788960600@hhsociety.org
SUMMARY:Silk Fabric Painting Class
DESCRIPTION:Must sign up for a full four week session. Fee $135 \nContact Evey at (914) 276-0737 or email at eveymusart@comcast.net
URL:https://hhsociety.org/event/silk-fabric-painting-class-2/2026-09-09/
LOCATION:Room B
END:VEVENT
BEGIN:VEVENT
DTSTART;TZID=America/New_York:20260916T133000
DTEND;TZID=America/New_York:20260916T133000
DTSTAMP:20260423T145840
CREATED:20250507T142012Z
LAST-MODIFIED:20250507T142012Z
UID:10011328-1789565400-1789565400@hhsociety.org
SUMMARY:Silk Fabric Painting Class
DESCRIPTION:Must sign up for a full four week session. Fee $135 \nContact Evey at (914) 276-0737 or email at eveymusart@comcast.net
URL:https://hhsociety.org/event/silk-fabric-painting-class-2/2026-09-16/
LOCATION:Room B
END:VEVENT
BEGIN:VEVENT
DTSTART;TZID=America/New_York:20260923T133000
DTEND;TZID=America/New_York:20260923T133000
DTSTAMP:20260423T145840
CREATED:20250507T142012Z
LAST-MODIFIED:20250507T142012Z
UID:10011329-1790170200-1790170200@hhsociety.org
SUMMARY:Silk Fabric Painting Class
DESCRIPTION:Must sign up for a full four week session. Fee $135 \nContact Evey at (914) 276-0737 or email at eveymusart@comcast.net
URL:https://hhsociety.org/event/silk-fabric-painting-class-2/2026-09-23/
LOCATION:Room B
END:VEVENT
BEGIN:VEVENT
DTSTART;TZID=America/New_York:20260930T133000
DTEND;TZID=America/New_York:20260930T133000
DTSTAMP:20260423T145840
CREATED:20250507T142012Z
LAST-MODIFIED:20250507T142012Z
UID:10011330-1790775000-1790775000@hhsociety.org
SUMMARY:Silk Fabric Painting Class
DESCRIPTION:Must sign up for a full four week session. Fee $135 \nContact Evey at (914) 276-0737 or email at eveymusart@comcast.net
URL:https://hhsociety.org/event/silk-fabric-painting-class-2/2026-09-30/
LOCATION:Room B
END:VEVENT
BEGIN:VEVENT
DTSTART;TZID=America/New_York:20261007T133000
DTEND;TZID=America/New_York:20261007T133000
DTSTAMP:20260423T145840
CREATED:20250507T142012Z
LAST-MODIFIED:20250507T142012Z
UID:10011331-1791379800-1791379800@hhsociety.org
SUMMARY:Silk Fabric Painting Class
DESCRIPTION:Must sign up for a full four week session. Fee $135 \nContact Evey at (914) 276-0737 or email at eveymusart@comcast.net
URL:https://hhsociety.org/event/silk-fabric-painting-class-2/2026-10-07/
LOCATION:Room B
END:VEVENT
BEGIN:VEVENT
DTSTART;TZID=America/New_York:20261014T133000
DTEND;TZID=America/New_York:20261014T133000
DTSTAMP:20260423T145840
CREATED:20250507T142012Z
LAST-MODIFIED:20250507T142012Z
UID:10011332-1791984600-1791984600@hhsociety.org
SUMMARY:Silk Fabric Painting Class
DESCRIPTION:Must sign up for a full four week session. Fee $135 \nContact Evey at (914) 276-0737 or email at eveymusart@comcast.net
URL:https://hhsociety.org/event/silk-fabric-painting-class-2/2026-10-14/
LOCATION:Room B
END:VEVENT
BEGIN:VEVENT
DTSTART;TZID=America/New_York:20261021T133000
DTEND;TZID=America/New_York:20261021T133000
DTSTAMP:20260423T145840
CREATED:20250507T142012Z
LAST-MODIFIED:20250507T142012Z
UID:10011333-1792589400-1792589400@hhsociety.org
SUMMARY:Silk Fabric Painting Class
DESCRIPTION:Must sign up for a full four week session. Fee $135 \nContact Evey at (914) 276-0737 or email at eveymusart@comcast.net
URL:https://hhsociety.org/event/silk-fabric-painting-class-2/2026-10-21/
LOCATION:Room B
END:VEVENT
BEGIN:VEVENT
DTSTART;TZID=America/New_York:20261028T133000
DTEND;TZID=America/New_York:20261028T133000
DTSTAMP:20260423T145840
CREATED:20250507T142012Z
LAST-MODIFIED:20250507T142012Z
UID:10011334-1793194200-1793194200@hhsociety.org
SUMMARY:Silk Fabric Painting Class
DESCRIPTION:Must sign up for a full four week session. Fee $135 \nContact Evey at (914) 276-0737 or email at eveymusart@comcast.net
URL:https://hhsociety.org/event/silk-fabric-painting-class-2/2026-10-28/
LOCATION:Room B
END:VEVENT
BEGIN:VEVENT
DTSTART;TZID=America/New_York:20261104T133000
DTEND;TZID=America/New_York:20261104T133000
DTSTAMP:20260423T145840
CREATED:20250507T142012Z
LAST-MODIFIED:20250507T142012Z
UID:10011335-1793799000-1793799000@hhsociety.org
SUMMARY:Silk Fabric Painting Class
DESCRIPTION:Must sign up for a full four week session. Fee $135 \nContact Evey at (914) 276-0737 or email at eveymusart@comcast.net
URL:https://hhsociety.org/event/silk-fabric-painting-class-2/2026-11-04/
LOCATION:Room B
END:VEVENT
BEGIN:VEVENT
DTSTART;TZID=America/New_York:20261111T133000
DTEND;TZID=America/New_York:20261111T133000
DTSTAMP:20260423T145840
CREATED:20250507T142012Z
LAST-MODIFIED:20250507T142012Z
UID:10011336-1794403800-1794403800@hhsociety.org
SUMMARY:Silk Fabric Painting Class
DESCRIPTION:Must sign up for a full four week session. Fee $135 \nContact Evey at (914) 276-0737 or email at eveymusart@comcast.net
URL:https://hhsociety.org/event/silk-fabric-painting-class-2/2026-11-11/
LOCATION:Room B
END:VEVENT
BEGIN:VEVENT
DTSTART;TZID=America/New_York:20261118T133000
DTEND;TZID=America/New_York:20261118T133000
DTSTAMP:20260423T145840
CREATED:20250507T142012Z
LAST-MODIFIED:20250507T142012Z
UID:10011337-1795008600-1795008600@hhsociety.org
SUMMARY:Silk Fabric Painting Class
DESCRIPTION:Must sign up for a full four week session. Fee $135 \nContact Evey at (914) 276-0737 or email at eveymusart@comcast.net
URL:https://hhsociety.org/event/silk-fabric-painting-class-2/2026-11-18/
LOCATION:Room B
END:VEVENT
END:VCALENDAR