BEGIN:VCALENDAR
VERSION:2.0
PRODID:-//Heritage Hills Society - ECPv6.15.20//NONSGML v1.0//EN
CALSCALE:GREGORIAN
METHOD:PUBLISH
X-WR-CALNAME:Heritage Hills Society
X-ORIGINAL-URL:https://hhsociety.org
X-WR-CALDESC:Events for Heritage Hills Society
REFRESH-INTERVAL;VALUE=DURATION:PT1H
X-Robots-Tag:noindex
X-PUBLISHED-TTL:PT1H
BEGIN:VTIMEZONE
TZID:America/New_York
BEGIN:DAYLIGHT
TZOFFSETFROM:-0500
TZOFFSETTO:-0400
TZNAME:EDT
DTSTART:20250309T070000
END:DAYLIGHT
BEGIN:STANDARD
TZOFFSETFROM:-0400
TZOFFSETTO:-0500
TZNAME:EST
DTSTART:20251102T060000
END:STANDARD
BEGIN:DAYLIGHT
TZOFFSETFROM:-0500
TZOFFSETTO:-0400
TZNAME:EDT
DTSTART:20260308T070000
END:DAYLIGHT
BEGIN:STANDARD
TZOFFSETFROM:-0400
TZOFFSETTO:-0500
TZNAME:EST
DTSTART:20261101T060000
END:STANDARD
BEGIN:DAYLIGHT
TZOFFSETFROM:-0500
TZOFFSETTO:-0400
TZNAME:EDT
DTSTART:20270314T070000
END:DAYLIGHT
BEGIN:STANDARD
TZOFFSETFROM:-0400
TZOFFSETTO:-0500
TZNAME:EST
DTSTART:20271107T060000
END:STANDARD
BEGIN:DAYLIGHT
TZOFFSETFROM:-0500
TZOFFSETTO:-0400
TZNAME:EDT
DTSTART:20280312T070000
END:DAYLIGHT
BEGIN:STANDARD
TZOFFSETFROM:-0400
TZOFFSETTO:-0500
TZNAME:EST
DTSTART:20281105T060000
END:STANDARD
BEGIN:DAYLIGHT
TZOFFSETFROM:-0500
TZOFFSETTO:-0400
TZNAME:EDT
DTSTART:20290311T070000
END:DAYLIGHT
BEGIN:STANDARD
TZOFFSETFROM:-0400
TZOFFSETTO:-0500
TZNAME:EST
DTSTART:20291104T060000
END:STANDARD
END:VTIMEZONE
BEGIN:VEVENT
DTSTART;TZID=America/New_York:20260506T190000
DTEND;TZID=America/New_York:20260506T190000
DTSTAMP:20260423T162023
CREATED:20250514T144427Z
LAST-MODIFIED:20250514T144427Z
UID:10011909-1778094000-1778094000@hhsociety.org
SUMMARY:Energy Healing for Self\, Family\, Friends and Pets with Melanie Gambino
DESCRIPTION:Pre-registration required.  $20 per class \nFor more information and to reserve your place\, call\, text or email Melanie at (914) 588-2450 or melaniegambino1@gmail.com$20 per \n 
URL:https://hhsociety.org/event/energy-healing-for-self-family-friends-and-pets-with-melanie-gambino/2026-05-06/
LOCATION:Lake Lodge Room 3
END:VEVENT
BEGIN:VEVENT
DTSTART;TZID=America/New_York:20260603T190000
DTEND;TZID=America/New_York:20260603T190000
DTSTAMP:20260423T162023
CREATED:20250514T144427Z
LAST-MODIFIED:20250514T144427Z
UID:10011910-1780513200-1780513200@hhsociety.org
SUMMARY:Energy Healing for Self\, Family\, Friends and Pets with Melanie Gambino
DESCRIPTION:Pre-registration required.  $20 per class \nFor more information and to reserve your place\, call\, text or email Melanie at (914) 588-2450 or melaniegambino1@gmail.com$20 per \n 
URL:https://hhsociety.org/event/energy-healing-for-self-family-friends-and-pets-with-melanie-gambino/2026-06-03/
LOCATION:Lake Lodge Room 3
END:VEVENT
BEGIN:VEVENT
DTSTART;TZID=America/New_York:20260701T190000
DTEND;TZID=America/New_York:20260701T190000
DTSTAMP:20260423T162023
CREATED:20250514T144427Z
LAST-MODIFIED:20250514T144427Z
UID:10011911-1782932400-1782932400@hhsociety.org
SUMMARY:Energy Healing for Self\, Family\, Friends and Pets with Melanie Gambino
DESCRIPTION:Pre-registration required.  $20 per class \nFor more information and to reserve your place\, call\, text or email Melanie at (914) 588-2450 or melaniegambino1@gmail.com$20 per \n 
URL:https://hhsociety.org/event/energy-healing-for-self-family-friends-and-pets-with-melanie-gambino/2026-07-01/
LOCATION:Lake Lodge Room 3
END:VEVENT
BEGIN:VEVENT
DTSTART;TZID=America/New_York:20260805T190000
DTEND;TZID=America/New_York:20260805T190000
DTSTAMP:20260423T162023
CREATED:20250514T144427Z
LAST-MODIFIED:20250514T144427Z
UID:10011912-1785956400-1785956400@hhsociety.org
SUMMARY:Energy Healing for Self\, Family\, Friends and Pets with Melanie Gambino
DESCRIPTION:Pre-registration required.  $20 per class \nFor more information and to reserve your place\, call\, text or email Melanie at (914) 588-2450 or melaniegambino1@gmail.com$20 per \n 
URL:https://hhsociety.org/event/energy-healing-for-self-family-friends-and-pets-with-melanie-gambino/2026-08-05/
LOCATION:Lake Lodge Room 3
END:VEVENT
BEGIN:VEVENT
DTSTART;TZID=America/New_York:20260902T190000
DTEND;TZID=America/New_York:20260902T190000
DTSTAMP:20260423T162023
CREATED:20250514T144427Z
LAST-MODIFIED:20250514T144427Z
UID:10011913-1788375600-1788375600@hhsociety.org
SUMMARY:Energy Healing for Self\, Family\, Friends and Pets with Melanie Gambino
DESCRIPTION:Pre-registration required.  $20 per class \nFor more information and to reserve your place\, call\, text or email Melanie at (914) 588-2450 or melaniegambino1@gmail.com$20 per \n 
URL:https://hhsociety.org/event/energy-healing-for-self-family-friends-and-pets-with-melanie-gambino/2026-09-02/
LOCATION:Lake Lodge Room 3
END:VEVENT
BEGIN:VEVENT
DTSTART;TZID=America/New_York:20261007T190000
DTEND;TZID=America/New_York:20261007T190000
DTSTAMP:20260423T162023
CREATED:20250514T144427Z
LAST-MODIFIED:20250514T144427Z
UID:10011914-1791399600-1791399600@hhsociety.org
SUMMARY:Energy Healing for Self\, Family\, Friends and Pets with Melanie Gambino
DESCRIPTION:Pre-registration required.  $20 per class \nFor more information and to reserve your place\, call\, text or email Melanie at (914) 588-2450 or melaniegambino1@gmail.com$20 per \n 
URL:https://hhsociety.org/event/energy-healing-for-self-family-friends-and-pets-with-melanie-gambino/2026-10-07/
LOCATION:Lake Lodge Room 3
END:VEVENT
BEGIN:VEVENT
DTSTART;TZID=America/New_York:20261104T190000
DTEND;TZID=America/New_York:20261104T190000
DTSTAMP:20260423T162023
CREATED:20250514T144427Z
LAST-MODIFIED:20250514T144427Z
UID:10011915-1793818800-1793818800@hhsociety.org
SUMMARY:Energy Healing for Self\, Family\, Friends and Pets with Melanie Gambino
DESCRIPTION:Pre-registration required.  $20 per class \nFor more information and to reserve your place\, call\, text or email Melanie at (914) 588-2450 or melaniegambino1@gmail.com$20 per \n 
URL:https://hhsociety.org/event/energy-healing-for-self-family-friends-and-pets-with-melanie-gambino/2026-11-04/
LOCATION:Lake Lodge Room 3
END:VEVENT
BEGIN:VEVENT
DTSTART;TZID=America/New_York:20261202T190000
DTEND;TZID=America/New_York:20261202T190000
DTSTAMP:20260423T162023
CREATED:20250514T144427Z
LAST-MODIFIED:20250514T144427Z
UID:10011916-1796238000-1796238000@hhsociety.org
SUMMARY:Energy Healing for Self\, Family\, Friends and Pets with Melanie Gambino
DESCRIPTION:Pre-registration required.  $20 per class \nFor more information and to reserve your place\, call\, text or email Melanie at (914) 588-2450 or melaniegambino1@gmail.com$20 per \n 
URL:https://hhsociety.org/event/energy-healing-for-self-family-friends-and-pets-with-melanie-gambino/2026-12-02/
LOCATION:Lake Lodge Room 3
END:VEVENT
BEGIN:VEVENT
DTSTART;TZID=America/New_York:20270106T190000
DTEND;TZID=America/New_York:20270106T190000
DTSTAMP:20260423T162023
CREATED:20250514T144427Z
LAST-MODIFIED:20250514T144427Z
UID:10011917-1799262000-1799262000@hhsociety.org
SUMMARY:Energy Healing for Self\, Family\, Friends and Pets with Melanie Gambino
DESCRIPTION:Pre-registration required.  $20 per class \nFor more information and to reserve your place\, call\, text or email Melanie at (914) 588-2450 or melaniegambino1@gmail.com$20 per \n 
URL:https://hhsociety.org/event/energy-healing-for-self-family-friends-and-pets-with-melanie-gambino/2027-01-06/
LOCATION:Lake Lodge Room 3
END:VEVENT
BEGIN:VEVENT
DTSTART;TZID=America/New_York:20270203T190000
DTEND;TZID=America/New_York:20270203T190000
DTSTAMP:20260423T162023
CREATED:20250514T144427Z
LAST-MODIFIED:20250514T144427Z
UID:10011918-1801681200-1801681200@hhsociety.org
SUMMARY:Energy Healing for Self\, Family\, Friends and Pets with Melanie Gambino
DESCRIPTION:Pre-registration required.  $20 per class \nFor more information and to reserve your place\, call\, text or email Melanie at (914) 588-2450 or melaniegambino1@gmail.com$20 per \n 
URL:https://hhsociety.org/event/energy-healing-for-self-family-friends-and-pets-with-melanie-gambino/2027-02-03/
LOCATION:Lake Lodge Room 3
END:VEVENT
BEGIN:VEVENT
DTSTART;TZID=America/New_York:20270303T190000
DTEND;TZID=America/New_York:20270303T190000
DTSTAMP:20260423T162023
CREATED:20250514T144427Z
LAST-MODIFIED:20250514T144427Z
UID:10011919-1804100400-1804100400@hhsociety.org
SUMMARY:Energy Healing for Self\, Family\, Friends and Pets with Melanie Gambino
DESCRIPTION:Pre-registration required.  $20 per class \nFor more information and to reserve your place\, call\, text or email Melanie at (914) 588-2450 or melaniegambino1@gmail.com$20 per \n 
URL:https://hhsociety.org/event/energy-healing-for-self-family-friends-and-pets-with-melanie-gambino/2027-03-03/
LOCATION:Lake Lodge Room 3
END:VEVENT
BEGIN:VEVENT
DTSTART;TZID=America/New_York:20270407T190000
DTEND;TZID=America/New_York:20270407T190000
DTSTAMP:20260423T162023
CREATED:20250514T144427Z
LAST-MODIFIED:20250514T144427Z
UID:10011920-1807124400-1807124400@hhsociety.org
SUMMARY:Energy Healing for Self\, Family\, Friends and Pets with Melanie Gambino
DESCRIPTION:Pre-registration required.  $20 per class \nFor more information and to reserve your place\, call\, text or email Melanie at (914) 588-2450 or melaniegambino1@gmail.com$20 per \n 
URL:https://hhsociety.org/event/energy-healing-for-self-family-friends-and-pets-with-melanie-gambino/2027-04-07/
LOCATION:Lake Lodge Room 3
END:VEVENT
BEGIN:VEVENT
DTSTART;TZID=America/New_York:20270505T190000
DTEND;TZID=America/New_York:20270505T190000
DTSTAMP:20260423T162023
CREATED:20250514T144427Z
LAST-MODIFIED:20250514T144427Z
UID:10011921-1809543600-1809543600@hhsociety.org
SUMMARY:Energy Healing for Self\, Family\, Friends and Pets with Melanie Gambino
DESCRIPTION:Pre-registration required.  $20 per class \nFor more information and to reserve your place\, call\, text or email Melanie at (914) 588-2450 or melaniegambino1@gmail.com$20 per \n 
URL:https://hhsociety.org/event/energy-healing-for-self-family-friends-and-pets-with-melanie-gambino/2027-05-05/
LOCATION:Lake Lodge Room 3
END:VEVENT
BEGIN:VEVENT
DTSTART;TZID=America/New_York:20270602T190000
DTEND;TZID=America/New_York:20270602T190000
DTSTAMP:20260423T162023
CREATED:20250514T144427Z
LAST-MODIFIED:20250514T144427Z
UID:10011922-1811962800-1811962800@hhsociety.org
SUMMARY:Energy Healing for Self\, Family\, Friends and Pets with Melanie Gambino
DESCRIPTION:Pre-registration required.  $20 per class \nFor more information and to reserve your place\, call\, text or email Melanie at (914) 588-2450 or melaniegambino1@gmail.com$20 per \n 
URL:https://hhsociety.org/event/energy-healing-for-self-family-friends-and-pets-with-melanie-gambino/2027-06-02/
LOCATION:Lake Lodge Room 3
END:VEVENT
BEGIN:VEVENT
DTSTART;TZID=America/New_York:20270707T190000
DTEND;TZID=America/New_York:20270707T190000
DTSTAMP:20260423T162024
CREATED:20250514T144427Z
LAST-MODIFIED:20250514T144427Z
UID:10011923-1814986800-1814986800@hhsociety.org
SUMMARY:Energy Healing for Self\, Family\, Friends and Pets with Melanie Gambino
DESCRIPTION:Pre-registration required.  $20 per class \nFor more information and to reserve your place\, call\, text or email Melanie at (914) 588-2450 or melaniegambino1@gmail.com$20 per \n 
URL:https://hhsociety.org/event/energy-healing-for-self-family-friends-and-pets-with-melanie-gambino/2027-07-07/
LOCATION:Lake Lodge Room 3
END:VEVENT
BEGIN:VEVENT
DTSTART;TZID=America/New_York:20270804T190000
DTEND;TZID=America/New_York:20270804T190000
DTSTAMP:20260423T162024
CREATED:20250514T144427Z
LAST-MODIFIED:20250514T144427Z
UID:10011924-1817406000-1817406000@hhsociety.org
SUMMARY:Energy Healing for Self\, Family\, Friends and Pets with Melanie Gambino
DESCRIPTION:Pre-registration required.  $20 per class \nFor more information and to reserve your place\, call\, text or email Melanie at (914) 588-2450 or melaniegambino1@gmail.com$20 per \n 
URL:https://hhsociety.org/event/energy-healing-for-self-family-friends-and-pets-with-melanie-gambino/2027-08-04/
LOCATION:Lake Lodge Room 3
END:VEVENT
BEGIN:VEVENT
DTSTART;TZID=America/New_York:20270901T190000
DTEND;TZID=America/New_York:20270901T190000
DTSTAMP:20260423T162024
CREATED:20250514T144427Z
LAST-MODIFIED:20250514T144427Z
UID:10011925-1819825200-1819825200@hhsociety.org
SUMMARY:Energy Healing for Self\, Family\, Friends and Pets with Melanie Gambino
DESCRIPTION:Pre-registration required.  $20 per class \nFor more information and to reserve your place\, call\, text or email Melanie at (914) 588-2450 or melaniegambino1@gmail.com$20 per \n 
URL:https://hhsociety.org/event/energy-healing-for-self-family-friends-and-pets-with-melanie-gambino/2027-09-01/
LOCATION:Lake Lodge Room 3
END:VEVENT
BEGIN:VEVENT
DTSTART;TZID=America/New_York:20271006T190000
DTEND;TZID=America/New_York:20271006T190000
DTSTAMP:20260423T162024
CREATED:20250514T144427Z
LAST-MODIFIED:20250514T144427Z
UID:10011926-1822849200-1822849200@hhsociety.org
SUMMARY:Energy Healing for Self\, Family\, Friends and Pets with Melanie Gambino
DESCRIPTION:Pre-registration required.  $20 per class \nFor more information and to reserve your place\, call\, text or email Melanie at (914) 588-2450 or melaniegambino1@gmail.com$20 per \n 
URL:https://hhsociety.org/event/energy-healing-for-self-family-friends-and-pets-with-melanie-gambino/2027-10-06/
LOCATION:Lake Lodge Room 3
END:VEVENT
BEGIN:VEVENT
DTSTART;TZID=America/New_York:20271103T190000
DTEND;TZID=America/New_York:20271103T190000
DTSTAMP:20260423T162024
CREATED:20250514T144427Z
LAST-MODIFIED:20250514T144427Z
UID:10011927-1825268400-1825268400@hhsociety.org
SUMMARY:Energy Healing for Self\, Family\, Friends and Pets with Melanie Gambino
DESCRIPTION:Pre-registration required.  $20 per class \nFor more information and to reserve your place\, call\, text or email Melanie at (914) 588-2450 or melaniegambino1@gmail.com$20 per \n 
URL:https://hhsociety.org/event/energy-healing-for-self-family-friends-and-pets-with-melanie-gambino/2027-11-03/
LOCATION:Lake Lodge Room 3
END:VEVENT
BEGIN:VEVENT
DTSTART;TZID=America/New_York:20271201T190000
DTEND;TZID=America/New_York:20271201T190000
DTSTAMP:20260423T162024
CREATED:20250514T144427Z
LAST-MODIFIED:20250514T144427Z
UID:10011928-1827687600-1827687600@hhsociety.org
SUMMARY:Energy Healing for Self\, Family\, Friends and Pets with Melanie Gambino
DESCRIPTION:Pre-registration required.  $20 per class \nFor more information and to reserve your place\, call\, text or email Melanie at (914) 588-2450 or melaniegambino1@gmail.com$20 per \n 
URL:https://hhsociety.org/event/energy-healing-for-self-family-friends-and-pets-with-melanie-gambino/2027-12-01/
LOCATION:Lake Lodge Room 3
END:VEVENT
BEGIN:VEVENT
DTSTART;TZID=America/New_York:20280105T190000
DTEND;TZID=America/New_York:20280105T190000
DTSTAMP:20260423T162024
CREATED:20250514T144427Z
LAST-MODIFIED:20250514T144427Z
UID:10011929-1830711600-1830711600@hhsociety.org
SUMMARY:Energy Healing for Self\, Family\, Friends and Pets with Melanie Gambino
DESCRIPTION:Pre-registration required.  $20 per class \nFor more information and to reserve your place\, call\, text or email Melanie at (914) 588-2450 or melaniegambino1@gmail.com$20 per \n 
URL:https://hhsociety.org/event/energy-healing-for-self-family-friends-and-pets-with-melanie-gambino/2028-01-05/
LOCATION:Lake Lodge Room 3
END:VEVENT
BEGIN:VEVENT
DTSTART;TZID=America/New_York:20280202T190000
DTEND;TZID=America/New_York:20280202T190000
DTSTAMP:20260423T162024
CREATED:20250514T144427Z
LAST-MODIFIED:20250514T144427Z
UID:10011930-1833130800-1833130800@hhsociety.org
SUMMARY:Energy Healing for Self\, Family\, Friends and Pets with Melanie Gambino
DESCRIPTION:Pre-registration required.  $20 per class \nFor more information and to reserve your place\, call\, text or email Melanie at (914) 588-2450 or melaniegambino1@gmail.com$20 per \n 
URL:https://hhsociety.org/event/energy-healing-for-self-family-friends-and-pets-with-melanie-gambino/2028-02-02/
LOCATION:Lake Lodge Room 3
END:VEVENT
BEGIN:VEVENT
DTSTART;TZID=America/New_York:20280301T190000
DTEND;TZID=America/New_York:20280301T190000
DTSTAMP:20260423T162024
CREATED:20250514T144427Z
LAST-MODIFIED:20250514T144427Z
UID:10011931-1835550000-1835550000@hhsociety.org
SUMMARY:Energy Healing for Self\, Family\, Friends and Pets with Melanie Gambino
DESCRIPTION:Pre-registration required.  $20 per class \nFor more information and to reserve your place\, call\, text or email Melanie at (914) 588-2450 or melaniegambino1@gmail.com$20 per \n 
URL:https://hhsociety.org/event/energy-healing-for-self-family-friends-and-pets-with-melanie-gambino/2028-03-01/
LOCATION:Lake Lodge Room 3
END:VEVENT
BEGIN:VEVENT
DTSTART;TZID=America/New_York:20280405T190000
DTEND;TZID=America/New_York:20280405T190000
DTSTAMP:20260423T162024
CREATED:20250514T144427Z
LAST-MODIFIED:20250514T144427Z
UID:10011932-1838574000-1838574000@hhsociety.org
SUMMARY:Energy Healing for Self\, Family\, Friends and Pets with Melanie Gambino
DESCRIPTION:Pre-registration required.  $20 per class \nFor more information and to reserve your place\, call\, text or email Melanie at (914) 588-2450 or melaniegambino1@gmail.com$20 per \n 
URL:https://hhsociety.org/event/energy-healing-for-self-family-friends-and-pets-with-melanie-gambino/2028-04-05/
LOCATION:Lake Lodge Room 3
END:VEVENT
BEGIN:VEVENT
DTSTART;TZID=America/New_York:20280503T190000
DTEND;TZID=America/New_York:20280503T190000
DTSTAMP:20260423T162024
CREATED:20250514T144427Z
LAST-MODIFIED:20250514T144427Z
UID:10011933-1840993200-1840993200@hhsociety.org
SUMMARY:Energy Healing for Self\, Family\, Friends and Pets with Melanie Gambino
DESCRIPTION:Pre-registration required.  $20 per class \nFor more information and to reserve your place\, call\, text or email Melanie at (914) 588-2450 or melaniegambino1@gmail.com$20 per \n 
URL:https://hhsociety.org/event/energy-healing-for-self-family-friends-and-pets-with-melanie-gambino/2028-05-03/
LOCATION:Lake Lodge Room 3
END:VEVENT
BEGIN:VEVENT
DTSTART;TZID=America/New_York:20280607T190000
DTEND;TZID=America/New_York:20280607T190000
DTSTAMP:20260423T162024
CREATED:20250514T144427Z
LAST-MODIFIED:20250514T144427Z
UID:10011934-1844017200-1844017200@hhsociety.org
SUMMARY:Energy Healing for Self\, Family\, Friends and Pets with Melanie Gambino
DESCRIPTION:Pre-registration required.  $20 per class \nFor more information and to reserve your place\, call\, text or email Melanie at (914) 588-2450 or melaniegambino1@gmail.com$20 per \n 
URL:https://hhsociety.org/event/energy-healing-for-self-family-friends-and-pets-with-melanie-gambino/2028-06-07/
LOCATION:Lake Lodge Room 3
END:VEVENT
BEGIN:VEVENT
DTSTART;TZID=America/New_York:20280705T190000
DTEND;TZID=America/New_York:20280705T190000
DTSTAMP:20260423T162024
CREATED:20250514T144427Z
LAST-MODIFIED:20250514T144427Z
UID:10011935-1846436400-1846436400@hhsociety.org
SUMMARY:Energy Healing for Self\, Family\, Friends and Pets with Melanie Gambino
DESCRIPTION:Pre-registration required.  $20 per class \nFor more information and to reserve your place\, call\, text or email Melanie at (914) 588-2450 or melaniegambino1@gmail.com$20 per \n 
URL:https://hhsociety.org/event/energy-healing-for-self-family-friends-and-pets-with-melanie-gambino/2028-07-05/
LOCATION:Lake Lodge Room 3
END:VEVENT
BEGIN:VEVENT
DTSTART;TZID=America/New_York:20280802T190000
DTEND;TZID=America/New_York:20280802T190000
DTSTAMP:20260423T162024
CREATED:20250514T144427Z
LAST-MODIFIED:20250514T144427Z
UID:10011936-1848855600-1848855600@hhsociety.org
SUMMARY:Energy Healing for Self\, Family\, Friends and Pets with Melanie Gambino
DESCRIPTION:Pre-registration required.  $20 per class \nFor more information and to reserve your place\, call\, text or email Melanie at (914) 588-2450 or melaniegambino1@gmail.com$20 per \n 
URL:https://hhsociety.org/event/energy-healing-for-self-family-friends-and-pets-with-melanie-gambino/2028-08-02/
LOCATION:Lake Lodge Room 3
END:VEVENT
BEGIN:VEVENT
DTSTART;TZID=America/New_York:20280906T190000
DTEND;TZID=America/New_York:20280906T190000
DTSTAMP:20260423T162024
CREATED:20250514T144427Z
LAST-MODIFIED:20250514T144427Z
UID:10011937-1851879600-1851879600@hhsociety.org
SUMMARY:Energy Healing for Self\, Family\, Friends and Pets with Melanie Gambino
DESCRIPTION:Pre-registration required.  $20 per class \nFor more information and to reserve your place\, call\, text or email Melanie at (914) 588-2450 or melaniegambino1@gmail.com$20 per \n 
URL:https://hhsociety.org/event/energy-healing-for-self-family-friends-and-pets-with-melanie-gambino/2028-09-06/
LOCATION:Lake Lodge Room 3
END:VEVENT
BEGIN:VEVENT
DTSTART;TZID=America/New_York:20281004T190000
DTEND;TZID=America/New_York:20281004T190000
DTSTAMP:20260423T162024
CREATED:20250514T144427Z
LAST-MODIFIED:20250514T144427Z
UID:10011938-1854298800-1854298800@hhsociety.org
SUMMARY:Energy Healing for Self\, Family\, Friends and Pets with Melanie Gambino
DESCRIPTION:Pre-registration required.  $20 per class \nFor more information and to reserve your place\, call\, text or email Melanie at (914) 588-2450 or melaniegambino1@gmail.com$20 per \n 
URL:https://hhsociety.org/event/energy-healing-for-self-family-friends-and-pets-with-melanie-gambino/2028-10-04/
LOCATION:Lake Lodge Room 3
END:VEVENT
END:VCALENDAR