BEGIN:VCALENDAR
VERSION:2.0
PRODID:-//Heritage Hills Society - ECPv6.15.20//NONSGML v1.0//EN
CALSCALE:GREGORIAN
METHOD:PUBLISH
X-WR-CALNAME:Heritage Hills Society
X-ORIGINAL-URL:https://hhsociety.org
X-WR-CALDESC:Events for Heritage Hills Society
REFRESH-INTERVAL;VALUE=DURATION:PT1H
X-Robots-Tag:noindex
X-PUBLISHED-TTL:PT1H
BEGIN:VTIMEZONE
TZID:America/New_York
BEGIN:DAYLIGHT
TZOFFSETFROM:-0500
TZOFFSETTO:-0400
TZNAME:EDT
DTSTART:20250309T070000
END:DAYLIGHT
BEGIN:STANDARD
TZOFFSETFROM:-0400
TZOFFSETTO:-0500
TZNAME:EST
DTSTART:20251102T060000
END:STANDARD
BEGIN:DAYLIGHT
TZOFFSETFROM:-0500
TZOFFSETTO:-0400
TZNAME:EDT
DTSTART:20260308T070000
END:DAYLIGHT
BEGIN:STANDARD
TZOFFSETFROM:-0400
TZOFFSETTO:-0500
TZNAME:EST
DTSTART:20261101T060000
END:STANDARD
BEGIN:DAYLIGHT
TZOFFSETFROM:-0500
TZOFFSETTO:-0400
TZNAME:EDT
DTSTART:20270314T070000
END:DAYLIGHT
BEGIN:STANDARD
TZOFFSETFROM:-0400
TZOFFSETTO:-0500
TZNAME:EST
DTSTART:20271107T060000
END:STANDARD
END:VTIMEZONE
BEGIN:VEVENT
DTSTART;TZID=America/New_York:20260424T094500
DTEND;TZID=America/New_York:20260424T094500
DTSTAMP:20260423T132727
CREATED:20250514T153212Z
LAST-MODIFIED:20250514T153212Z
UID:10012261-1777023900-1777023900@hhsociety.org
SUMMARY:Move and Groove with Theresa
DESCRIPTION:East to learn and easy to follow beginner Line Dances to ALL music genres. \nContact Theresa for more information at zumbawithme@aol.com
URL:https://hhsociety.org/event/move-and-groove-with-theresa-4/2026-04-24/
LOCATION:Gym\, Fitness Center
END:VEVENT
BEGIN:VEVENT
DTSTART;TZID=America/New_York:20260501T094500
DTEND;TZID=America/New_York:20260501T094500
DTSTAMP:20260423T132727
CREATED:20250514T153212Z
LAST-MODIFIED:20250514T153212Z
UID:10012262-1777628700-1777628700@hhsociety.org
SUMMARY:Move and Groove with Theresa
DESCRIPTION:East to learn and easy to follow beginner Line Dances to ALL music genres. \nContact Theresa for more information at zumbawithme@aol.com
URL:https://hhsociety.org/event/move-and-groove-with-theresa-4/2026-05-01/
LOCATION:Gym\, Fitness Center
END:VEVENT
BEGIN:VEVENT
DTSTART;TZID=America/New_York:20260508T094500
DTEND;TZID=America/New_York:20260508T094500
DTSTAMP:20260423T132727
CREATED:20250514T153212Z
LAST-MODIFIED:20250514T153212Z
UID:10012263-1778233500-1778233500@hhsociety.org
SUMMARY:Move and Groove with Theresa
DESCRIPTION:East to learn and easy to follow beginner Line Dances to ALL music genres. \nContact Theresa for more information at zumbawithme@aol.com
URL:https://hhsociety.org/event/move-and-groove-with-theresa-4/2026-05-08/
LOCATION:Gym\, Fitness Center
END:VEVENT
BEGIN:VEVENT
DTSTART;TZID=America/New_York:20260515T094500
DTEND;TZID=America/New_York:20260515T094500
DTSTAMP:20260423T132727
CREATED:20250514T153212Z
LAST-MODIFIED:20250514T153212Z
UID:10012264-1778838300-1778838300@hhsociety.org
SUMMARY:Move and Groove with Theresa
DESCRIPTION:East to learn and easy to follow beginner Line Dances to ALL music genres. \nContact Theresa for more information at zumbawithme@aol.com
URL:https://hhsociety.org/event/move-and-groove-with-theresa-4/2026-05-15/
LOCATION:Gym\, Fitness Center
END:VEVENT
BEGIN:VEVENT
DTSTART;TZID=America/New_York:20260522T094500
DTEND;TZID=America/New_York:20260522T094500
DTSTAMP:20260423T132727
CREATED:20250514T153212Z
LAST-MODIFIED:20250514T153212Z
UID:10012265-1779443100-1779443100@hhsociety.org
SUMMARY:Move and Groove with Theresa
DESCRIPTION:East to learn and easy to follow beginner Line Dances to ALL music genres. \nContact Theresa for more information at zumbawithme@aol.com
URL:https://hhsociety.org/event/move-and-groove-with-theresa-4/2026-05-22/
LOCATION:Gym\, Fitness Center
END:VEVENT
BEGIN:VEVENT
DTSTART;TZID=America/New_York:20260529T094500
DTEND;TZID=America/New_York:20260529T094500
DTSTAMP:20260423T132727
CREATED:20250514T153212Z
LAST-MODIFIED:20250514T153212Z
UID:10012266-1780047900-1780047900@hhsociety.org
SUMMARY:Move and Groove with Theresa
DESCRIPTION:East to learn and easy to follow beginner Line Dances to ALL music genres. \nContact Theresa for more information at zumbawithme@aol.com
URL:https://hhsociety.org/event/move-and-groove-with-theresa-4/2026-05-29/
LOCATION:Gym\, Fitness Center
END:VEVENT
BEGIN:VEVENT
DTSTART;TZID=America/New_York:20260605T094500
DTEND;TZID=America/New_York:20260605T094500
DTSTAMP:20260423T132727
CREATED:20250514T153212Z
LAST-MODIFIED:20250514T153212Z
UID:10012267-1780652700-1780652700@hhsociety.org
SUMMARY:Move and Groove with Theresa
DESCRIPTION:East to learn and easy to follow beginner Line Dances to ALL music genres. \nContact Theresa for more information at zumbawithme@aol.com
URL:https://hhsociety.org/event/move-and-groove-with-theresa-4/2026-06-05/
LOCATION:Gym\, Fitness Center
END:VEVENT
BEGIN:VEVENT
DTSTART;TZID=America/New_York:20260612T094500
DTEND;TZID=America/New_York:20260612T094500
DTSTAMP:20260423T132727
CREATED:20250514T153212Z
LAST-MODIFIED:20250514T153212Z
UID:10012268-1781257500-1781257500@hhsociety.org
SUMMARY:Move and Groove with Theresa
DESCRIPTION:East to learn and easy to follow beginner Line Dances to ALL music genres. \nContact Theresa for more information at zumbawithme@aol.com
URL:https://hhsociety.org/event/move-and-groove-with-theresa-4/2026-06-12/
LOCATION:Gym\, Fitness Center
END:VEVENT
BEGIN:VEVENT
DTSTART;TZID=America/New_York:20260619T094500
DTEND;TZID=America/New_York:20260619T094500
DTSTAMP:20260423T132727
CREATED:20250514T153212Z
LAST-MODIFIED:20250514T153212Z
UID:10012269-1781862300-1781862300@hhsociety.org
SUMMARY:Move and Groove with Theresa
DESCRIPTION:East to learn and easy to follow beginner Line Dances to ALL music genres. \nContact Theresa for more information at zumbawithme@aol.com
URL:https://hhsociety.org/event/move-and-groove-with-theresa-4/2026-06-19/
LOCATION:Gym\, Fitness Center
END:VEVENT
BEGIN:VEVENT
DTSTART;TZID=America/New_York:20260626T094500
DTEND;TZID=America/New_York:20260626T094500
DTSTAMP:20260423T132727
CREATED:20250514T153212Z
LAST-MODIFIED:20250514T153212Z
UID:10012270-1782467100-1782467100@hhsociety.org
SUMMARY:Move and Groove with Theresa
DESCRIPTION:East to learn and easy to follow beginner Line Dances to ALL music genres. \nContact Theresa for more information at zumbawithme@aol.com
URL:https://hhsociety.org/event/move-and-groove-with-theresa-4/2026-06-26/
LOCATION:Gym\, Fitness Center
END:VEVENT
BEGIN:VEVENT
DTSTART;TZID=America/New_York:20260703T094500
DTEND;TZID=America/New_York:20260703T094500
DTSTAMP:20260423T132727
CREATED:20250514T153212Z
LAST-MODIFIED:20250514T153212Z
UID:10012271-1783071900-1783071900@hhsociety.org
SUMMARY:Move and Groove with Theresa
DESCRIPTION:East to learn and easy to follow beginner Line Dances to ALL music genres. \nContact Theresa for more information at zumbawithme@aol.com
URL:https://hhsociety.org/event/move-and-groove-with-theresa-4/2026-07-03/
LOCATION:Gym\, Fitness Center
END:VEVENT
BEGIN:VEVENT
DTSTART;TZID=America/New_York:20260710T094500
DTEND;TZID=America/New_York:20260710T094500
DTSTAMP:20260423T132727
CREATED:20250514T153212Z
LAST-MODIFIED:20250514T153212Z
UID:10012272-1783676700-1783676700@hhsociety.org
SUMMARY:Move and Groove with Theresa
DESCRIPTION:East to learn and easy to follow beginner Line Dances to ALL music genres. \nContact Theresa for more information at zumbawithme@aol.com
URL:https://hhsociety.org/event/move-and-groove-with-theresa-4/2026-07-10/
LOCATION:Gym\, Fitness Center
END:VEVENT
BEGIN:VEVENT
DTSTART;TZID=America/New_York:20260717T094500
DTEND;TZID=America/New_York:20260717T094500
DTSTAMP:20260423T132727
CREATED:20250514T153212Z
LAST-MODIFIED:20250514T153212Z
UID:10012273-1784281500-1784281500@hhsociety.org
SUMMARY:Move and Groove with Theresa
DESCRIPTION:East to learn and easy to follow beginner Line Dances to ALL music genres. \nContact Theresa for more information at zumbawithme@aol.com
URL:https://hhsociety.org/event/move-and-groove-with-theresa-4/2026-07-17/
LOCATION:Gym\, Fitness Center
END:VEVENT
BEGIN:VEVENT
DTSTART;TZID=America/New_York:20260724T094500
DTEND;TZID=America/New_York:20260724T094500
DTSTAMP:20260423T132727
CREATED:20250514T153212Z
LAST-MODIFIED:20250514T153212Z
UID:10012274-1784886300-1784886300@hhsociety.org
SUMMARY:Move and Groove with Theresa
DESCRIPTION:East to learn and easy to follow beginner Line Dances to ALL music genres. \nContact Theresa for more information at zumbawithme@aol.com
URL:https://hhsociety.org/event/move-and-groove-with-theresa-4/2026-07-24/
LOCATION:Gym\, Fitness Center
END:VEVENT
BEGIN:VEVENT
DTSTART;TZID=America/New_York:20260731T094500
DTEND;TZID=America/New_York:20260731T094500
DTSTAMP:20260423T132727
CREATED:20250514T153212Z
LAST-MODIFIED:20250514T153212Z
UID:10012275-1785491100-1785491100@hhsociety.org
SUMMARY:Move and Groove with Theresa
DESCRIPTION:East to learn and easy to follow beginner Line Dances to ALL music genres. \nContact Theresa for more information at zumbawithme@aol.com
URL:https://hhsociety.org/event/move-and-groove-with-theresa-4/2026-07-31/
LOCATION:Gym\, Fitness Center
END:VEVENT
BEGIN:VEVENT
DTSTART;TZID=America/New_York:20260807T094500
DTEND;TZID=America/New_York:20260807T094500
DTSTAMP:20260423T132727
CREATED:20250514T153212Z
LAST-MODIFIED:20250514T153212Z
UID:10012276-1786095900-1786095900@hhsociety.org
SUMMARY:Move and Groove with Theresa
DESCRIPTION:East to learn and easy to follow beginner Line Dances to ALL music genres. \nContact Theresa for more information at zumbawithme@aol.com
URL:https://hhsociety.org/event/move-and-groove-with-theresa-4/2026-08-07/
LOCATION:Gym\, Fitness Center
END:VEVENT
BEGIN:VEVENT
DTSTART;TZID=America/New_York:20260814T094500
DTEND;TZID=America/New_York:20260814T094500
DTSTAMP:20260423T132727
CREATED:20250514T153212Z
LAST-MODIFIED:20250514T153212Z
UID:10012277-1786700700-1786700700@hhsociety.org
SUMMARY:Move and Groove with Theresa
DESCRIPTION:East to learn and easy to follow beginner Line Dances to ALL music genres. \nContact Theresa for more information at zumbawithme@aol.com
URL:https://hhsociety.org/event/move-and-groove-with-theresa-4/2026-08-14/
LOCATION:Gym\, Fitness Center
END:VEVENT
BEGIN:VEVENT
DTSTART;TZID=America/New_York:20260821T094500
DTEND;TZID=America/New_York:20260821T094500
DTSTAMP:20260423T132727
CREATED:20250514T153212Z
LAST-MODIFIED:20250514T153212Z
UID:10012278-1787305500-1787305500@hhsociety.org
SUMMARY:Move and Groove with Theresa
DESCRIPTION:East to learn and easy to follow beginner Line Dances to ALL music genres. \nContact Theresa for more information at zumbawithme@aol.com
URL:https://hhsociety.org/event/move-and-groove-with-theresa-4/2026-08-21/
LOCATION:Gym\, Fitness Center
END:VEVENT
BEGIN:VEVENT
DTSTART;TZID=America/New_York:20260828T094500
DTEND;TZID=America/New_York:20260828T094500
DTSTAMP:20260423T132727
CREATED:20250514T153212Z
LAST-MODIFIED:20250514T153212Z
UID:10012279-1787910300-1787910300@hhsociety.org
SUMMARY:Move and Groove with Theresa
DESCRIPTION:East to learn and easy to follow beginner Line Dances to ALL music genres. \nContact Theresa for more information at zumbawithme@aol.com
URL:https://hhsociety.org/event/move-and-groove-with-theresa-4/2026-08-28/
LOCATION:Gym\, Fitness Center
END:VEVENT
BEGIN:VEVENT
DTSTART;TZID=America/New_York:20260904T094500
DTEND;TZID=America/New_York:20260904T094500
DTSTAMP:20260423T132727
CREATED:20250514T153212Z
LAST-MODIFIED:20250514T153212Z
UID:10012280-1788515100-1788515100@hhsociety.org
SUMMARY:Move and Groove with Theresa
DESCRIPTION:East to learn and easy to follow beginner Line Dances to ALL music genres. \nContact Theresa for more information at zumbawithme@aol.com
URL:https://hhsociety.org/event/move-and-groove-with-theresa-4/2026-09-04/
LOCATION:Gym\, Fitness Center
END:VEVENT
BEGIN:VEVENT
DTSTART;TZID=America/New_York:20260911T094500
DTEND;TZID=America/New_York:20260911T094500
DTSTAMP:20260423T132727
CREATED:20250514T153212Z
LAST-MODIFIED:20250514T153212Z
UID:10012281-1789119900-1789119900@hhsociety.org
SUMMARY:Move and Groove with Theresa
DESCRIPTION:East to learn and easy to follow beginner Line Dances to ALL music genres. \nContact Theresa for more information at zumbawithme@aol.com
URL:https://hhsociety.org/event/move-and-groove-with-theresa-4/2026-09-11/
LOCATION:Gym\, Fitness Center
END:VEVENT
BEGIN:VEVENT
DTSTART;TZID=America/New_York:20260918T094500
DTEND;TZID=America/New_York:20260918T094500
DTSTAMP:20260423T132727
CREATED:20250514T153212Z
LAST-MODIFIED:20250514T153212Z
UID:10012282-1789724700-1789724700@hhsociety.org
SUMMARY:Move and Groove with Theresa
DESCRIPTION:East to learn and easy to follow beginner Line Dances to ALL music genres. \nContact Theresa for more information at zumbawithme@aol.com
URL:https://hhsociety.org/event/move-and-groove-with-theresa-4/2026-09-18/
LOCATION:Gym\, Fitness Center
END:VEVENT
BEGIN:VEVENT
DTSTART;TZID=America/New_York:20260925T094500
DTEND;TZID=America/New_York:20260925T094500
DTSTAMP:20260423T132727
CREATED:20250514T153212Z
LAST-MODIFIED:20250514T153212Z
UID:10012283-1790329500-1790329500@hhsociety.org
SUMMARY:Move and Groove with Theresa
DESCRIPTION:East to learn and easy to follow beginner Line Dances to ALL music genres. \nContact Theresa for more information at zumbawithme@aol.com
URL:https://hhsociety.org/event/move-and-groove-with-theresa-4/2026-09-25/
LOCATION:Gym\, Fitness Center
END:VEVENT
BEGIN:VEVENT
DTSTART;TZID=America/New_York:20261002T094500
DTEND;TZID=America/New_York:20261002T094500
DTSTAMP:20260423T132727
CREATED:20250514T153212Z
LAST-MODIFIED:20250514T153212Z
UID:10012284-1790934300-1790934300@hhsociety.org
SUMMARY:Move and Groove with Theresa
DESCRIPTION:East to learn and easy to follow beginner Line Dances to ALL music genres. \nContact Theresa for more information at zumbawithme@aol.com
URL:https://hhsociety.org/event/move-and-groove-with-theresa-4/2026-10-02/
LOCATION:Gym\, Fitness Center
END:VEVENT
BEGIN:VEVENT
DTSTART;TZID=America/New_York:20261009T094500
DTEND;TZID=America/New_York:20261009T094500
DTSTAMP:20260423T132727
CREATED:20250514T153212Z
LAST-MODIFIED:20250514T153212Z
UID:10012285-1791539100-1791539100@hhsociety.org
SUMMARY:Move and Groove with Theresa
DESCRIPTION:East to learn and easy to follow beginner Line Dances to ALL music genres. \nContact Theresa for more information at zumbawithme@aol.com
URL:https://hhsociety.org/event/move-and-groove-with-theresa-4/2026-10-09/
LOCATION:Gym\, Fitness Center
END:VEVENT
BEGIN:VEVENT
DTSTART;TZID=America/New_York:20261016T094500
DTEND;TZID=America/New_York:20261016T094500
DTSTAMP:20260423T132727
CREATED:20250514T153212Z
LAST-MODIFIED:20250514T153212Z
UID:10012286-1792143900-1792143900@hhsociety.org
SUMMARY:Move and Groove with Theresa
DESCRIPTION:East to learn and easy to follow beginner Line Dances to ALL music genres. \nContact Theresa for more information at zumbawithme@aol.com
URL:https://hhsociety.org/event/move-and-groove-with-theresa-4/2026-10-16/
LOCATION:Gym\, Fitness Center
END:VEVENT
BEGIN:VEVENT
DTSTART;TZID=America/New_York:20261023T094500
DTEND;TZID=America/New_York:20261023T094500
DTSTAMP:20260423T132727
CREATED:20250514T153212Z
LAST-MODIFIED:20250514T153212Z
UID:10012287-1792748700-1792748700@hhsociety.org
SUMMARY:Move and Groove with Theresa
DESCRIPTION:East to learn and easy to follow beginner Line Dances to ALL music genres. \nContact Theresa for more information at zumbawithme@aol.com
URL:https://hhsociety.org/event/move-and-groove-with-theresa-4/2026-10-23/
LOCATION:Gym\, Fitness Center
END:VEVENT
BEGIN:VEVENT
DTSTART;TZID=America/New_York:20261030T094500
DTEND;TZID=America/New_York:20261030T094500
DTSTAMP:20260423T132727
CREATED:20250514T153212Z
LAST-MODIFIED:20250514T153212Z
UID:10012288-1793353500-1793353500@hhsociety.org
SUMMARY:Move and Groove with Theresa
DESCRIPTION:East to learn and easy to follow beginner Line Dances to ALL music genres. \nContact Theresa for more information at zumbawithme@aol.com
URL:https://hhsociety.org/event/move-and-groove-with-theresa-4/2026-10-30/
LOCATION:Gym\, Fitness Center
END:VEVENT
BEGIN:VEVENT
DTSTART;TZID=America/New_York:20261106T094500
DTEND;TZID=America/New_York:20261106T094500
DTSTAMP:20260423T132727
CREATED:20250514T153212Z
LAST-MODIFIED:20250514T153212Z
UID:10012289-1793958300-1793958300@hhsociety.org
SUMMARY:Move and Groove with Theresa
DESCRIPTION:East to learn and easy to follow beginner Line Dances to ALL music genres. \nContact Theresa for more information at zumbawithme@aol.com
URL:https://hhsociety.org/event/move-and-groove-with-theresa-4/2026-11-06/
LOCATION:Gym\, Fitness Center
END:VEVENT
BEGIN:VEVENT
DTSTART;TZID=America/New_York:20261113T094500
DTEND;TZID=America/New_York:20261113T094500
DTSTAMP:20260423T132727
CREATED:20250514T153212Z
LAST-MODIFIED:20250514T153212Z
UID:10012290-1794563100-1794563100@hhsociety.org
SUMMARY:Move and Groove with Theresa
DESCRIPTION:East to learn and easy to follow beginner Line Dances to ALL music genres. \nContact Theresa for more information at zumbawithme@aol.com
URL:https://hhsociety.org/event/move-and-groove-with-theresa-4/2026-11-13/
LOCATION:Gym\, Fitness Center
END:VEVENT
END:VCALENDAR