BEGIN:VCALENDAR
VERSION:2.0
PRODID:-//Heritage Hills Society - ECPv6.15.20//NONSGML v1.0//EN
CALSCALE:GREGORIAN
METHOD:PUBLISH
X-ORIGINAL-URL:https://hhsociety.org
X-WR-CALDESC:Events for Heritage Hills Society
REFRESH-INTERVAL;VALUE=DURATION:PT1H
X-Robots-Tag:noindex
X-PUBLISHED-TTL:PT1H
BEGIN:VTIMEZONE
TZID:America/New_York
BEGIN:DAYLIGHT
TZOFFSETFROM:-0500
TZOFFSETTO:-0400
TZNAME:EDT
DTSTART:20240310T070000
END:DAYLIGHT
BEGIN:STANDARD
TZOFFSETFROM:-0400
TZOFFSETTO:-0500
TZNAME:EST
DTSTART:20241103T060000
END:STANDARD
BEGIN:DAYLIGHT
TZOFFSETFROM:-0500
TZOFFSETTO:-0400
TZNAME:EDT
DTSTART:20250309T070000
END:DAYLIGHT
BEGIN:STANDARD
TZOFFSETFROM:-0400
TZOFFSETTO:-0500
TZNAME:EST
DTSTART:20251102T060000
END:STANDARD
BEGIN:DAYLIGHT
TZOFFSETFROM:-0500
TZOFFSETTO:-0400
TZNAME:EDT
DTSTART:20260308T070000
END:DAYLIGHT
BEGIN:STANDARD
TZOFFSETFROM:-0400
TZOFFSETTO:-0500
TZNAME:EST
DTSTART:20261101T060000
END:STANDARD
BEGIN:DAYLIGHT
TZOFFSETFROM:-0500
TZOFFSETTO:-0400
TZNAME:EDT
DTSTART:20270314T070000
END:DAYLIGHT
BEGIN:STANDARD
TZOFFSETFROM:-0400
TZOFFSETTO:-0500
TZNAME:EST
DTSTART:20271107T060000
END:STANDARD
END:VTIMEZONE
BEGIN:VEVENT
DTSTART;TZID=America/New_York:20260423T093000
DTEND;TZID=America/New_York:20260423T093000
DTSTAMP:20260423T163727
CREATED:20241023T160957Z
LAST-MODIFIED:20241023T161031Z
UID:10002408-1776936600-1776936600@hhsociety.org
SUMMARY:Cardio / Strength / Stretch Class with Lori
DESCRIPTION:Tuesdays and Thursdays from 9:30-10:30am in the Gym. Join Lori for a fun\, safe\, effective workout.  Low impact cardio\, resistance training\, balance\, strength and breath work – all set to great music!  Appropriate for all levels.  Resistance bands and weights available.  No mats needed.  Fee $10 per class.  Try the first class for free!  Class is also available on ZOOM. Email Lori for more information or to register at eefyjiig@gmail.com
URL:https://hhsociety.org/event/cardio-strength-stretch-class-with-lori-4/2026-04-23/
LOCATION:Gym\, Fitness Center
END:VEVENT
BEGIN:VEVENT
DTSTART;TZID=America/New_York:20260421T093000
DTEND;TZID=America/New_York:20260421T093000
DTSTAMP:20260423T163727
CREATED:20241023T160743Z
LAST-MODIFIED:20241023T160743Z
UID:10002146-1776763800-1776763800@hhsociety.org
SUMMARY:Cardio / Strength / Stretch Class with Lori
DESCRIPTION:Tuesdays and Thursdays from 9:30-10:30am in the Gym. Join Lori for a fun\, safe\, effective workout.  Low impact cardio\, resistance training\, balance\, strength and breath work – all set to great music!  Appropriate for all levels.  Resistance bands and weights available.  No mats needed.  Fee $10 per class.  Try the first class for free!  Class is also available on ZOOM. Email Lori for more information or to register at eefyjiig@gmail.com
URL:https://hhsociety.org/event/cardio-strength-stretch-class-with-lori-2/2026-04-21/
LOCATION:Gym\, Fitness Center
END:VEVENT
BEGIN:VEVENT
DTSTART;TZID=America/New_York:20260420T123000
DTEND;TZID=America/New_York:20260420T123000
DTSTAMP:20260423T163727
CREATED:20241023T155031Z
LAST-MODIFIED:20241023T155031Z
UID:10001624-1776688200-1776688200@hhsociety.org
SUMMARY:Tai Chi & Chi Gong with Master Ellen
DESCRIPTION:Mondays from 12:30-1:30pm in the Gym.  $70 per month.  First class free.  All levels welcome.  Wear loose fitting\, comfortable clothing.  Contact heritagehillstaichi2@@gmail.com for more information or to register.
URL:https://hhsociety.org/event/tai-chi-chi-gong-with-master-ellen-2/2026-04-20/
LOCATION:Gym\, Fitness Center
END:VEVENT
BEGIN:VEVENT
DTSTART;TZID=America/New_York:20260417T105000
DTEND;TZID=America/New_York:20260417T105000
DTSTAMP:20260423T163727
CREATED:20250514T153814Z
LAST-MODIFIED:20250514T153814Z
UID:10012514-1776423000-1776423000@hhsociety.org
SUMMARY:Getting Back on Track (15-15-15) with Theresa
DESCRIPTION:Light cardio and balance\, functional strength and stretch\, and restorative breathing and relaxation.  Great class to begin or continue your fitness journey. Contact Theresa for more information at zumbawithme@aol.com
URL:https://hhsociety.org/event/getting-back-on-track-15-15-15-with-theresa-4/2026-04-17/
LOCATION:Gym\, Fitness Center
END:VEVENT
BEGIN:VEVENT
DTSTART;TZID=America/New_York:20260417T094500
DTEND;TZID=America/New_York:20260417T094500
DTSTAMP:20260423T163727
CREATED:20250514T153212Z
LAST-MODIFIED:20250514T153212Z
UID:10012260-1776419100-1776419100@hhsociety.org
SUMMARY:Move and Groove with Theresa
DESCRIPTION:East to learn and easy to follow beginner Line Dances to ALL music genres. \nContact Theresa for more information at zumbawithme@aol.com
URL:https://hhsociety.org/event/move-and-groove-with-theresa-4/2026-04-17/
LOCATION:Gym\, Fitness Center
END:VEVENT
BEGIN:VEVENT
DTSTART;TZID=America/New_York:20251226T105000
DTEND;TZID=America/New_York:20251226T105000
DTSTAMP:20260423T163727
CREATED:20250502T151043Z
LAST-MODIFIED:20250502T151043Z
UID:10011010-1766746200-1766746200@hhsociety.org
SUMMARY:Getting Back on Track (15-15-15) with Theresa
DESCRIPTION:Light cardio and balance\, functional strength and stretch\, and restorative breathing and relaxation.  Great class to begin or continue your fitness journey.  Contact Theresa for more information at zumbawithme@aol.com
URL:https://hhsociety.org/event/getting-back-on-track-15-15-15-with-theresa-2/2025-12-26/
LOCATION:Gym\, Fitness Center
END:VEVENT
BEGIN:VEVENT
DTSTART;TZID=America/New_York:20251226T094500
DTEND;TZID=America/New_York:20251226T094500
DTSTAMP:20260423T163727
CREATED:20250502T150719Z
LAST-MODIFIED:20250502T150719Z
UID:10010984-1766742300-1766742300@hhsociety.org
SUMMARY:Move and Groove with Theresa
DESCRIPTION:Easy to learn and easy to follow beginner Line Dances to ALL music genres.  Contact Theresa for more information at zumbawithme@aol.com
URL:https://hhsociety.org/event/move-and-groove-with-theresa-2/2025-12-26/
LOCATION:Gym\, Fitness Center
END:VEVENT
BEGIN:VEVENT
DTSTART;TZID=America/New_York:20250329T093000
DTEND;TZID=America/New_York:20250329T093000
DTSTAMP:20260423T163727
CREATED:20241029T182938Z
LAST-MODIFIED:20241029T182938Z
UID:10009315-1743240600-1743240600@hhsociety.org
SUMMARY:Shuffleboard Group
DESCRIPTION:October through March on Wednesdays from 1 to 3 pm\, and on Saturdays\nfrom 9:30 am to noon\, in the Gym.
URL:https://hhsociety.org/event/shuffleboard-group-4/2025-03-29/
LOCATION:Gym\, Fitness Center
END:VEVENT
BEGIN:VEVENT
DTSTART;TZID=America/New_York:20250326T130000
DTEND;TZID=America/New_York:20250326T130000
DTSTAMP:20260423T163727
CREATED:20241029T182733Z
LAST-MODIFIED:20241029T182733Z
UID:10009293-1742994000-1742994000@hhsociety.org
SUMMARY:Shuffleboard Group
DESCRIPTION:October through March on Wednesdays from 1 to 3 pm\, and on Saturdays\nfrom 9:30 am to noon\, in the Gym.
URL:https://hhsociety.org/event/shuffleboard-group-2/2025-03-26/
LOCATION:Gym\, Fitness Center
END:VEVENT
END:VCALENDAR