BEGIN:VCALENDAR
VERSION:2.0
PRODID:-//Heritage Hills Society - ECPv6.15.20//NONSGML v1.0//EN
CALSCALE:GREGORIAN
METHOD:PUBLISH
X-ORIGINAL-URL:https://hhsociety.org
X-WR-CALDESC:Events for Heritage Hills Society
REFRESH-INTERVAL;VALUE=DURATION:PT1H
X-Robots-Tag:noindex
X-PUBLISHED-TTL:PT1H
BEGIN:VTIMEZONE
TZID:America/New_York
BEGIN:DAYLIGHT
TZOFFSETFROM:-0500
TZOFFSETTO:-0400
TZNAME:EDT
DTSTART:20240310T070000
END:DAYLIGHT
BEGIN:STANDARD
TZOFFSETFROM:-0400
TZOFFSETTO:-0500
TZNAME:EST
DTSTART:20241103T060000
END:STANDARD
BEGIN:DAYLIGHT
TZOFFSETFROM:-0500
TZOFFSETTO:-0400
TZNAME:EDT
DTSTART:20250309T070000
END:DAYLIGHT
BEGIN:STANDARD
TZOFFSETFROM:-0400
TZOFFSETTO:-0500
TZNAME:EST
DTSTART:20251102T060000
END:STANDARD
BEGIN:DAYLIGHT
TZOFFSETFROM:-0500
TZOFFSETTO:-0400
TZNAME:EDT
DTSTART:20260308T070000
END:DAYLIGHT
BEGIN:STANDARD
TZOFFSETFROM:-0400
TZOFFSETTO:-0500
TZNAME:EST
DTSTART:20261101T060000
END:STANDARD
BEGIN:DAYLIGHT
TZOFFSETFROM:-0500
TZOFFSETTO:-0400
TZNAME:EDT
DTSTART:20270314T070000
END:DAYLIGHT
BEGIN:STANDARD
TZOFFSETFROM:-0400
TZOFFSETTO:-0500
TZNAME:EST
DTSTART:20271107T060000
END:STANDARD
END:VTIMEZONE
BEGIN:VEVENT
DTSTART;TZID=America/New_York:20260423T130000
DTEND;TZID=America/New_York:20260423T130000
DTSTAMP:20260423T162326
CREATED:20241113T153705Z
LAST-MODIFIED:20241113T153705Z
UID:10009680-1776949200-1776949200@hhsociety.org
SUMMARY:Thriving in your Prime
DESCRIPTION:Join us every other week on Thursday at 1pm in Lake Lodge Room 3 to discuss relevant topics and learn strategies that will help those over the age of 50 navigate the challenges they are confronted with.  Each time we meet we will discuss a new topic\, and you will learn strategies you can implement in your own life.  The investment in each gathering is one hour of your time and $5!
URL:https://hhsociety.org/event/thriving-in-your-prime-2/2026-04-23/
LOCATION:Lake Lodge Room 3
END:VEVENT
BEGIN:VEVENT
DTSTART;TZID=America/New_York:20260422T130000
DTEND;TZID=America/New_York:20260422T130000
DTSTAMP:20260423T162326
CREATED:20241029T173525Z
LAST-MODIFIED:20241029T173525Z
UID:10006560-1776862800-1776862800@hhsociety.org
SUMMARY:Chess Club
DESCRIPTION:Wednesdays from 1 to 3:30 pm in Lake Lodge’s Room 3. We are a group of chess\nenthusiasts who enjoy coming together to play some friendly games of chess! Beginners are welcome!\nBring your chess set if you have one. Some playing pairs may choose to use a chess clock; bring this\,\nalso\, if you have one. For more information\, contact Pat Posluszny at patpugs@comcast.net or 914-276-\n6550.
URL:https://hhsociety.org/event/chess-club-2/2026-04-22/
LOCATION:Lake Lodge Room 3
END:VEVENT
BEGIN:VEVENT
DTSTART;TZID=America/New_York:20260421T100000
DTEND;TZID=America/New_York:20260421T100000
DTSTAMP:20260423T162326
CREATED:20241023T155520Z
LAST-MODIFIED:20241023T155520Z
UID:10001885-1776765600-1776765600@hhsociety.org
SUMMARY:Chair Yoga with Satish
DESCRIPTION:Practice Tuesdays from 10-11:15am in Lake Lodge Room 3 with Satish Gambhir\, Registered Yoga (500-RYT) and acupressure teacher with over 20 years of experience.  Chair Yoga aimed at toning the entire body and increasing flexibility.  Breathing and meditation for relaxation and mind-body connection.  Live music.  $10 per class.  Call or email to register at (914) 646-0887 or satishgambhir@gmail.com
URL:https://hhsociety.org/event/chair-yoga-with-satish-2/2026-04-21/
LOCATION:Lake Lodge Room 3
END:VEVENT
BEGIN:VEVENT
DTSTART;TZID=America/New_York:20260420T120000
DTEND;TZID=America/New_York:20260420T120000
DTSTAMP:20260423T162326
CREATED:20241029T174209Z
LAST-MODIFIED:20241029T174209Z
UID:10006820-1776686400-1776686400@hhsociety.org
SUMMARY:Mah Jongg Mondays
DESCRIPTION:Mondays at noon in Lake Lodge (contact Sue Furino 914-617-9110);
URL:https://hhsociety.org/event/mah-jongg-mondays/2026-04-20/
LOCATION:Lake Lodge Room 3
END:VEVENT
BEGIN:VEVENT
DTSTART;TZID=America/New_York:20260419T100000
DTEND;TZID=America/New_York:20260419T100000
DTSTAMP:20260423T162326
CREATED:20260401T162154Z
LAST-MODIFIED:20260401T162154Z
UID:10013767-1776592800-1776592800@hhsociety.org
SUMMARY:Environmental Club
DESCRIPTION:Earth Day Celebration
URL:https://hhsociety.org/event/environmental-club-2-7/
LOCATION:Lake Lodge Room 3
END:VEVENT
BEGIN:VEVENT
DTSTART;TZID=America/New_York:20260417T130000
DTEND;TZID=America/New_York:20260417T130000
DTSTAMP:20260423T162326
CREATED:20241029T174509Z
LAST-MODIFIED:20241029T174509Z
UID:10007342-1776430800-1776430800@hhsociety.org
SUMMARY:Mah Jongg Fridays
DESCRIPTION:Fridays at 1 pm in Lake Lodge \nCall Cheryl Milde at 914-342-3068.
URL:https://hhsociety.org/event/mah-jongg-fridays/2026-04-17/
LOCATION:Lake Lodge Room 3
END:VEVENT
BEGIN:VEVENT
DTSTART;TZID=America/New_York:20260417T090000
DTEND;TZID=America/New_York:20260417T090000
DTSTAMP:20260423T162326
CREATED:20250514T152237Z
LAST-MODIFIED:20250514T152237Z
UID:10012006-1776416400-1776416400@hhsociety.org
SUMMARY:Continuum/Fluid Form Movement\, Mindfulness\, and Meditation with Melanie Gambino
DESCRIPTION:Pre-registration required. $15 per class \nFor more information and to reserve your place\, call\, text\, or email Melanie at (914) 588-2450 or melaniegambino1@gmail.com
URL:https://hhsociety.org/event/continuum-fluid-form-movement-mindfulness-and-meditation-with-melanie-gambino/2026-04-17/
LOCATION:Lake Lodge Room 3
END:VEVENT
BEGIN:VEVENT
DTSTART;TZID=America/New_York:20260402T170000
DTEND;TZID=America/New_York:20260402T170000
DTSTAMP:20260423T162326
CREATED:20241029T181105Z
LAST-MODIFIED:20241029T181105Z
UID:10008707-1775149200-1775149200@hhsociety.org
SUMMARY:Rainbow Connection Club
DESCRIPTION:A group for LGBTQ members and their families\, friends\, and\nneighbors. All are welcome. We meet the first Thursday of each month at Lake Lodge from 5 to 7 pm.\nFor more information contact Joanne at 914-450-5609.
URL:https://hhsociety.org/event/rainbow-connection-club-2/2026-04-02/
LOCATION:Lake Lodge Room 3
END:VEVENT
BEGIN:VEVENT
DTSTART;TZID=America/New_York:20260401T190000
DTEND;TZID=America/New_York:20260401T190000
DTSTAMP:20260423T162326
CREATED:20250514T144427Z
LAST-MODIFIED:20250514T144427Z
UID:10011908-1775070000-1775070000@hhsociety.org
SUMMARY:Energy Healing for Self\, Family\, Friends and Pets with Melanie Gambino
DESCRIPTION:Pre-registration required.  $20 per class \nFor more information and to reserve your place\, call\, text or email Melanie at (914) 588-2450 or melaniegambino1@gmail.com$20 per \n 
URL:https://hhsociety.org/event/energy-healing-for-self-family-friends-and-pets-with-melanie-gambino/2026-04-01/
LOCATION:Lake Lodge Room 3
END:VEVENT
BEGIN:VEVENT
DTSTART;TZID=America/New_York:20251120T140000
DTEND;TZID=America/New_York:20251120T140000
DTSTAMP:20260423T162326
CREATED:20251103T154831Z
LAST-MODIFIED:20251103T154831Z
UID:10013359-1763647200-1763647200@hhsociety.org
SUMMARY:Free Concert!
DESCRIPTION:Co-Sponsored by Continuing Education and the Concert Society. \nPoiesis Quartet – Caramoor’s 2025-26 String Quartet-in-Residence
URL:https://hhsociety.org/event/free-concert/
LOCATION:Lake Lodge Room 3
END:VEVENT
BEGIN:VEVENT
DTSTART;TZID=America/New_York:20251008T090000
DTEND;TZID=America/New_York:20251008T130000
DTSTAMP:20260423T162326
CREATED:20250930T204102Z
LAST-MODIFIED:20250930T204102Z
UID:10013328-1759914000-1759928400@hhsociety.org
SUMMARY:Health & Safety Committee
DESCRIPTION:Flu Clinic and Medication Drop
URL:https://hhsociety.org/event/health-safety-committee-3/
LOCATION:Lake Lodge Room 3
END:VEVENT
BEGIN:VEVENT
DTSTART;TZID=America/New_York:20250910T133000
DTEND;TZID=America/New_York:20250910T133000
DTSTAMP:20260423T162326
CREATED:20250829T144343Z
LAST-MODIFIED:20250829T144343Z
UID:10013318-1757511000-1757511000@hhsociety.org
SUMMARY:Women's Club
DESCRIPTION:Blue Path Service Dogs\, Inc. Presentation
URL:https://hhsociety.org/event/womens-club-2/
LOCATION:Lake Lodge Room 3
END:VEVENT
BEGIN:VEVENT
DTSTART;TZID=America/New_York:20250614T120000
DTEND;TZID=America/New_York:20250614T120000
DTSTAMP:20260423T162326
CREATED:20250611T135653Z
LAST-MODIFIED:20250611T135653Z
UID:10012867-1749902400-1749902400@hhsociety.org
SUMMARY:Hikers & Walkers
DESCRIPTION:H & W Picnic at Lake Lodge \nContact Cheryl Hochenberg with questions (516) 220-0965
URL:https://hhsociety.org/event/hikers-walkers-6/
LOCATION:Lake Lodge Room 3
END:VEVENT
BEGIN:VEVENT
DTSTART;TZID=America/New_York:20250507T140000
DTEND;TZID=America/New_York:20250507T140000
DTSTAMP:20260423T162326
CREATED:20250501T192300Z
LAST-MODIFIED:20250501T192300Z
UID:10010954-1746626400-1746626400@hhsociety.org
SUMMARY:Terra String Quartet
DESCRIPTION:Concert Society and Continuing Education *FREE* Co-Sponsored Event
URL:https://hhsociety.org/event/terra-string-quartet/
LOCATION:Lake Lodge Room 3
END:VEVENT
BEGIN:VEVENT
DTSTART;TZID=America/New_York:20250416T090000
DTEND;TZID=America/New_York:20250416T090000
DTSTAMP:20260423T162326
CREATED:20250404T184723Z
LAST-MODIFIED:20250404T184723Z
UID:10010940-1744794000-1744794000@hhsociety.org
SUMMARY:East Hill Men's Golf Association - Early Season Breakfast
DESCRIPTION:
URL:https://hhsociety.org/event/east-hill-mens-golf-association-early-season-breakfast/
LOCATION:Lake Lodge Room 3
END:VEVENT
END:VCALENDAR